BEGIN:VCALENDAR
VERSION:2.0
PRODID:-//Kio-o - ECPv6.15.12.2//NONSGML v1.0//EN
CALSCALE:GREGORIAN
METHOD:PUBLISH
X-ORIGINAL-URL:https://kio-o.ca
X-WR-CALDESC:Évènements pour Kio-o
REFRESH-INTERVAL;VALUE=DURATION:PT1H
X-Robots-Tag:noindex
X-PUBLISHED-TTL:PT1H
BEGIN:VTIMEZONE
TZID:America/New_York
BEGIN:DAYLIGHT
TZOFFSETFROM:-0500
TZOFFSETTO:-0400
TZNAME:EDT
DTSTART:20180311T070000
END:DAYLIGHT
BEGIN:STANDARD
TZOFFSETFROM:-0400
TZOFFSETTO:-0500
TZNAME:EST
DTSTART:20181104T060000
END:STANDARD
BEGIN:DAYLIGHT
TZOFFSETFROM:-0500
TZOFFSETTO:-0400
TZNAME:EDT
DTSTART:20190310T070000
END:DAYLIGHT
BEGIN:STANDARD
TZOFFSETFROM:-0400
TZOFFSETTO:-0500
TZNAME:EST
DTSTART:20191103T060000
END:STANDARD
BEGIN:DAYLIGHT
TZOFFSETFROM:-0500
TZOFFSETTO:-0400
TZNAME:EDT
DTSTART:20200308T070000
END:DAYLIGHT
BEGIN:STANDARD
TZOFFSETFROM:-0400
TZOFFSETTO:-0500
TZNAME:EST
DTSTART:20201101T060000
END:STANDARD
END:VTIMEZONE
BEGIN:VEVENT
DTSTART;VALUE=DATE:20190813
DTEND;VALUE=DATE:20190816
DTSTAMP:20260424T020657
CREATED:20190526T192143Z
LAST-MODIFIED:20190610T121608Z
UID:10005871-1565654400-1565913599@kio-o.ca
SUMMARY:Vivre en yoga - Annick Messier
DESCRIPTION:Au Coeur de Soi \n« Unité\, être lié\, faire partie d’un tout ». Pour y accéder\, nous prenons soin de notre corps\, de notre respiration\, de nos pensées\, de notre alimentation. Lors de cette retraite de yoga\, nous en profitons pour expérimenter ce que signifie vraiment « VIVRE EN YOGA ».  Et c’est dans cette philosophie de vie que je vous accompagnerai\, par la pratique du yoga\, à plonger au cœur de notre vrai nature … prendre de l’expansion\, renouer avec soi-même\, prendre soin de son intérieur. C’est avec honneur et en toute humilité que je guiderai ce séjour en conscience d’âme.  Om Shanti !       Annick \n\n\nÀ titre indicatif\, voici un aperçu de l’horaire :\n\nMardi 13 août : \nArrivé entre 16h00 et 18h00. \n18h30 Souper \n20h00 Atelier d’ouverture \nMercredi 14 août : \n7h15 Méditation guidée \n8h00 Déjeuner en silence \n10h00 YOGA dynamique \n12h30 Dîner \nTemps libre pour se reposer\, marcher\, lire\, se baigner … dans la lenteur du moment. \n17h00 YOGA \n18h30 Souper \n20H00 Feu de joie et chant \nJeudi 15 août : \n7h15 Méditation guidée \n8h00 Déjeuner en silence \n10h00 YOGA dynamique \n12h30 Dîner \n14h00 Atelier de Fermeture \n15H30 Départ \n  \nRÉSERVATION et PAIEMENT :\n1-Un dépôt de 100 $ (non remboursable) est payable pour confirmer l’inscription.\nModes de paiement:\n-Virement Interac à l’adresse courriel: yoga_nick@hotmail.com   // Réponse: yoga\n-Chèque\, libellé au nom de Annick Messier\, posté à l’adresse: 18 Place St-Pierre\, Saint-Sauveur\, J0R 1R4\nN.B.. Ta place est officiellement réservé au moment où je reçois le dépôt\n\n\n2- La balance des frais\, soit 230$ en occ. double ou 320$ en occ simple\, incluant trois repas végétariens (buffet à volonté)\, service\, thé et tisane à volonté\, literie\, studio pour l’activité et internet sans fil sera payable sur place dès notre arrivé à Kio-o \nModes de paiement: comptant\, chèque\, cartes débit ou crédit
URL:https://kio-o.ca/evenement/vivre-en-yoga-annick-messier/
LOCATION:Kio-o\, 1905 Chemin du rang 6\, Sainte-Lucie\, Québec\, J0T 2J0\, Canada
CATEGORIES:Yoga
ATTACH;FMTTYPE=image/jpeg:https://kio-o.ca/wp-content/uploads/2019/05/Annick-Messier.jpg
ORGANIZER;CN="Annick Messier":MAILTO:yoga_nick@hotmail.com
GEO:46.132966;-74.1940374
X-APPLE-STRUCTURED-LOCATION;VALUE=URI;X-ADDRESS=Kio-o 1905 Chemin du rang 6 Sainte-Lucie Québec J0T 2J0 Canada;X-APPLE-RADIUS=500;X-TITLE=1905 Chemin du rang 6:geo:-74.1940374,46.132966
END:VEVENT
END:VCALENDAR