BEGIN:VCALENDAR
VERSION:2.0
PRODID:-//Kio-o - ECPv6.15.12.2//NONSGML v1.0//EN
CALSCALE:GREGORIAN
METHOD:PUBLISH
X-WR-CALNAME:Kio-o
X-ORIGINAL-URL:https://kio-o.ca
X-WR-CALDESC:Évènements pour Kio-o
REFRESH-INTERVAL;VALUE=DURATION:PT1H
X-Robots-Tag:noindex
X-PUBLISHED-TTL:PT1H
BEGIN:VTIMEZONE
TZID:America/New_York
BEGIN:DAYLIGHT
TZOFFSETFROM:-0500
TZOFFSETTO:-0400
TZNAME:EDT
DTSTART:20180311T070000
END:DAYLIGHT
BEGIN:STANDARD
TZOFFSETFROM:-0400
TZOFFSETTO:-0500
TZNAME:EST
DTSTART:20181104T060000
END:STANDARD
BEGIN:DAYLIGHT
TZOFFSETFROM:-0500
TZOFFSETTO:-0400
TZNAME:EDT
DTSTART:20190310T070000
END:DAYLIGHT
BEGIN:STANDARD
TZOFFSETFROM:-0400
TZOFFSETTO:-0500
TZNAME:EST
DTSTART:20191103T060000
END:STANDARD
BEGIN:DAYLIGHT
TZOFFSETFROM:-0500
TZOFFSETTO:-0400
TZNAME:EDT
DTSTART:20200308T070000
END:DAYLIGHT
BEGIN:STANDARD
TZOFFSETFROM:-0400
TZOFFSETTO:-0500
TZNAME:EST
DTSTART:20201101T060000
END:STANDARD
END:VTIMEZONE
BEGIN:VEVENT
DTSTART;VALUE=DATE:20190920
DTEND;VALUE=DATE:20190923
DTSTAMP:20260424T004009
CREATED:20180905T140346Z
LAST-MODIFIED:20180905T140346Z
UID:10005797-1568937600-1569196799@kio-o.ca
SUMMARY:Dansez avec la sagesse des arbres - Dancing The Wisdom of the Trees  - Bobbi Bailin
DESCRIPTION:(English below) \nUn atelier bilingue de danse sacrée en cercle  \nVenez célébrer la gloire de l’automne en danse au son de la musique du monde afin de vous aligner au cycle des saisons\, tout en recherchant l’équilibre et la connexion. Grâce à des pas et des rythmes simples\, une belle musique et des gestes significatifs\, les danses  célèbrent ce qui est précieux et sain dans nos vies.  Dans la communauté du  cercle\, nous nous honorons tous et chacun et nous nous nourrissons mutuellement tout en ressentant la joie du mouvement. Nous combinerons des danses traditionnelles des temps anciens avec des danses nouvellement chorégraphiées provenant d’une variété de styles et de cultures.  Dans la beauté et la paix de la nature\, nous prendrons le temps de reconnaitre et d’incarner la façon dont les arbres transportent les énergies vitales\, donnent et reçoivent et nourrissent la vie sur Terre. Nous apportons ces énergies dans notre conscience et dans notre mouvement lorsque nous sommes profondément en accord avec la communauté que nous créons. \nDe l’immobilité au mouvement\, nous danserons et relierons notre expérience intérieure  à l’expression extérieure\, en prenant le temps de réfléchir et de partager avec des mots ou des images en écriture et en art. \nToutes les danses sont faciles à apprendre et enseignées avec patience en français et en anglais. Aucune expérience de danse n’est requise. Le programme comprend 5 séances de danse commençant par un petit rassemblement avant le souper vendredi soir et se terminant au dîner le dimanche. \n  \nPour plus d’information et pour vous inscrire : \nDiane Schreiner – diane.schreiner@bell.net – 819-455-9188 (cell) \nOr \nBobbi Bailin –   Bobbibysea@gmail.com  –  508 540 4043 \n \nDancing The Wisdom of the Trees   \nA Bilingual Fall Equinox Workshop in Sacred Circle Dance  \nLed by Bobbi Bailin \nCelebrate Autumn’s glory with World Music and Dance to align ourselves with the seasonal changes\, seeking balance and connection. With simple steps and rhythms\, beautiful music and meaningful gestures\, we celebrate what is precious and wholesome in our lives. In a circle we honour and nurture one another while we experience the joy of movement. We will combine traditional dances from ancient times with newly choreographed ones representing a variety of styles and cultures. In the beauty and peace of Nature\, we will take time to recognize and embody the way trees transport life energies\, give and receive and nourish all life on Earth. We bring these energies into our consciousness and into our movement as we deeply attune to the community we create. \nFrom stillness into motion\, we will dance and connect our inner experiences with outer expression\, taking time to reflect and share with words or images in writing and art. \nAll dances are easy to learn and patiently taught both in French and English. No experience or special ability is required. The program includes 5 sessions of dance beginning with a short gathering before dinner Friday night and ending with lunch on Sunday. \nDiane Schreiner – diane.schreiner@bell.net – 819-455-9188 (cell) \nOr \nBobbi Bailin –   Bobbibysea@gmail.com  –  508 540 4043
URL:https://kio-o.ca/evenement/dansez-avec-la-sagesse-des-arbres-dancing-the-wisdom-of-the-trees-bobbi-bailin/
LOCATION:Kio-o\, 1905 Chemin du rang 6\, Sainte-Lucie\, Québec\, J0T 2J0\, Canada
CATEGORIES:Expression créative,Mouvement
ATTACH;FMTTYPE=image/jpeg:https://kio-o.ca/wp-content/uploads/2018/09/Bobbi.jpeg
GEO:46.132966;-74.1940374
X-APPLE-STRUCTURED-LOCATION;VALUE=URI;X-ADDRESS=Kio-o 1905 Chemin du rang 6 Sainte-Lucie Québec J0T 2J0 Canada;X-APPLE-RADIUS=500;X-TITLE=1905 Chemin du rang 6:geo:-74.1940374,46.132966
END:VEVENT
BEGIN:VEVENT
DTSTART;VALUE=DATE:20190920
DTEND;VALUE=DATE:20190923
DTSTAMP:20260424T004009
CREATED:20190219T165911Z
LAST-MODIFIED:20190830T150806Z
UID:10005861-1568937600-1569196799@kio-o.ca
SUMMARY:Chanter\, une rencontre avec soi - Marie-Claire Séguin - COMPLET
DESCRIPTION:Chanter\, une rencontre avec soi \nSeulement 8 participants pourront assister à cet atelier.  Faites vite !! \nCoûts : Atelier : 399\,50 $ plus taxes \nHébergement et nourriture en sus \n 
URL:https://kio-o.ca/evenement/chanter-une-rencontre-avec-soi-marie-claire-seguin-2/
LOCATION:Kio-o\, 1905 Chemin du rang 6\, Sainte-Lucie\, Québec\, J0T 2J0\, Canada
CATEGORIES:Expression créative
ATTACH;FMTTYPE=image/png:https://kio-o.ca/wp-content/uploads/2019/02/Capture-d’écran-le-2019-02-19-à-08.57.21.png
ORGANIZER;CN="Marie-Claire S%C3%A9guin":MAILTO:info@kio-o.ca
GEO:46.132966;-74.1940374
X-APPLE-STRUCTURED-LOCATION;VALUE=URI;X-ADDRESS=Kio-o 1905 Chemin du rang 6 Sainte-Lucie Québec J0T 2J0 Canada;X-APPLE-RADIUS=500;X-TITLE=1905 Chemin du rang 6:geo:-74.1940374,46.132966
END:VEVENT
BEGIN:VEVENT
DTSTART;VALUE=DATE:20190922
DTEND;VALUE=DATE:20190926
DTSTAMP:20260424T004009
CREATED:20190713T175109Z
LAST-MODIFIED:20190713T175109Z
UID:10005876-1569110400-1569455999@kio-o.ca
SUMMARY:À la découverte de nos DRAGONS - Thierry Leoni
DESCRIPTION:Stages de 3 jours  \nà la decouverte de nos DRAGONS \npar THIERRY Leoni \nassisté d’ISABELLE Richard \n  \nVenez découvrir vos amis les dragons\, \nLors de ce stage de 3 jours organisé par l’association Mïhefû Poy \nen lien avec l’école de Yann Lipnick. \n3 journées qui resteront à jamais gravées dans vos mémoires. \n  \nIl vous est demande un  pré-requis de 2 Jours ICR (Initiation au Clair Ressenti) \n************************************************************************** \nInformations & Inscription : contacter   Christine Corbeil au 1 438 887 7888 \nOu \ncoachchristine@hotmail.com
URL:https://kio-o.ca/evenement/a-la-decouverte-de-nos-dragons-thierry-leoni/
LOCATION:Kio-o\, 1905 Chemin du rang 6\, Sainte-Lucie\, Québec\, J0T 2J0\, Canada
CATEGORIES:Développement personnel
ATTACH;FMTTYPE=image/png:https://kio-o.ca/wp-content/uploads/2019/07/Capture-d’écran-le-2019-07-13-à-13.49.12.png
ORGANIZER;CN="Thierry Leoni":MAILTO:coachchristine@hotmail.com
GEO:46.132966;-74.1940374
X-APPLE-STRUCTURED-LOCATION;VALUE=URI;X-ADDRESS=Kio-o 1905 Chemin du rang 6 Sainte-Lucie Québec J0T 2J0 Canada;X-APPLE-RADIUS=500;X-TITLE=1905 Chemin du rang 6:geo:-74.1940374,46.132966
END:VEVENT
END:VCALENDAR