BEGIN:VCALENDAR
VERSION:2.0
PRODID:-//Kio-o - ECPv6.15.12.2//NONSGML v1.0//EN
CALSCALE:GREGORIAN
METHOD:PUBLISH
X-WR-CALNAME:Kio-o
X-ORIGINAL-URL:https://kio-o.ca
X-WR-CALDESC:Évènements pour Kio-o
REFRESH-INTERVAL;VALUE=DURATION:PT1H
X-Robots-Tag:noindex
X-PUBLISHED-TTL:PT1H
BEGIN:VTIMEZONE
TZID:America/New_York
BEGIN:DAYLIGHT
TZOFFSETFROM:-0500
TZOFFSETTO:-0400
TZNAME:EDT
DTSTART:20190310T070000
END:DAYLIGHT
BEGIN:STANDARD
TZOFFSETFROM:-0400
TZOFFSETTO:-0500
TZNAME:EST
DTSTART:20191103T060000
END:STANDARD
BEGIN:DAYLIGHT
TZOFFSETFROM:-0500
TZOFFSETTO:-0400
TZNAME:EDT
DTSTART:20200308T070000
END:DAYLIGHT
BEGIN:STANDARD
TZOFFSETFROM:-0400
TZOFFSETTO:-0500
TZNAME:EST
DTSTART:20201101T060000
END:STANDARD
BEGIN:DAYLIGHT
TZOFFSETFROM:-0500
TZOFFSETTO:-0400
TZNAME:EDT
DTSTART:20210314T070000
END:DAYLIGHT
BEGIN:STANDARD
TZOFFSETFROM:-0400
TZOFFSETTO:-0500
TZNAME:EST
DTSTART:20211107T060000
END:STANDARD
END:VTIMEZONE
BEGIN:VEVENT
DTSTART;VALUE=DATE:20200705
DTEND;VALUE=DATE:20200713
DTSTAMP:20260423T045734
CREATED:20181102T180438Z
LAST-MODIFIED:20200629T201937Z
UID:10005823-1593907200-1594598399@kio-o.ca
SUMMARY:Atelier intensif avec Swami J - Annulé
DESCRIPTION:  \nINSCRIPTION \nNathalie Lalonde: 514 910-8731 \nnathaliel07@hotmail.com \nou \nSwamiji : 450 443-8784 \nswamijiclaude@yahoo.ca
URL:https://kio-o.ca/evenement/swami-j-2020-07-05/
LOCATION:Kio-o\, 1905 Chemin du rang 6\, Sainte-Lucie\, Québec\, J0T 2J0\, Canada
CATEGORIES:Développement personnel,Méditation,Yoga
ATTACH;FMTTYPE=image/png:https://kio-o.ca/wp-content/uploads/2018/05/Capture-d’écran-2018-05-29-à-10.49.08.png
ORGANIZER;CN="Swami J - Claude Passaro":MAILTO:swamijiclaude@yahoo.ca
GEO:46.132966;-74.1940374
X-APPLE-STRUCTURED-LOCATION;VALUE=URI;X-ADDRESS=Kio-o 1905 Chemin du rang 6 Sainte-Lucie Québec J0T 2J0 Canada;X-APPLE-RADIUS=500;X-TITLE=1905 Chemin du rang 6:geo:-74.1940374,46.132966
END:VEVENT
END:VCALENDAR