BEGIN:VCALENDAR
VERSION:2.0
PRODID:-//Kio-o - ECPv6.15.12.2//NONSGML v1.0//EN
CALSCALE:GREGORIAN
METHOD:PUBLISH
X-WR-CALNAME:Kio-o
X-ORIGINAL-URL:https://kio-o.ca
X-WR-CALDESC:Évènements pour Kio-o
REFRESH-INTERVAL;VALUE=DURATION:PT1H
X-Robots-Tag:noindex
X-PUBLISHED-TTL:PT1H
BEGIN:VTIMEZONE
TZID:America/New_York
BEGIN:DAYLIGHT
TZOFFSETFROM:-0500
TZOFFSETTO:-0400
TZNAME:EDT
DTSTART:20190310T070000
END:DAYLIGHT
BEGIN:STANDARD
TZOFFSETFROM:-0400
TZOFFSETTO:-0500
TZNAME:EST
DTSTART:20191103T060000
END:STANDARD
BEGIN:DAYLIGHT
TZOFFSETFROM:-0500
TZOFFSETTO:-0400
TZNAME:EDT
DTSTART:20200308T070000
END:DAYLIGHT
BEGIN:STANDARD
TZOFFSETFROM:-0400
TZOFFSETTO:-0500
TZNAME:EST
DTSTART:20201101T060000
END:STANDARD
BEGIN:DAYLIGHT
TZOFFSETFROM:-0500
TZOFFSETTO:-0400
TZNAME:EDT
DTSTART:20210314T070000
END:DAYLIGHT
BEGIN:STANDARD
TZOFFSETFROM:-0400
TZOFFSETTO:-0500
TZNAME:EST
DTSTART:20211107T060000
END:STANDARD
END:VTIMEZONE
BEGIN:VEVENT
DTSTART;VALUE=DATE:20200712
DTEND;VALUE=DATE:20200718
DTSTAMP:20260423T045753
CREATED:20191214T212828Z
LAST-MODIFIED:20200629T202303Z
UID:10005896-1594512000-1595030399@kio-o.ca
SUMMARY:Retraite Zen Satori - Qui suis-je ? - guidée par ChandraKala REPORTÉE DU 4 AU 9 OCTOBRE 2020
DESCRIPTION:RETRAITE ZEN SATORI – Qui suis-je ?\n \nPuissant exercice de présence et de conscience appuyé par l’exploration de Koans de vie qui servent de fil d’Ariane pour nous conduire à travers les dédales du plus grand mystère qui soit – soi même! \nVoici une vingtaine d’années que j’ai la chance de guider ce processus ici et ailleurs dans le monde et que je vois toutes sortes de gens en profiter. Plusieurs reviennent à chaque année pour se donner un temps de silence et de ressourcement qui les porte tout le reste de l’année. D’autres viennent pour une première fois et découvrent un nouveau regard éclairant sur eux-mêmes et sur la texture de la vie sous toutes ses dimensions.\nNous continuerons donc inspirés par le passé – le nôtre et celui des êtres réalisés qui nous ont précédés qui éclairent le chemin.\nInspirés aussi par la réalité actuelle dans laquelle nous vivons. C’est dire\, utiliser la méthode traditionnelle et l’ajuster à notre réalité actuelle. \nLa retraite Satori de l’été prochain se déroulera comme toujours à travers un processus évolutif qui comporte une certaine intensité nécessaire à la descente en profondeur.\nIl y aura aussi des périodes de repos et de méditation pour permettre l’intégration de ce qui se trame pendant les pratiques actives de communication/écoute des koans de vie\, afin d’amener de la détente dans l’effort de la démarche. \nLe ‘Koan’ est un questionnement dynamique qui mène à la source essentielle de qui nous sommes sur toutes nos facettes et toutes nos couleurs. Il sert à cultiver un regard juste face au réel tel qu’il est au-delà des peurs\, protections\, justifications et jugements pour avoir accès à la totalité de ce que nous sommes – qui inclut l’ombre autant que la lumière.\nÀ peu près tout le monde est terrifié par son côté ombre; c’est ce qui crée la tension et les prétentions qui font si mal. Mais juste à côté de l’ombre\, il y a la lumière.\nSe fermer à l’ombre serait aussi se fermer à la lumière – lui faire face permet de la démystifier\, de la prendre pour ce qu’elle est et sans plus.\nCette mise à jour élargit le regard et donne accès à toute la réalité – rien à créer\, rien à rejeter\, tout à inclure.\nPas d´analyse\, ni d’interprétation\, ni d’interférence : seulement l’écoute silencieuse et la communication libre encadrées par le silence. \n« Qui Suis-Je ? » « Qui est à l’intérieur ? » Ce qu’est la vie\, l’autre\, l’amour\, la liberté\, la vérité\,la confiance\,  etc.\nL’autre communique et j’écoute – je communique et l’autre écoute\, dans un protocole guidé rassurant. Il n’y a pas de conversation\, ni d’interrelation entre les participants. Chacun devient un miroir-témoin pour l’autre à tour de rôle; mais chacun demeure seul dans son expérience unique et personnelle. \nDans la tradition Zen\, le Satori est un moment de réalisation\, d’unité\, de clarté… un instant de grâce qui ouvre un espace essentiel en soi.\nCela ne peut pas être forcé mais peut être invité en cultivant l’état de présence. \nDifférents types de méditations\, des lectures et des périodes de repos feront partie de la routine quotidienne; ainsi que des rencontres individuelles avec Chandra comme support individuel pour supporter le parcours de chacun.\nEn dehors des périodes de pratique active\, nous sommes en silence.\nLa démarche est puissante et très simple à la fois. Elle permet de trouver une réelle assise en soi pour éventuellement devenir plus simple face au grand jazz de la condition humaine – elle mène vers une force de réconciliation essentielle au bien-être humain. \nCe qu’il faut apporter\n. Vêtements confortables (légers & chauds – suffisamment pour pouvoir se changer souvent)\n. Souliers de marche\n. Châle ou couverture légère\n. Maillot de bain en saison\n. Montre et réveil matin (indépendant du IPod ou cel) \nN’apportez pas\n. Ordinateur\, IPad\, IPod\, Cel\, etc.\n. Rien à lire ni pour écrire\n. Pas de bijoux\n. Pas de produits de maquillage ni matériel de rasage\n. Bouffe additionnelle – à moins de diète spéciale \n. Aucun produit à odeur (même si c’est naturel) \n* Une nourriture végétarienne simple\, nettoyante\, soutenante  et savoureuse sera servie sans restriction.\nPour les particularités alimentaires vraiment nécessaires\, communiquez directement avec Kio-o pour les arrangements requis. \n* Pour les gens ayant des restrictions physiques\, il est possible d’utiliser des chaises droites – il n’y a qu’à demander. \n  \nCOÛTS : \nRETRAITE ZEN SATORI : 599 $ + tx \nHébergement et nourriture : 545 $ pour une chambre partagée – 745 $  pour une chambre en occupation simple. \n  \nPOUR S’INSCRIRE : \nUn dépôt de 75 $ confirmera votre inscription. \n  \n[caldera_form_modal id= »CF588f6476160d1″ type= »button » width= »700″]Cliquez ici pour vous inscrire[/caldera_form_modal]
URL:https://kio-o.ca/evenement/retraite-zen-satori-qui-suis-je-guidee-par-chandrakala/
LOCATION:Kio-o\, 1905 Chemin du rang 6\, Sainte-Lucie\, Québec\, J0T 2J0\, Canada
CATEGORIES:Développement personnel,Méditation
ATTACH;FMTTYPE=image/jpeg:https://kio-o.ca/wp-content/uploads/2019/12/Auberge-Kioo-22.jpeg
ORGANIZER;CN="Chandrakala - Qui suis-je ?":MAILTO:info@martinbilodeau.com
GEO:46.132966;-74.1940374
X-APPLE-STRUCTURED-LOCATION;VALUE=URI;X-ADDRESS=Kio-o 1905 Chemin du rang 6 Sainte-Lucie Québec J0T 2J0 Canada;X-APPLE-RADIUS=500;X-TITLE=1905 Chemin du rang 6:geo:-74.1940374,46.132966
END:VEVENT
BEGIN:VEVENT
DTSTART;VALUE=DATE:20200714
DTEND;VALUE=DATE:20200717
DTSTAMP:20260423T045753
CREATED:20190923T191957Z
LAST-MODIFIED:20190923T192920Z
UID:10005881-1594684800-1594943999@kio-o.ca
SUMMARY:Personal active meditation retreat - Tushar
DESCRIPTION:Personal active meditation retreat \nDo you feel like you need some time in the country eating good food\, reconnecting with yourself and resting? If so\, this retreat is for you\, whatever your level of familiarity with meditation. \nThe active meditations offered in this retreat are taken from meditations created by the spiritual leader Osho. \nThis retreat offers the opportunity to experience a number of different hour-long meditation practices\, allowing you to see and feel for yourself the impact they have on you. As previous participants attest\, experiencing these meditations is a liberating process\, generating a deep feeling of peace\, and are a meaningful way to meet with yourself. \nSchedule \nDay of arrival \nBetween 4 p.m. and 6:30 p.m. —Arrival\n6:30 p.m.                          —Supper\n8 p.m.                               —Active meditation \nSecond day\n7:15 a.m.                        —Active meditation\n8:30 a.m.                        —Breakfast in silence\n12 p.m.                           —Lunch in silence\n4:45 p.m.                        —Active meditation\n6 p.m.                             —Supper in silence \n7:30 p.m.                        —Active meditation \nFinal day\n7:15 a.m.                        —Active meditation\n8:30 a.m.                        —Breakfast in silence \n11 a.m.                           —Vipassana meditation\n12:30 p.m.                      —Lunch \nThe price includes two nights’ stay (single occupancy)\, six meditation sittings and six vegetarian meals. \nMeals will be eaten in silence. \n*** A minimum of six participants is required for this retreat to go ahead. \nA $75 deposit is required to confirm your registration. \n[caldera_form_modal id= »CF588f6476160d1″ type= »button » width= »700″]Cliquez ici pour vous inscrire[/caldera_form_modal]
URL:https://kio-o.ca/evenement/personal-active-meditation-retreat-tushar/2020-07-14/
LOCATION:Kio-o\, 1905 Chemin du rang 6\, Sainte-Lucie\, Québec\, J0T 2J0\, Canada
GEO:46.132966;-74.1940374
X-APPLE-STRUCTURED-LOCATION;VALUE=URI;X-ADDRESS=Kio-o 1905 Chemin du rang 6 Sainte-Lucie Québec J0T 2J0 Canada;X-APPLE-RADIUS=500;X-TITLE=1905 Chemin du rang 6:geo:-74.1940374,46.132966
END:VEVENT
END:VCALENDAR