BEGIN:VCALENDAR
VERSION:2.0
PRODID:-//Kio-o - ECPv6.15.12.2//NONSGML v1.0//EN
CALSCALE:GREGORIAN
METHOD:PUBLISH
X-ORIGINAL-URL:https://kio-o.ca
X-WR-CALDESC:Évènements pour Kio-o
REFRESH-INTERVAL;VALUE=DURATION:PT1H
X-Robots-Tag:noindex
X-PUBLISHED-TTL:PT1H
BEGIN:VTIMEZONE
TZID:America/New_York
BEGIN:DAYLIGHT
TZOFFSETFROM:-0500
TZOFFSETTO:-0400
TZNAME:EDT
DTSTART:20200308T070000
END:DAYLIGHT
BEGIN:STANDARD
TZOFFSETFROM:-0400
TZOFFSETTO:-0500
TZNAME:EST
DTSTART:20201101T060000
END:STANDARD
BEGIN:DAYLIGHT
TZOFFSETFROM:-0500
TZOFFSETTO:-0400
TZNAME:EDT
DTSTART:20210314T070000
END:DAYLIGHT
BEGIN:STANDARD
TZOFFSETFROM:-0400
TZOFFSETTO:-0500
TZNAME:EST
DTSTART:20211107T060000
END:STANDARD
BEGIN:DAYLIGHT
TZOFFSETFROM:-0500
TZOFFSETTO:-0400
TZNAME:EDT
DTSTART:20220313T070000
END:DAYLIGHT
BEGIN:STANDARD
TZOFFSETFROM:-0400
TZOFFSETTO:-0500
TZNAME:EST
DTSTART:20221106T060000
END:STANDARD
END:VTIMEZONE
BEGIN:VEVENT
DTSTART;VALUE=DATE:20211115
DTEND;VALUE=DATE:20211118
DTSTAMP:20260422T014239
CREATED:20210830T192433Z
LAST-MODIFIED:20211011T191118Z
UID:10005972-1636934400-1637193599@kio-o.ca
SUMMARY:Retraite de yoga  « Tout sur le souffle » avec Lily Champagne - ANNULÉ
DESCRIPTION:Retraite de yoga \n« Tout sur le souffle »  \n« On ne fabrique pas le souffle\, on le reçoit. »  Frère Odilon Cassidy \nLe merveilleux monde du souffle est à la portée de tous\, jeune ou vieux\, en pleine santé ou dans les moments où le corps est plus fragile\, seul ou en groupe\, riche ou pauvre\, peu importe la condition dans laquelle on se trouve le souffle est toujours là\, fidèle\, ne nous laissant jamais tomber. De la première inspiration au début de notre vie jusqu’à notre dernière expiration lors de notre grand départ. \n« Respirer consciemment c’est maîtriser sa respiration mais c’est aussi entrer en symbiose avec le mouvement de l’infiniment grand et de l’infiniment petit qui est à l’intérieur de nous. Respirer consciemment\, c’est la possibilité de se relier à ce qu’il y a de plus grand en Nous. »  \nInformation : viniyoga@lilychampagne.com 514 356-9042
URL:https://kio-o.ca/evenement/retraite-de-yoga-tout-sur-le-souffle-avec-lily-champagne/
LOCATION:Kio-o\, 1905 Chemin du rang 6\, Sainte-Lucie\, Québec\, J0T 2J0\, Canada
CATEGORIES:Yoga
ATTACH;FMTTYPE=image/png:https://kio-o.ca/wp-content/uploads/2021/04/Capture-décran-le-2021-04-08-à-10.25.16.png
ORGANIZER;CN="Lily Champagne":MAILTO:viniyoga@lilychampagne.com
GEO:46.132966;-74.1940374
X-APPLE-STRUCTURED-LOCATION;VALUE=URI;X-ADDRESS=Kio-o 1905 Chemin du rang 6 Sainte-Lucie Québec J0T 2J0 Canada;X-APPLE-RADIUS=500;X-TITLE=1905 Chemin du rang 6:geo:-74.1940374,46.132966
END:VEVENT
END:VCALENDAR