BEGIN:VCALENDAR
VERSION:2.0
PRODID:-//Kio-o - ECPv6.15.12.2//NONSGML v1.0//EN
CALSCALE:GREGORIAN
METHOD:PUBLISH
X-WR-CALNAME:Kio-o
X-ORIGINAL-URL:https://kio-o.ca
X-WR-CALDESC:Évènements pour Kio-o
REFRESH-INTERVAL;VALUE=DURATION:PT1H
X-Robots-Tag:noindex
X-PUBLISHED-TTL:PT1H
BEGIN:VTIMEZONE
TZID:America/New_York
BEGIN:DAYLIGHT
TZOFFSETFROM:-0500
TZOFFSETTO:-0400
TZNAME:EDT
DTSTART:20200308T070000
END:DAYLIGHT
BEGIN:STANDARD
TZOFFSETFROM:-0400
TZOFFSETTO:-0500
TZNAME:EST
DTSTART:20201101T060000
END:STANDARD
BEGIN:DAYLIGHT
TZOFFSETFROM:-0500
TZOFFSETTO:-0400
TZNAME:EDT
DTSTART:20210314T070000
END:DAYLIGHT
BEGIN:STANDARD
TZOFFSETFROM:-0400
TZOFFSETTO:-0500
TZNAME:EST
DTSTART:20211107T060000
END:STANDARD
BEGIN:DAYLIGHT
TZOFFSETFROM:-0500
TZOFFSETTO:-0400
TZNAME:EDT
DTSTART:20220313T070000
END:DAYLIGHT
BEGIN:STANDARD
TZOFFSETFROM:-0400
TZOFFSETTO:-0500
TZNAME:EST
DTSTART:20221106T060000
END:STANDARD
END:VTIMEZONE
BEGIN:VEVENT
DTSTART;VALUE=DATE:20211210
DTEND;VALUE=DATE:20211213
DTSTAMP:20260421T222111
CREATED:20160518T064500Z
LAST-MODIFIED:20221211T003116Z
UID:10005589-1639094400-1639353540@kio-o.ca
SUMMARY:Retraite de développement spirituel et de méditation avec Paul Beaudry
DESCRIPTION:Retraite de développement spirituel et de méditation avec Paul Beaudry \nNous vous invitons à assister à un weekend haut en lumière. Vous recevrez des enseignements\, en accord avec vos besoins du moment\, qui seront couronnés de méditations guidées\, sonores et silencieuses. \nNos retraites se déroulent dans une atmosphère de sereine introspection où vous aurez le temps de vous ressourcer pleinement. \nDes séjours inoubliables pour se rencontrer soi-même et partager avec des gens qui ont les mêmes aspirations spirituelles que soi. \n 
URL:https://kio-o.ca/evenement/ecole-de-meditation-paul-beaudry-2018-11-23-2019-04-26-2020-12-04-2021-10-22/2021-12-10/
LOCATION:Kio-o\, 1905 Chemin du rang 6\, Sainte-Lucie\, Québec\, J0T 2J0\, Canada
CATEGORIES:Développement personnel,Méditation
ATTACH;FMTTYPE=image/jpeg:https://kio-o.ca/wp-content/uploads/2016/05/Paul_Beaudry_01-e1409680827125.jpg
ORGANIZER;CN="Paul Beaudry":MAILTO:info@meditationpaulbeaudry.com
GEO:46.132966;-74.1940374
X-APPLE-STRUCTURED-LOCATION;VALUE=URI;X-ADDRESS=Kio-o 1905 Chemin du rang 6 Sainte-Lucie Québec J0T 2J0 Canada;X-APPLE-RADIUS=500;X-TITLE=1905 Chemin du rang 6:geo:-74.1940374,46.132966
END:VEVENT
BEGIN:VEVENT
DTSTART;VALUE=DATE:20211210
DTEND;VALUE=DATE:20211213
DTSTAMP:20260421T222111
CREATED:20160518T064500Z
LAST-MODIFIED:20210826T183253Z
UID:10005582-1639094400-1639353599@kio-o.ca
SUMMARY:Séminaire de fin de semaine - Paul Beaudry
DESCRIPTION:Chaque retraite présente des enseignements différents. Peu importe les enseignements dispensés par Paul\, ils sont toujours à point pour chacun de nous. Il y a un enseignement d’une heure le samedi matin et le dimanche matin. Le reste du temps est consacré à des méditations silencieuses\, guidées ou sonores. Le samedi soir Paul offre une causerie avec les participants. \n\n\n\nProgramme des retraites\n17h00 : Arrivée des participants et inscriptions\n18h00 : Souper\n19h30 : Méditation guidée\, sons et mots sacrés\n21h30 : Fin de la soirée\n​08h00 : Déjeuner\n09h30 : Enseignements de Paul\n10h30 : Pause\n10h45 : Méditation guidée\, sons\, mots sacrés ou mantras\n12h00 : Lunch\nTemps libre\n16h00 : Méditation sonore ou mantras\n16h45 : Pause\n17h00 : Méditation guidée\n18h00 : Souper\n19h30 : Dialogue avec Paul\n21h00 : Fin de la journée\n​08h00 : Déjeuner\n09h30 : Enseignements de Paul\n10h30 : Pause\n10h45 : Méditation guidée\, sons\, mots sacrés ou mantras\n12h00 : Lunch\n14h00 : Exercices d’ancrages\n15h30 : Partages et conclusion\n16h00 : Fin du séminaire
URL:https://kio-o.ca/evenement/ecole-de-meditation-paul-beaudry-2018-11-23-2019-04-26-2020-12-04/2021-12-10/
LOCATION:Kio-o\, 1905 Chemin du rang 6\, Sainte-Lucie\, Québec\, J0T 2J0\, Canada
CATEGORIES:Développement personnel,Méditation
ATTACH;FMTTYPE=image/png:https://kio-o.ca/wp-content/uploads/2016/05/Capture-décran-le-2021-03-01-à-10.42.48.png
ORGANIZER;CN="Paul Beaudry":MAILTO:info@meditationpaulbeaudry.com
GEO:46.132966;-74.1940374
X-APPLE-STRUCTURED-LOCATION;VALUE=URI;X-ADDRESS=Kio-o 1905 Chemin du rang 6 Sainte-Lucie Québec J0T 2J0 Canada;X-APPLE-RADIUS=500;X-TITLE=1905 Chemin du rang 6:geo:-74.1940374,46.132966
END:VEVENT
END:VCALENDAR