BEGIN:VCALENDAR
VERSION:2.0
PRODID:-//Kio-o - ECPv6.15.12.2//NONSGML v1.0//EN
CALSCALE:GREGORIAN
METHOD:PUBLISH
X-ORIGINAL-URL:https://kio-o.ca
X-WR-CALDESC:Évènements pour Kio-o
REFRESH-INTERVAL;VALUE=DURATION:PT1H
X-Robots-Tag:noindex
X-PUBLISHED-TTL:PT1H
BEGIN:VTIMEZONE
TZID:America/New_York
BEGIN:DAYLIGHT
TZOFFSETFROM:-0500
TZOFFSETTO:-0400
TZNAME:EDT
DTSTART:20220313T070000
END:DAYLIGHT
BEGIN:STANDARD
TZOFFSETFROM:-0400
TZOFFSETTO:-0500
TZNAME:EST
DTSTART:20221106T060000
END:STANDARD
BEGIN:DAYLIGHT
TZOFFSETFROM:-0500
TZOFFSETTO:-0400
TZNAME:EDT
DTSTART:20230312T070000
END:DAYLIGHT
BEGIN:STANDARD
TZOFFSETFROM:-0400
TZOFFSETTO:-0500
TZNAME:EST
DTSTART:20231105T060000
END:STANDARD
BEGIN:DAYLIGHT
TZOFFSETFROM:-0500
TZOFFSETTO:-0400
TZNAME:EDT
DTSTART:20240310T070000
END:DAYLIGHT
BEGIN:STANDARD
TZOFFSETFROM:-0400
TZOFFSETTO:-0500
TZNAME:EST
DTSTART:20241103T060000
END:STANDARD
END:VTIMEZONE
BEGIN:VEVENT
DTSTART;VALUE=DATE:20230324
DTEND;VALUE=DATE:20230327
DTSTAMP:20260419T124258
CREATED:20220709T144755Z
LAST-MODIFIED:20230322T153311Z
UID:10006026-1679616000-1679875199@kio-o.ca
SUMMARY:Cercle des amis de Bruno Gröning
DESCRIPTION:Pour information : \ncerclegiseleturgeonamis@gmail.com
URL:https://kio-o.ca/evenement/cercle-des-amis-de-bruno-groning-2023-03-24/
LOCATION:Kio-o\, 1905 Chemin du rang 6\, Sainte-Lucie\, Québec\, J0T 2J0\, Canada
CATEGORIES:Méditation,Mouvement
ATTACH;FMTTYPE=image/jpeg:https://kio-o.ca/wp-content/uploads/2022/07/IMG_9441.jpeg
ORGANIZER;CN="Les amis de Bruno Gr%C3%B6ning":MAILTO:leblancfrance@hotmail.com
GEO:46.132966;-74.1940374
X-APPLE-STRUCTURED-LOCATION;VALUE=URI;X-ADDRESS=Kio-o 1905 Chemin du rang 6 Sainte-Lucie Québec J0T 2J0 Canada;X-APPLE-RADIUS=500;X-TITLE=1905 Chemin du rang 6:geo:-74.1940374,46.132966
END:VEVENT
BEGIN:VEVENT
DTSTART;VALUE=DATE:20230324
DTEND;VALUE=DATE:20230327
DTSTAMP:20260419T124259
CREATED:20221128T161640Z
LAST-MODIFIED:20221129T180425Z
UID:10006032-1679616000-1679875199@kio-o.ca
SUMMARY:Retraite de ressourcement La puissance de la Joie avec Manon Beaudry et Catherine Agostini-Salembier
DESCRIPTION:Retraite de ressourcement\nLa puissance de la Joie \n« La joie est une puissance\, cultivez-la » Le Dalaï-Lama \nExiste-t’il une expérience plus désirable que celle de la joie ? Elle est la manifestation de notre puissance vitale. Mais comment développer cette sensation qui nous rend si vivants ?\nAu cœur de cette retraite\, non seulement vous découvrirez ou approfondirez la méthode D.A.Q.O.R©\, une méthode en 5 mouvements permettant de comprendre\, de dessiner le changement et d’entretenir des façons d’être au monde alignés avec vos valeurs\, une approche originale proposée par Manon Beaudry hypnothérapeute et Catherine Agostini – Salembier\nethnotérapeute\, mais grâce à diverses visions inspirantes et une palette d’outils vous apprendrez comment notamment\, stimuler les hormones du bonheur. \nDurant ce parcours initiatique\, vous serez initiés aux pratiques suivantes :\no La méthode D.A.Q.O.R©\no Pratiques de yoga/ notamment aux chandelles\no Méditations guidées\no Respiration yogique\no La cérémonie du thé\no La cuisine de la bienveillance (certains repas seront guidés et en silence)\no Pratique de mantras : Gayatri mantra\no Stimulation des hormones du bonheur.\no Mouvements de libération du corps et danse extatique \nPrix : 512 + tx sur la base d’une chambre partagée\nSup de 113 $ pour une chambre simple\nCe prix comprends les nuitées\, les repas\, les ateliers et toutes les pratiques.\nPaiement 1 de 295 $ pour permettre votre inscription;\nPaiement 2 de 295 $ le 15 février \nSi intéressé.e.s\, nous contacter: Manon Beaudry au mbeaudry@hotmail.fr
URL:https://kio-o.ca/evenement/retraite-de-ressourcement-la-puissance-de-la-joie-avec-catherine-agostini-et-manon-beaudry/
LOCATION:Kio-o\, 1905 Chemin du rang 6\, Sainte-Lucie\, Québec\, J0T 2J0\, Canada
CATEGORIES:Développement personnel,Méditation,Yoga
ATTACH;FMTTYPE=image/jpeg:https://kio-o.ca/wp-content/uploads/2022/11/Christine-et-Manon.jpg
ORGANIZER;CN="Catherine Agostini-Salembier et Manon Beaudry":MAILTO:latitudebienetre@hotmail.com
GEO:46.132966;-74.1940374
X-APPLE-STRUCTURED-LOCATION;VALUE=URI;X-ADDRESS=Kio-o 1905 Chemin du rang 6 Sainte-Lucie Québec J0T 2J0 Canada;X-APPLE-RADIUS=500;X-TITLE=1905 Chemin du rang 6:geo:-74.1940374,46.132966
END:VEVENT
END:VCALENDAR