BEGIN:VCALENDAR
VERSION:2.0
PRODID:-//Kio-o - ECPv6.15.12.2//NONSGML v1.0//EN
CALSCALE:GREGORIAN
METHOD:PUBLISH
X-ORIGINAL-URL:https://kio-o.ca
X-WR-CALDESC:Évènements pour Kio-o
REFRESH-INTERVAL;VALUE=DURATION:PT1H
X-Robots-Tag:noindex
X-PUBLISHED-TTL:PT1H
BEGIN:VTIMEZONE
TZID:America/New_York
BEGIN:DAYLIGHT
TZOFFSETFROM:-0500
TZOFFSETTO:-0400
TZNAME:EDT
DTSTART:20250309T070000
END:DAYLIGHT
BEGIN:STANDARD
TZOFFSETFROM:-0400
TZOFFSETTO:-0500
TZNAME:EST
DTSTART:20251102T060000
END:STANDARD
BEGIN:DAYLIGHT
TZOFFSETFROM:-0500
TZOFFSETTO:-0400
TZNAME:EDT
DTSTART:20260308T070000
END:DAYLIGHT
BEGIN:STANDARD
TZOFFSETFROM:-0400
TZOFFSETTO:-0500
TZNAME:EST
DTSTART:20261101T060000
END:STANDARD
BEGIN:DAYLIGHT
TZOFFSETFROM:-0500
TZOFFSETTO:-0400
TZNAME:EDT
DTSTART:20270314T070000
END:DAYLIGHT
BEGIN:STANDARD
TZOFFSETFROM:-0400
TZOFFSETTO:-0500
TZNAME:EST
DTSTART:20271107T060000
END:STANDARD
END:VTIMEZONE
BEGIN:VEVENT
DTSTART;VALUE=DATE:20260904
DTEND;VALUE=DATE:20260907
DTSTAMP:20260419T181440
CREATED:20260217T171600Z
LAST-MODIFIED:20260308T171658Z
UID:10006337-1788480000-1788739199@kio-o.ca
SUMMARY:La retraite Tantra en couple avec Martin Bilodeau
DESCRIPTION:L’amour\, ce n’est pas quelque chose que vous faites\, c’est quelque chose que vous êtes !\n\n\n\n\n\n\n\n\n\n\n La retraite Tantra Couple est un voyage sacré destiné aux couples qui désirent approfondir leur intimité et vivre une relation plus consciente. \nGuidés par Martin Bilodeau\, vous explorerez des pratiques tantriques\, méditatives et relationnelles qui nourrissent la confiance\, la complicité et l’amour sacré. Cette retraite offre un espace sécurisant pour explorer la sensualité\, renforcer les liens affectifs et cultiver une présence bienveillante à deux. \nC’est une expérience unique pour redécouvrir la puissance de l’union et ouvrir un chemin vers une relation plus vibrante et alignée. \n\n\n\n\n\n\n\n\n\n\nApprofondir l’intimité et la connexion\n\n\n\n\nL’esprit de cette fin de semaine est la joie\, la légèreté\, la connexion et la douceur.\nCette retraite est un chemin pour libérer votre force d’aimer et pour choisir de vous abandonner aux vérités du cœur. Venez calmer le mental et l’ego pour faire vibrer VOTRE ÊTRE dans un océan d’amour qui vous permettra de retrouver le sens sacré à votre vie et de dévoiler la dimension spirituelle dans votre relation. \nCette retraite de ressourcement vous présente quelques-uns des plus précieux enseignements sur le tantrisme\, et ce\, sans nudité. \nDu point de vue pratique\, le tantra offre une vaste somme de connaissances et de moyens pratiques permettant aux hommes et aux femmes de reconnecter avec leur essence ultime et primordiale\, amour. Le tantra a comme but principal de permettre des transformations intérieures et libérer les êtres de la souffrance. \n\n\n\n\n\n\n\n\n\n\n\n\n\nPratiques tantriques et méditatives\n Méditation sur le regard\n\n\n\n\n\n\n\n\n\n* Méditation de l’étreinte\n\n\n\n\n\n* Rite d’éveil des sens \n\n\n\n* Pratique de contemplation dans la nature\n\n\n\n* Création d’un œuvre éphémère (mandala en nature)\n\n\n\n\n* Rite de pardon pour se libérer du passé\n\n\n\n\n\n\n* Méditation sur le sens de l’amour dans sa vie\n\n\n\n\n* Rituel pour reconnaître et voir la beauté en l’autre\n\n\n\n\n* Expérience d’harmonisation de la kundalini\n\n\n\n\n* Respiration pranique et extase par le souffle\n\n\n\n\n\n* Et plus encore!\n\n\n\n\n\n\n\n\n\n\n\n\n\n\nDes pratiques de chants sacrés\, de méditation active\, de danse et de yoga seront aussi au programme pour offrir des moments de transition entre les enseignements et les pratiques principales. Les couples de toutes orientations sexuelles et de tous âges sont bienvenus à vivre cette retraite de tantra pour couples.
URL:https://kio-o.ca/evenement/la-retraite-tantra-couple-avec-martin-bilodeau-2/
LOCATION:Kio-o\, 1905 Chemin du rang 6\, Sainte-Lucie\, Québec\, J0T 2J0\, Canada
CATEGORIES:Développement personnel
ATTACH;FMTTYPE=image/png:https://kio-o.ca/wp-content/uploads/2024/01/Martin-Bilodeau-assis.png
ORGANIZER;CN="Martin Bilodeau Auteur%2C auteur%2C conf%C3%A9rencier et enseignant":MAILTO:info@martinbilodeau.com
GEO:46.132966;-74.1940374
X-APPLE-STRUCTURED-LOCATION;VALUE=URI;X-ADDRESS=Kio-o 1905 Chemin du rang 6 Sainte-Lucie Québec J0T 2J0 Canada;X-APPLE-RADIUS=500;X-TITLE=1905 Chemin du rang 6:geo:-74.1940374,46.132966
END:VEVENT
BEGIN:VEVENT
DTSTART;VALUE=DATE:20260906
DTEND;VALUE=DATE:20260912
DTSTAMP:20260419T181440
CREATED:20260402T143806Z
LAST-MODIFIED:20260402T143806Z
UID:10006357-1788652800-1789171199@kio-o.ca
SUMMARY:Se Choisir & Développer sa confiance en soi\, son intuition et ses dons avec Dominique Jeanneret
DESCRIPTION:Le Bonheur est un état qu’on atteint quand on est bien aligné avec qui on est et ce qu’on veut vraiment vivre. Pour y arriver\, on doit se choisir régulièrement afin de rester toujours fidèle à qui on est et à ce qu’on désire vivre\, plutôt que de vivre en tentant de faire plaisir autour de soi pour être aimé/e et\, donc\, en choisissant les autres avant soi. \nPlus on se choisit\, plus on trouve le Bonheur ! \nstage avec Dominique Jeanneret\, thérapeute\, accompagnante et enseignante\n \nRabais de 100 $ sur inscription avec acompte d’ici au 5 juillet 2026 \nC’est pour VOUS choisir que je vous invite à ce stage-formation de développement personnel afin de reprendre confiance en vous\, développer votre intuition et vos dons\, retrouver votre pouvoir\, laisser émerger votre lumière et votre puissance\, et créer la vie heureuse que vous voulez vraiment. \nJe vous invite à ce stage théorique\, pratique et thérapeutique pour oser vous choisir à chaque instant\, identifier les ressentis et les dons qui vous habitent\, oser les accueillir\, les écouter et les développer\, pour libérer et dépasser les peurs de les laisser s’épanouir et apprendre à créer votre vie à partir de votre coeur\, de vos choix et de vos intuitions. \nUn temps dans l’Amour de Soi pour libérer des qualités oubliées ou restées cachées à cause de l’éducation reçue\, des dons inconscients ou conscients mais dont on a peut-être encore peur\, de la créativité épanouissante qu’on n’ose pas laisser émerger\, des rêves\, des folies\, de la joie de vivre\, du Bonheur…  \nEn suivant ce cours\, tu pourras : \n– atteindre un espace de confiance et de solidité intérieures qui vous permettront de vous sentir à votre place\, sur votre X\, dans votre mission de vie en prenant la Responsabilité Sacrée\, \n– avoir un impact positif et aidant sur les gens\, les aider à aller mieux et être plus heureux; \n– avoir confiance en vous\, en votreintuition et en vos dons en différenciant ce qui vient de votre intuition et/ou de vos dons versus ce qui vient de votre imagination; \n– recevoir des outils pour vous permettre de cheminer par vous-même dans votre cheminement personnel\, de devenir plus autonome; \n– vous libérer de vos croyances limitantes et prendre soin des blessures intérieures qui vous empêchent de vous connecter adéquatement avec votre intuition et vos dons\, et d’avancer vers la vie que vous voulez vraiment; \n– vous sentir plus solide\, en sécurité et guidé quand vous recevrez les messages de vos guides/alliés\, de l’Au-Delà\, de l’Univers\, de Dieu\, de l’invisible (on l’appelle comme on veut)\, et vous pourrez échanger avec eux. \nDu deux en un : \nEn plus des enseignements théoriques et pratiques sur le développement de tes dons et la médiumnité\, je vous guiderai dans votre cheminement personnel afin de vous aider à libérer des croyances limitantes\, les blessures intérieures\, transgénérationnelles et karmiques. \nDévelopper ses dons est un chemin vers Soi avant tout\, de purification du coeur\, de l’âme et des énergies. On ne peut pas être un bon intervenant si on ne gère pas ses propres problèmes qui parasitent et obstruent le canal médiumnique. De même pour être un bon thérapeute : on ne peut pas aider adéquatement quelqu’un si on n’a pas soi-même réglé ses enjeux. \nCe stage est un temps dans l’Amour de Soi pour libérer des qualités oubliées ou restées cachées à cause de l’éducation reçue\, des dons inconscients ou conscients mais dont on a peut-être encore peur\, de la créativité épanouissante qu’on n’ose pas laisser émerger\, des rêves\, des folies\, la joie de vivre\, le Bonheur… \nThèmes abordés\n\nÉthique d’un travailleur de Lumière. Bien s’ancrer pour se protéger. Comment faire la différence entre ressenti juste et imagination.\nSilence\, méditation et prière pour se préparer à l’ancrage et à l’alignement du canal de Lumière médiumnique. On parlera aussi d’incarnation.\nDéfinir ses dons et accepter de les développer. Découverte\, définition\, apprivoisement et utilisation de ton intuition et de tes dons en toute sécurité. Prendre la responsabilité sacrée pour le succès de ta mission de vie.\nCheminement thérapeutique : « nettoyage » du canal de Lumière. Identifier les croyances limitantes\, blessures intérieures et karmiques qui t’empêchent de développer et utiliser tes dons.\nDifférences entre guides\, alliés\, personnes décédées\, entités (positives ou négatives) et toutes les autres terminologies qu’on donne dans le monde de l’invisible.\nContact et échanges avec le monde de l’invisible. Réception et transmission des messages reçus.\nPassage d’âme.\nTravail avec les cartes et/ou objets (mais pas le pendule)\n\nNous irons aussi dans la nature environnante pour faire des exercices et se ressourcer. \n\nAu programme\, suivant l’énergie et les besoins du groupe : méditation\, travail psycho-corporel\, spirituel\, énergétique\, chamanique\, transgénérationnel\, karmique\, enseignements psycho-spirituels\, écriture\, musique\, mouvements\, jeux\, créativité\, développement de l’intuition\, médiumnité\, échanges dans le respect\, le non-jugement\, l’authenticité et la joie. \n\nPour plus d’informations cliquez ici
URL:https://kio-o.ca/evenement/se-choisir-developper-sa-confiance-en-soi-son-intuition-et-ses-dons-avec-dominique-jeanneret-2/
LOCATION:Kio-o\, 1905 Chemin du rang 6\, Sainte-Lucie\, Québec\, J0T 2J0\, Canada
CATEGORIES:Développement personnel
ATTACH;FMTTYPE=image/jpeg:https://kio-o.ca/wp-content/uploads/2025/01/Dominique-Jeanneret.jpg
ORGANIZER;CN="Dominique Jeanneret":MAILTO:bonjourdo@gmail.com
GEO:46.132966;-74.1940374
X-APPLE-STRUCTURED-LOCATION;VALUE=URI;X-ADDRESS=Kio-o 1905 Chemin du rang 6 Sainte-Lucie Québec J0T 2J0 Canada;X-APPLE-RADIUS=500;X-TITLE=1905 Chemin du rang 6:geo:-74.1940374,46.132966
END:VEVENT
BEGIN:VEVENT
DTSTART;VALUE=DATE:20260925
DTEND;VALUE=DATE:20260928
DTSTAMP:20260419T181440
CREATED:20260331T175117Z
LAST-MODIFIED:20260331T175126Z
UID:10006354-1790294400-1790553599@kio-o.ca
SUMMARY:La Sadhana : le chemin sacré\, la voie et la grande initiation avec Cécile-Purusha Hontoy
DESCRIPTION:Une retraite de trois jours pour s’initier ou approfondir la Voie de la non dualité nommée la voie du Sannyasa \nLes témoignages parlent d’eux mêmes de cette voie classique Indoue qui réduit et parfois élimine les dualités souffrantes. Je l’enseigne avec fierté depuis de nombreuses années. Et c’est avec fierté que nous nous retrouverons pour célébrer et toujours approfondir cette voie merveilleuse de la Joie. \nTémoignage :  livre 2 le chemin du Sannyasine \nJ’ai aimé les différents rituels et le fait que cela se produisait réellement dans nos vies après!  Comme par magie!  J’ai aimé apprendre à ressentir la vie et à entretenir un sentiment de gratitude. \nJ’ai aimé les mantras et le mantra personnel\, l’expression art\, et l’expression danse! Cela nous a appris à sortir de la forme et à oser se tenir debout devant notre production! J’ai trouvé une famille spirituelle qui respecte ce que je suis  et mes limites. Chaque séminaire fut un enseignement extraordinaire et j’ai avancé dans la Claire Conscience et j’ai compris le mot « compassion ». Les gens sont tous pris avec leurs propres batailles intérieures aussi nous avons tous besoin d’écoute et de compréhension. \nJ’ai appris bien plus que tout cela mais les mots me manquent. \nMerci. Gratitude. \nRathi \nTous les rituels ont été bénéfiques . Chaque rituel me purifie\, me ramène à moi\, à mon essence\, à mon âme. \nLe rituel le plus marquant est celui qui ressemble au « lavage des pieds  du christ! » J’ai continuellement besoin d’enseignements! C’est ce qui me nourrit\,. M’entretient\, garde ma flamme allumée! Je prends conscience que ce qui importe c’est quand je suis dans le cœur. \nJ’ai aimé. Les méditations : en nature\, dans la marche consciente\, en salle. Le rire\, la danse\, la joie\, la relation au maître enseignant\, Purusha! Ce qui est important pour moi c’est de rester un disciple. Je crois\, je sais aussi que ma présence aide aussi les autres. C’est ma mission sacrée\, c’est d’être là. \nSavitri \nMaintenant je reconnais que ma place est d’être connectée  au spirituel tout en étant groundé\, comme on dit. L’énergie de chacun des rituels m’a rapporté  mon essence divine. C’est pour moi une source d’énergie authentique. Mais Ma Purusha a été aussi une source d’énergie et d’amour! J’ai surtout aimé les méditations silencieuses. \nLes initiations représentent les étapes que j’ai franchi es pour arriver à me connaître de plus en plus. J’ai enfin fini par accepter la beauté en moi! Je récite plusieurs mantras mais aussi les prières chrétiennes que nous avons récitées ensemble. \nJe suis à boucler un cycle! Je me suis enfin retrouvée. Maintenant je suis la voie de mon cœur. Je vis le moment présent. \nChantaria \nCe que je retiens de nos formations c’est l’opportunité que j’ai eue de faire du ménage dans nos émotions\, de les reconnaître et d’en faire de bons apprentissages. Une fois ce ménage effectué je retiens l’ouverture aux autres\, le don de soi\, la responsabilité d’être\, de faire et de partager. Plusieurs rituels et mantras m’habitent et sont désormais des ancrages à ma spiritualité. \nMa relation au groupe a changé. Je considère maintenant que je fais partie d’un groupe plus grand qui est L’ensemble des initiés. J’ai maintenant la responsabilité de rayonner  dans mon milieu et pas seulement dans un groupe. \nJe ne ressens plus le besoin d’être aussi proche de l’enseignante mais je ressens le besoin de me ressourcer aux enseignements par la méditation\, par le retour à mes cahiers\, par des méditations personnelles. Depuis la dernière initiation je me suis unie à l’ensemble des humains et à plus grand. Mais j’ai aussi vraiment l’impression que cela ne fait que commencer… \nBhairava \nJe me souviens surtout des prasades qui représentent la force de donner sans avoir peur de manquer et sans attente. C’est en donnant que nous recevons au centuple. J’ai compris par la méditation que le fait de méditer était au quotidien dans la présence  et l’appréciation accordées  au moment présent. Depuis le début de la formation je ressens l’évolution qui s’installe. Mon nom initiatique m’a reconnectée avec mon essence. J’ai compris aussi que stagner  dans une zone de confort  nous tue peu à peu. Depuis mon contact avec toi\, Purusha dans le yoga danse je me suis  remise dans l’action. Je me sens renaître!  Je me sens habiter un corps! Les mantras se présentent à moi tout naturellement. Je récite souvent la prière des maîtres kriyas! Elle me fait un grand bien. Les initiations et la formation ont fait en sorte que je ne me sens plus jamais seule! \nBrahma shiva \nJe sais que tout ce que j’ai eu comme formations a été pour moi un grand réconfort et une affirmation que je suis à la bonne place . Il y a eu des moments très intenses surtout quand j’ai reçu mon nom sacré! Et aussi à la grande initiation\, mon cœur battait a une vitesse incroyable  et les émotions bienfaisantes ont duré très longtemps après et elles durent encore aujourd’hui! \nAujourd’hui je fais ce que j’aime faire et quand quelque chose ne va pas je me relie à mon enseignante\, Purusha et au groupe.
URL:https://kio-o.ca/evenement/la-sadhana-le-chemin-sacre-la-voie-et-la-grande-initiation-avec-cecile-purusha-hontoy/
LOCATION:Kio-o\, 1905 Chemin du rang 6\, Sainte-Lucie\, Québec\, J0T 2J0\, Canada
CATEGORIES:Développement personnel,Méditation,Retraite spirituelle,Rituel
ATTACH;FMTTYPE=image/png:https://kio-o.ca/wp-content/uploads/2026/03/Purusha-2026.png
ORGANIZER;CN="C%C3%A9cile-Purusha Hontoy ( swami Purusha )":MAILTO:purushahontoy@hotmail.com
GEO:46.132966;-74.1940374
X-APPLE-STRUCTURED-LOCATION;VALUE=URI;X-ADDRESS=Kio-o 1905 Chemin du rang 6 Sainte-Lucie Québec J0T 2J0 Canada;X-APPLE-RADIUS=500;X-TITLE=1905 Chemin du rang 6:geo:-74.1940374,46.132966
END:VEVENT
BEGIN:VEVENT
DTSTART;VALUE=DATE:20260925
DTEND;VALUE=DATE:20260928
DTSTAMP:20260419T181440
CREATED:20260408T181656Z
LAST-MODIFIED:20260408T184537Z
UID:10006360-1790294400-1790553599@kio-o.ca
SUMMARY:Retraite « Retour à Soi » avec Carole-Anne Loiselle
DESCRIPTION:Retraite « Retour à Soi »\nUn espace pensé pour TOI afin de te déposer\, te voir réellement\, te ressentir profondément et te choisir pleinement\, pour te permettre de marcher le reste de l’année en ayant l’impression d’être magnifiquement TOI dans ton unicité. \n(Jusqu’au 19 avril\, bénéficie du tarif « Early Birds » à 666 $ + taxes en communiquant avec :  ca.loiselle@hotmail.ca) \n\n\n\n\n\n\n\n\n\n\n\n\n\n\n\nPour la femme qui :\n🌿 Désire se retrouver\, dans la simplicité et la douceur. \n🌱 Souhaite plus de clarté et de vision dans sa vie. \n🌿 A besoin de prendre soins sincèrement de son corps-âme-esprit. \n🌱 Veut se nourrir\, se ressourcer\, s’énergiser. \n🌿 Ressent l’appel de la liberté d’être pleinement elle-même. \n\n\n\n\n\n\n\n\n\n\n\n\n\n\n\nArrivée sur le site : vendredi à partir de 15 h \nDépart du site : dimanche autour de 16 h \n\n\n\n\n\n\n\n\n\n\n\n\n\n\n\n\n\n\n\n\n\n\n\n\n\n\n\n\n\n\n\n\n\n\n\n\n\n\nInclusions\n\n\n\n\n\n\n\n\n\n\n\n\n\n\n\nAteliers de connexion à soi\nDes espaces guidés pour ralentir\, revenir au corps et écouter ce qui se vit à l’intérieur. Des ateliers pensés pour t’aider à te déposer\, à te reconnecter à ton intuition et à créer un lien plus conscient avec toi-même\, dans le respect de ton rythme. \n\n\n\n\n\n\n\n\n\n\n\n\n\n\n\n\n\n\n\n\n\n\n\n\n\n\n\n\n\n\n\n\n\n\n\n\n\n\n\n\n\n\n\n\n\n\n\n\n\n\n\n\nSéance photos\nUne séance photos professionnelle est incluse pendant la retraite. Un moment en toute simplicité\, en connexion avec la nature\, pour te déposer\, te laisser être et capturer ton énergie du moment\, ton unicité. Tu repartiras avec des images authentiques et sensibles\, comme un souvenir précieux\, un rappel doux de l’importance de faire un retour à soi\, encore et encore\, dans ton quotidien. \n\n\n\n\n\n\n\n\n\n\n\n\n\n\n\n\n\n\n\n\n\n\nPauses exquises pour soi\nPrends le temps de te reconnecter à toi-même : lire un livre inspirant\, écrire dans ton journal\, faire une randonnée en nature ou simplement savourer le paysage paisible du Centre Kio-O.\nCes moments sont pour toi\, pour ralentir\, respirer et te ressourcer pleinement. \n\n\n\n\n\n\n\n\n\n\n\n\n\n\n\n\n\n\n\n\n\n\n\n\n\n\n\n\n\n\n\n\n\n\n\n\n\n\n\n\n\n\n\n\n\n\n\n\n\n\n\n\nRencontres inspirantes\, collaboratrices en or\nCette retraite est portée par trois duos de collaboratrices\, chacune apportant sa lumière\, sa sensibilité et son expertise. Des femmes inspirantes et engagées\, réunies pour offrir des moments de partages authentiques et de présence. Des rencontres qui nourrissent le cœur\, élargissent les perspectives et créent des liens précieux\, dans un esprit de bienveillance et de co-création\, pour une expérience humaine\, alignée et profondément transformatrice. \n\n\n\n\n\n\n\n\n\n\n\n\n\n\n\n\n\n\n\n\n\n\nRepas santé\nSpécialisée en alimentation végétarienne santé\, la brigade déploie tout son savoir-faire pour créer des menus variés\, à base de protéines végétales et de légumes frais\, de provenance locale le plus possible.\nUne alimentation consciente\, nutritive et ressourçante t’attend\, pour soutenir ton énergie et ton retour à soi tout au long de la retraite. \n\n\n\n\n\n\n\n\n\n\n\n\n\n\n\n\n\n\n\n\n\n\n\n\n\n\n\n\n\n\n\n\n\n\n\n\n\n\n\n\n\n\n\n\n\n\n\n\n\n\n\n\nSoirée pyjama\nUn moment de détente pour rire\, déposer les masques et être pleinement soi-même. Une soirée douce et conviviale\, propice à la création\, aux échanges sincères et à la connexion humaine\, dans une ambiance réconfortante et sans pression. \n\n\n\n\n\n\n\n\n\n\n\n\n\n\n\n\n\n\n\n\n\n\nPanier cadeaux\nÀ ton arrivée\, un panier cadeaux t’attendra\, offert par des femmes entrepreneures\, pour d’autres femmes. Des surprises choisies avec soin\, pensées pour t’inviter à prendre soin de toi et t’accompagner en douceur tout au long de ta retraite. \n\n\n\n\n\n\n\n\n\n\n\n\n\n\n\n\n\n\n\n\n\n\n2 dodos\nDeux nuits en hébergement\, pour ralentir vraiment\, laisser le corps se déposer et permettre à l’expérience de s’intégrer en douceur. Deux dodos pour respirer\, se reposer et t’offrir un véritable retour à soi. \n\n\n\n\n\n\n\n\n\n\n\n\n\n\n\n\n\n\n\n\n\n\n\n\n\n\n\n\nRetraite « Retour à Soi » 1 versement\n888 $ \n\n\n\n\n\n\n\n\n\n\n\n\n\n\n\n\n\n\n\n\nRetraite « Retour à Soi » 4 versements\n222 $ /mois
URL:https://kio-o.ca/evenement/retraite-retour-a-soi-avec-carole-anne-loiselle-2/
LOCATION:Kio-o\, 1905 Chemin du rang 6\, Sainte-Lucie\, Québec\, J0T 2J0\, Canada
CATEGORIES:Développement personnel
ATTACH;FMTTYPE=image/jpeg:https://kio-o.ca/wp-content/uploads/2025/06/loiselle.jpeg
ORGANIZER;CN="Carole-Anne Loiselle":MAILTO:ca.loiselle@hotmail.ca
GEO:46.132966;-74.1940374
X-APPLE-STRUCTURED-LOCATION;VALUE=URI;X-ADDRESS=Kio-o 1905 Chemin du rang 6 Sainte-Lucie Québec J0T 2J0 Canada;X-APPLE-RADIUS=500;X-TITLE=1905 Chemin du rang 6:geo:-74.1940374,46.132966
END:VEVENT
END:VCALENDAR