BEGIN:VCALENDAR
VERSION:2.0
PRODID:-//Kio-o - ECPv6.15.12.2//NONSGML v1.0//EN
CALSCALE:GREGORIAN
METHOD:PUBLISH
X-ORIGINAL-URL:https://kio-o.ca
X-WR-CALDESC:Évènements pour Kio-o
REFRESH-INTERVAL;VALUE=DURATION:PT1H
X-Robots-Tag:noindex
X-PUBLISHED-TTL:PT1H
BEGIN:VTIMEZONE
TZID:America/New_York
BEGIN:DAYLIGHT
TZOFFSETFROM:-0500
TZOFFSETTO:-0400
TZNAME:EDT
DTSTART:20250309T070000
END:DAYLIGHT
BEGIN:STANDARD
TZOFFSETFROM:-0400
TZOFFSETTO:-0500
TZNAME:EST
DTSTART:20251102T060000
END:STANDARD
BEGIN:DAYLIGHT
TZOFFSETFROM:-0500
TZOFFSETTO:-0400
TZNAME:EDT
DTSTART:20260308T070000
END:DAYLIGHT
BEGIN:STANDARD
TZOFFSETFROM:-0400
TZOFFSETTO:-0500
TZNAME:EST
DTSTART:20261101T060000
END:STANDARD
BEGIN:DAYLIGHT
TZOFFSETFROM:-0500
TZOFFSETTO:-0400
TZNAME:EDT
DTSTART:20270314T070000
END:DAYLIGHT
BEGIN:STANDARD
TZOFFSETFROM:-0400
TZOFFSETTO:-0500
TZNAME:EST
DTSTART:20271107T060000
END:STANDARD
END:VTIMEZONE
BEGIN:VEVENT
DTSTART;VALUE=DATE:20260618
DTEND;VALUE=DATE:20260626
DTSTAMP:20260419T142506
CREATED:20260301T203809Z
LAST-MODIFIED:20260301T203809Z
UID:10006345-1781740800-1782431999@kio-o.ca
SUMMARY:Path of Love With Jennifer McKeever & Sambhavo Lombardo
DESCRIPTION:A Life Changing Personal and Spiritual Development Retreat\n\nPath of Love is a deeply beautiful and intense process for those looking to undertake profound inner work. Weaving the latest innovations in modern psychology with the depth of ancient wisdom\, this immersive 7-day retreat creates a unique opportunity to realign with your deeper truth\, transform your relationship with yourself and others\, and emerge with a sense of clarity\, purpose and vitality to take into your daily life.\n\nEstablished 30 years ago in India\, the Path of Love 7-day personal growth and development retreat has gained an extraordinary reputation as a deeply healing retreat for people who want to come to know the truth about themselves. \nThe effects of polarisation and separation are visible everywhere. Anxiety\, depression\, addiction\, and loneliness are at epidemic levels. People long to live their lives at a deeper\, more purposeful level\, and to find a more authentic connection with themselves and their relationships – this is why we have over 7\,500 Path of Love graduates\, living in more than 72 countries worldwide. \n\n\nThe Path of Love 7-Day retreat includes:\n\nA personal video session before the retreat with a Path of Love Organizer or Facilitator\n7-Days of immersion in the life-changing Path of Love retreat with highly qualified facilitators\, including both individual and group therapy\nOver 100 hours of the Path of Love\, course materials and retreat support\n5-day Integration process to support you after the Path of Love\n3 group video call follow-up sessions after the Path of Love (led by a Path Retreats Facilitator)\n3-weeks of follow-up sharing with another group member\n8-week graduate aftercare email program\nAccess to our advanced graduate programs and membership in our worldwide community of graduates\, including our graduate Facebook page\, and in-person group sharing sessions and meditation evenings for graduates in select cities\n\nFor more information\, visit: https://pathretreats.com
URL:https://kio-o.ca/evenement/path-of-love-with-jennifer-mckeever-sambhavo-lombardo/
LOCATION:Kio-o\, 1905 Chemin du rang 6\, Sainte-Lucie\, Québec\, J0T 2J0\, Canada
CATEGORIES:Développement personnel
ATTACH;FMTTYPE=image/jpeg:https://kio-o.ca/wp-content/uploads/2026/03/Path-of-love-photo-de-groupe.jpg
ORGANIZER;CN="Jennifer McKeever":MAILTO:prema@premamckeever.com
GEO:46.132966;-74.1940374
X-APPLE-STRUCTURED-LOCATION;VALUE=URI;X-ADDRESS=Kio-o 1905 Chemin du rang 6 Sainte-Lucie Québec J0T 2J0 Canada;X-APPLE-RADIUS=500;X-TITLE=1905 Chemin du rang 6:geo:-74.1940374,46.132966
END:VEVENT
BEGIN:VEVENT
DTSTART;VALUE=DATE:20260626
DTEND;VALUE=DATE:20260629
DTSTAMP:20260419T142506
CREATED:20260217T172059Z
LAST-MODIFIED:20260217T172217Z
UID:10006339-1782432000-1782691199@kio-o.ca
SUMMARY:Puissance Découvre les pouvoirs infinis de ton esprit avec Martin Bilodeau
DESCRIPTION:La retraite Puissance est une expérience transformative destinée à réveiller ta force intérieure et à activer ton énergie vitale. \nMartin Bilodeau propose une approche intégrant méditation\, respiration\, rituels et mouvement conscient afin de renforcer l’ancrage\, la confiance et la clarté. Cette retraite est une invitation à dépasser tes limites\, à te reconnecter à ton pouvoir créateur et à manifester une vie alignée et inspirée. \nC’est une expérience puissante pour retrouver équilibre et assurance dans un cadre bienveillant et inspirant. \n\n\n\n\n\n\n\n\n\n\nRéveille ta force intérieure\n\n\n\n\nPendant trois jours\, je t’accompagne dans un voyage intérieur où souffle\, énergie\, lumière et conscience se rejoignent pour réveiller les pouvoirs infinis qui vivent déjà en toi. \nDes rituels millénaires. Des visualisations subtiles. Des respirations profondes. Et une guérison intérieure douce et naturelle\, venant non pas de l’extérieur… mais de la source même de ton esprit éveillé. \n\n\n\n\n\n\n\n\n\n\nCultiver énergie et confiance\n\n\n\n\n\n\n\n\n\nLes 5 éléments tibétains et leur influence sur le corps\, l’émotion et l’esprit (Terre\, Eau\, Feu\, Air\, Espace)\n\n\n\n\n\n\nLes couleurs de guérison intérieure associées aux cinq sagesses bouddhiques\n\n\n\n\n\n\nLa pratique du Tummo (feu intérieur) — version douce\, accessible et puissante\n\n\n\n\n\n\nDes visualisations de lumière pour dissoudre les blocages\, rééquilibrer les centres énergétiques et nourrir l’âme\n\n\n\n\n\n\nRespirations sacrées (pranayama tibétain\, vase breath) pour éveiller le flux de vie\n\n\n\n\n\n\nMéditation sur les canaux subtils (tsa)\, les souffles (lung) et les gouttes d’essence (tiglé)\n\n\n\n\n\n\nTemps de silence\, nature\, chant sacré et intégration profonde\n\n\n\n\n\n\n\n\n\n\n\n\n\nCette retraite est une transmission de pratiques millénaires de guérison intérieure.\n\nInspirée des enseignements du Dzogchen\, du Vajrayāna tibétain et des yogas intérieurs de Naropa\, elle est transmise ici de manière accessible\, non dogmatique\, laïque et incarnée. \nAucune croyance requise. \nJuste l’ouverture du cœur… et le désir de te reconnecter à ta puissance lumineuse. \n\n\n\n\n\n\n\n\n\n\n\n\n\nUne approche intégrative\n\n\n\n\n\n\n\n\n\nParce qu’elles ne soignent pas un symptôme : elles réveillent la clarté naturelle de ton esprit.\n\n\n\n\n\n\nParce qu’elles ne te demandent pas de changer\, mais de reconnaître la lumière déjà là.\n\n\n\n\n\n\nParce qu’elles agissent au niveau énergétique\, émotionnel et spirituel\, en harmonisant tout ton être à travers des gestes simples\, mais sacrés.\n\n\n\n\n\n\nEt surtout… parce qu’elles viennent d’une tradition vivante\, transmise avec amour\, respect et présence.\n\n\n\n\n\n\n\n\n\n\n\n\n\n\n✨ Viens éveiller ton feu. Purifier ton souffle. Habiter ta lumière.\n\nCe n’est pas un atelier de techniques\, cest une renaissance sacrée à l’intelligence infinie qui vit déjà en toi. \nTu es prêt.e et ton corps le sait. \n\n\n\n\n\n\n\n\n\n\n\n\n\nPourquoi faire la retraite?\n\n\n\n\n\n\n\n\n\n🌳 Lieu de la retraite\n\nUn sanctuaire de nature dans les Laurentides\, entouré de forêts\, de silence et d’eau vive\, chaque élément sera un miroir de ton propre équilibre. \n\n\n\n\n\n\n\n🍏 Repas végétariens inspirants\n\nDes plats colorés et savoureux\, préparés avec des ingrédients locaux et de saison\, pour nourrir le corps\, éveiller les sens et soutenir la pratique intérieure. \n\n\n\n\n\n\n\n🌼 Espace de méditation en nature\n\nUn lieu paisible au cœur des arbres\, propice à l’écoute intérieure et à la pleine présence. Assieds-toi\, respire\, et laisse la nature t’enseigner la tranquillité. \n\n\n\n\n\n\n\n\n\n\nÀ qui s’adresse cette retraite?\n\n\n\n\n\n\n\n\n\nPour celles et ceux qui veulent vivre une expérience énergétique et vibratoire profonde\n\n\n\n\n\n\nPour toute personne en quête de guérison intérieure\, de vitalité\, de recentrage\n\n\n\n\n\n\nPour les méditant·e·s\, praticien·ne·s et chercheur·se·s de vérité\n\n\n\n\n\n\nPour toi\, si tu sens que le moment est venu d’éveiller ton feu sacré et d’habiter ta lumière
URL:https://kio-o.ca/evenement/puissance-avec-martin-bilodeau/
LOCATION:Kio-o\, 1905 Chemin du rang 6\, Sainte-Lucie\, Québec\, J0T 2J0\, Canada
CATEGORIES:Développement personnel
ATTACH;FMTTYPE=image/jpeg:https://kio-o.ca/wp-content/uploads/2024/09/martin-Bilodeau-24.jpeg
ORGANIZER;CN="Martin Bilodeau Auteur%2C auteur%2C conf%C3%A9rencier et enseignant":MAILTO:info@martinbilodeau.com
GEO:46.132966;-74.1940374
X-APPLE-STRUCTURED-LOCATION;VALUE=URI;X-ADDRESS=Kio-o 1905 Chemin du rang 6 Sainte-Lucie Québec J0T 2J0 Canada;X-APPLE-RADIUS=500;X-TITLE=1905 Chemin du rang 6:geo:-74.1940374,46.132966
END:VEVENT
END:VCALENDAR