BEGIN:VCALENDAR
VERSION:2.0
PRODID:-//Kio-o - ECPv6.15.12.2//NONSGML v1.0//EN
CALSCALE:GREGORIAN
METHOD:PUBLISH
X-WR-CALNAME:Kio-o
X-ORIGINAL-URL:https://kio-o.ca
X-WR-CALDESC:Évènements pour Kio-o
REFRESH-INTERVAL;VALUE=DURATION:PT1H
X-Robots-Tag:noindex
X-PUBLISHED-TTL:PT1H
BEGIN:VTIMEZONE
TZID:America/New_York
BEGIN:DAYLIGHT
TZOFFSETFROM:-0500
TZOFFSETTO:-0400
TZNAME:EDT
DTSTART:20230312T070000
END:DAYLIGHT
BEGIN:STANDARD
TZOFFSETFROM:-0400
TZOFFSETTO:-0500
TZNAME:EST
DTSTART:20231105T060000
END:STANDARD
BEGIN:DAYLIGHT
TZOFFSETFROM:-0500
TZOFFSETTO:-0400
TZNAME:EDT
DTSTART:20240310T070000
END:DAYLIGHT
BEGIN:STANDARD
TZOFFSETFROM:-0400
TZOFFSETTO:-0500
TZNAME:EST
DTSTART:20241103T060000
END:STANDARD
BEGIN:DAYLIGHT
TZOFFSETFROM:-0500
TZOFFSETTO:-0400
TZNAME:EDT
DTSTART:20250309T070000
END:DAYLIGHT
BEGIN:STANDARD
TZOFFSETFROM:-0400
TZOFFSETTO:-0500
TZNAME:EST
DTSTART:20251102T060000
END:STANDARD
END:VTIMEZONE
BEGIN:VEVENT
DTSTART;VALUE=DATE:20241115
DTEND;VALUE=DATE:20241118
DTSTAMP:20260419T192909
CREATED:20240109T173913Z
LAST-MODIFIED:20241017T134726Z
UID:10006145-1731628800-1731887999@kio-o.ca
SUMMARY:Le bal des masques ou gérer notre théâtre intérieur avec Cécile Purusha Hontoy - ANNULÉ
DESCRIPTION:As-tu l’impression que quelqu’un\, quelque chose\, te sabote ? T’es tu déjà posé la question si tu avais un mauvais sort ? Sais-tu que nous avons plusieurs personnalités et que ces personnalités luttent entre elles pour gagner leurs propres rêves de vie ? Je te propose de redevenir le maître chez toi. \nÀ propos de l’événement\n\n\nCe rituel d’envergure et surtout magique te demande d’entrer dans une série de miroirs. Ces miroirs projettent tes différents vécus. Au travers de ces vécus\, se dessinent les personnages  de ta vie intérieure\, de ton théâtre intérieur. L’inconscient les a enfouis et ils restent cachés mais oeuvrent en toi et souvent à ton détriment et cela sans que tu le saches. Devenir maître de ce théâtre\, le comprendre\, régir  tes acteurs\, t’apportera une maîtrise incroyable sur ta vie. \nVoici le résumé d’une participante. \nQu’est ce que j’ai retenu de ce séminaire ? \n· J’ai retenu que tous les humains portent un ou plusieurs masques à certains moments de leur vie. \n· Que les masques sont une forme de protection destinés à éviter la souffrance provoquée par des blessures\, que ce soit de rejet\, d’abandon\, de trahison\, d’humiliation ou d’injustice. \n· Que le but à atteindre est de reconnaître tous ces masques et que lors de leur apparition\, je dois m’interroger sur la raison de leur présence. \n· Il faut se pardonner des sentiments générés par les masques et les situations. \n· Que le plus grand but à atteindre est de faire ressortir l’enfant original\, le moi supérieur en moi. \nQu’est ce que j’ai compris de cet atelier? \n· J’ai comprise que je dois demander de l’aide des autres parce que je ne peux déceler mes masques seule. \n· J’ai découvert que je peux faire confiance à certaines personnes \n· J’ai comprise que mes masques sont tellement ancrés en moi qu’ils me masquent entièrement le problème ou la blessure \nJ’ai comprise pourquoi je n’aime pas que qui que ce soit me touche le cou. Je crois que ce sentiment d’être en danger provient du fait que -ci. \n· J’ai besoin de m’entourer de gens en qui je peux avoir confiance pour m’aider à déceler mes masques et les faire vraiment tomber. \n· Je suis également heureuse des défis que je relève continuellement ces temps-ci\, j’apprends ainsi à faire confiance à mes connaissances\, mes capacité et surtout à mon intuition. \n· J’applique aussi ces nouvelles connaissances en pesant mes paroles\, en évitant des paroles négatives\, réductrices. \n· J’apprends à me faire confiance\, à m’ouvrir aux gens\, à prendre ma juste place.
URL:https://kio-o.ca/evenement/le-bal-des-masques-ou-gerer-notre-theatre-interieur-avec-cecile-purusha-hontoy/
LOCATION:Kio-o\, 1905 Chemin du rang 6\, Sainte-Lucie\, Québec\, J0T 2J0\, Canada
CATEGORIES:Développement personnel,Expression créative
ATTACH;FMTTYPE=image/webp:https://kio-o.ca/wp-content/uploads/2022/07/purusha-meditation-yoga2.webp
ORGANIZER;CN="C%C3%A9cile-Purusha Hontoy ( swami Purusha )":MAILTO:purushahontoy@hotmail.com
GEO:46.132966;-74.1940374
X-APPLE-STRUCTURED-LOCATION;VALUE=URI;X-ADDRESS=Kio-o 1905 Chemin du rang 6 Sainte-Lucie Québec J0T 2J0 Canada;X-APPLE-RADIUS=500;X-TITLE=1905 Chemin du rang 6:geo:-74.1940374,46.132966
END:VEVENT
BEGIN:VEVENT
DTSTART;VALUE=DATE:20241115
DTEND;VALUE=DATE:20241118
DTSTAMP:20260419T192909
CREATED:20240322T191609Z
LAST-MODIFIED:20241017T141744Z
UID:10006184-1731628800-1731887999@kio-o.ca
SUMMARY:Chanter\, une rencontre avec soi - avec Marie-Claire Séguin
DESCRIPTION:Pour vous qui voulez approfondir comment\nune chanson peut se révéler en vous et vous\nrévéler à vous-même.\n\n\nPour vous que le trac a souvent inhibé et qui\nacceptez de le rencontrer pour enfin le\ntraverser.\n\n\nPour vous qui voulez sans cesse aller plus loin\net pour qui chanter est nécessaire.\n\n\n  \nUn atelier…\n• Exercices d’échauffement\, de vocalises\, d’improvisation\, de respiration\, de\ndétente pour découvrir et préparer le corps-instrument \n• Séances de travail individuel en présence du groupe agissant comme témoin\,\nsoutien et miroir \n• Observation lors des périodes consacrées aux autres personnes permettant\nd’approfondir et intégrer sa propre expérience et ses apprentissages.\nÀ partir des chansons que vous apportez… \n• Deux chansons en français qui rejoignent quelque chose d’important pour vous\,\nvos coups de coeur. Vous devrez pouvoir les chanter sans avoir besoin du texte. \n• Chaque jour\, à tour de rôle\, vous disposez d’une période où le musicien\naccompagnateur\, moi et l’énergie du groupe vous sont exclusivement consacrés. \n• Pour préparer l’atelier\, vous devrez également envoyer par courriel\, au moins\ndeux semaines à l’avance\, les textes et les fichiers audio des chansons choisies\naux soins de Jean-Luc Éthier (pianiste) à l’adresse suivante:\njeanlucethier@hotmail.com \n8 participants maximum \nTARIFS : \nAtelier : 439 $ \nHébergement et nourriture :  \nChambre partagée : 318 $ par personne plus taxes\, incluant les repas \nChambre solo : 418 $ par personne plus taxes\, incluant les repas \nUn dépôt non remboursable de 100 $ confirmera votre inscription \n  \n\n	Remarque : JavaScript est requis pour ce contenu.
URL:https://kio-o.ca/evenement/chanter-une-rencontre-avec-soi-avec-marie-claire-seguin-4/
LOCATION:Kio-o\, 1905 Chemin du rang 6\, Sainte-Lucie\, Québec\, J0T 2J0\, Canada
CATEGORIES:Expression créative
ATTACH;FMTTYPE=image/png:https://kio-o.ca/wp-content/uploads/2024/03/Capture-decran-le-2024-03-22-a-15.04.41.png
ORGANIZER;CN="Marie-Claire S%C3%A9guin":MAILTO:info@kio-o.ca
GEO:46.132966;-74.1940374
X-APPLE-STRUCTURED-LOCATION;VALUE=URI;X-ADDRESS=Kio-o 1905 Chemin du rang 6 Sainte-Lucie Québec J0T 2J0 Canada;X-APPLE-RADIUS=500;X-TITLE=1905 Chemin du rang 6:geo:-74.1940374,46.132966
END:VEVENT
BEGIN:VEVENT
DTSTART;VALUE=DATE:20241129
DTEND;VALUE=DATE:20241203
DTSTAMP:20260419T192909
CREATED:20240729T215816Z
LAST-MODIFIED:20240919T142004Z
UID:10006204-1732838400-1733183999@kio-o.ca
SUMMARY:Biodanza LE PROJET MINOTAURE avec Catherine Fabiola Lessard
DESCRIPTION:LE PROJET MINOTAURE\nUn hymne à notre immense courage de vivre !\nUn incontournable de l’approfondissement en Biodanza\n\nÀ une croisée des chemins\, devant le seuil d’une nouvelle porte à ouvrir\, à l’entrée d’un corridor sombre et inconnu … que faire ?\n\nRebrousser chemin ? Laisser les conditionnements nous freiner ? Laisser les autres décider ? Tout ignorer et retrouver nos habitudes ?\n\nOu bien oser passer le seuil\, avoir l’audace de confronter la peur viscérale\, traverser le chaos intérieur\, et rencontrer ce qui vibre au plus profond de nous\, derrière la peur\, pour découvrir que la vie s’offre exactement et entièrement de l’autre côté\, splendide et indomptable !\n\nCe stage\, ce joyaux poétique et thérapeutique de la Biodanza\, nous invite à entrer courageusement dans notre propre labyrinthe. Il invite à répondre à l’appel de la part la plus instinctive et innocente de nous : l’humain-animal en quête de vitalité retrouvée\, de plénitude irréductible et de joie intense de vivre.\n\nVivre pleinement implique de faire sans cesse un pacte avec l’existence\, quelque soit notre âge. Vivre pleinement implique de prendre un risque : le risque de franchir les limitantes frontières de la peur de vivre (souvent aussi forte que la peut de mourir).\n\nCatherine et Horácio vous invitent à prendre ce beau-risque\, à faire ce pacte. Ils vous accompagneront de tout leur coeur et de tout leur savoir-faire\, afin que vous puissiez être les héros de votre propre auto-dépassement\, les hardis de votre propre mythe-de-transformation !
URL:https://kio-o.ca/evenement/biodanza-le-projet-minotaure-avec-catherine-fabiola-lessard/
LOCATION:Kio-o\, 1905 Chemin du rang 6\, Sainte-Lucie\, Québec\, J0T 2J0\, Canada
CATEGORIES:Expression créative,Mouvement
ATTACH;FMTTYPE=image/png:https://kio-o.ca/wp-content/uploads/2024/07/Capture-decran-le-2024-07-27-a-13.40.14.png
ORGANIZER;CN="CATHERINE FABIOLA LESSARD":MAILTO:catherine.lessard@hotmail.com
GEO:46.132966;-74.1940374
X-APPLE-STRUCTURED-LOCATION;VALUE=URI;X-ADDRESS=Kio-o 1905 Chemin du rang 6 Sainte-Lucie Québec J0T 2J0 Canada;X-APPLE-RADIUS=500;X-TITLE=1905 Chemin du rang 6:geo:-74.1940374,46.132966
END:VEVENT
END:VCALENDAR