BEGIN:VCALENDAR
VERSION:2.0
PRODID:-//Kio-o - ECPv6.15.12.2//NONSGML v1.0//EN
CALSCALE:GREGORIAN
METHOD:PUBLISH
X-WR-CALNAME:Kio-o
X-ORIGINAL-URL:https://kio-o.ca
X-WR-CALDESC:Évènements pour Kio-o
REFRESH-INTERVAL;VALUE=DURATION:PT1H
X-Robots-Tag:noindex
X-PUBLISHED-TTL:PT1H
BEGIN:VTIMEZONE
TZID:America/New_York
BEGIN:DAYLIGHT
TZOFFSETFROM:-0500
TZOFFSETTO:-0400
TZNAME:EDT
DTSTART:20190310T070000
END:DAYLIGHT
BEGIN:STANDARD
TZOFFSETFROM:-0400
TZOFFSETTO:-0500
TZNAME:EST
DTSTART:20191103T060000
END:STANDARD
BEGIN:DAYLIGHT
TZOFFSETFROM:-0500
TZOFFSETTO:-0400
TZNAME:EDT
DTSTART:20200308T070000
END:DAYLIGHT
BEGIN:STANDARD
TZOFFSETFROM:-0400
TZOFFSETTO:-0500
TZNAME:EST
DTSTART:20201101T060000
END:STANDARD
BEGIN:DAYLIGHT
TZOFFSETFROM:-0500
TZOFFSETTO:-0400
TZNAME:EDT
DTSTART:20210314T070000
END:DAYLIGHT
BEGIN:STANDARD
TZOFFSETFROM:-0400
TZOFFSETTO:-0500
TZNAME:EST
DTSTART:20211107T060000
END:STANDARD
END:VTIMEZONE
BEGIN:VEVENT
DTSTART;VALUE=DATE:20200529
DTEND;VALUE=DATE:20200601
DTSTAMP:20260424T063124
CREATED:20190523T195637Z
LAST-MODIFIED:20200410T132606Z
UID:10005872-1590710400-1590969599@kio-o.ca
SUMMARY:Rites pour femmes\, rites pour hommes - ANNULÉ
DESCRIPTION:avec Catherine Dacjzman et Stéphane Crête\nEmbrasser nos polarités\, embrasser l’unité\n\n\nCette retraite en nature se veut un lieu et un temps d’échange pour entrer dans de nouveaux paradigmes de relations hommes femmes.   \n Au-delà des stéréotypes et des polarités\, nous souhaitons offrir un espace rituel et créatif où la collaboration et l’union l’emportent sur la rivalité et la division. \nUn lieu sain pour célébrer le masculin et le féminin en soi. Un espace de vérité et de sécurité pour nous permettre de voir avec plus d’acuité ce qui demande à être transformé. Un terrain de pratique pour se solidariser et agir ensemble\, comme deux soleils sous une unique couronne.  \nUn temps de sororité\, un temps de fraternité\, un temps de collectivité.
URL:https://kio-o.ca/evenement/rites-pour-femmes-rites-pour-hommes-2020-05-28/
LOCATION:Kio-o\, 1905 Chemin du rang 6\, Sainte-Lucie\, Québec\, J0T 2J0\, Canada
CATEGORIES:Développement personnel,Expression créative
ATTACH;FMTTYPE=image/jpeg:https://kio-o.ca/wp-content/uploads/2019/05/Trefle_RitesHommesFemmes-uai-258x258.jpg
ORGANIZER;CN="Ho Rites de passage":MAILTO:info@horites.com
GEO:46.132966;-74.1940374
X-APPLE-STRUCTURED-LOCATION;VALUE=URI;X-ADDRESS=Kio-o 1905 Chemin du rang 6 Sainte-Lucie Québec J0T 2J0 Canada;X-APPLE-RADIUS=500;X-TITLE=1905 Chemin du rang 6:geo:-74.1940374,46.132966
END:VEVENT
END:VCALENDAR