BEGIN:VCALENDAR
VERSION:2.0
PRODID:-//Kio-o - ECPv6.15.12.2//NONSGML v1.0//EN
CALSCALE:GREGORIAN
METHOD:PUBLISH
X-ORIGINAL-URL:https://kio-o.ca
X-WR-CALDESC:Évènements pour Kio-o
REFRESH-INTERVAL;VALUE=DURATION:PT1H
X-Robots-Tag:noindex
X-PUBLISHED-TTL:PT1H
BEGIN:VTIMEZONE
TZID:America/New_York
BEGIN:DAYLIGHT
TZOFFSETFROM:-0500
TZOFFSETTO:-0400
TZNAME:EDT
DTSTART:20200308T070000
END:DAYLIGHT
BEGIN:STANDARD
TZOFFSETFROM:-0400
TZOFFSETTO:-0500
TZNAME:EST
DTSTART:20201101T060000
END:STANDARD
BEGIN:DAYLIGHT
TZOFFSETFROM:-0500
TZOFFSETTO:-0400
TZNAME:EDT
DTSTART:20210314T070000
END:DAYLIGHT
BEGIN:STANDARD
TZOFFSETFROM:-0400
TZOFFSETTO:-0500
TZNAME:EST
DTSTART:20211107T060000
END:STANDARD
BEGIN:DAYLIGHT
TZOFFSETFROM:-0500
TZOFFSETTO:-0400
TZNAME:EDT
DTSTART:20220313T070000
END:DAYLIGHT
BEGIN:STANDARD
TZOFFSETFROM:-0400
TZOFFSETTO:-0500
TZNAME:EST
DTSTART:20221106T060000
END:STANDARD
END:VTIMEZONE
BEGIN:VEVENT
DTSTART;VALUE=DATE:20210627
DTEND;VALUE=DATE:20210705
DTSTAMP:20260422T085904
CREATED:20210426T145206Z
LAST-MODIFIED:20210427T130408Z
UID:10005957-1624752000-1625443199@kio-o.ca
SUMMARY:École d’Été en pratique rituelle - Équipe de Ho Rites de Passage
DESCRIPTION:École d’Été en pratique rituelle\nUn grand rassemblement franco-québécois pour s’initier à la puissance de la pratique rituelle\n\n\nL’École d’Été en pratique rituelle est un événement de formation offert au Québec sur une base annuelle. C’est un un joyeux rassemblement de créatifs culturels\, d’anciens et de nouveaux étudiants de notre communauté ainsi que d’amoureux des rituels qui se côtoient dans un vaste laboratoire de recherche et d’expérimentation. Des vacances pour se ressourcer tout en travaillant sur soi\, dans la joie et la célébration! \nL’École d’Été de HO réunit des étudiants du Québec et de l’Europe francophone\, toutes années confondues\, pour réfléchir\, pratiquer et traduire d’anciennes pratiques rituelles en termes contemporains. Les classes sont offertes par des pionniers de la pratique rituelle au Québec venant de milieux divers. \nTenant à la fois du festival et de l’apprentissage intensif\, cette École d’Été est soutenue par des méditations quotidiennes\, yoga\, baignades\, repas végétariens\, conférences\, films\, soirées de danse et moments collectifs de silence.
URL:https://kio-o.ca/evenement/ecole-dete-en-pratique-rituelle-equipe-de-ho-rites-de-passage/
LOCATION:Kio-o\, 1905 Chemin du rang 6\, Sainte-Lucie\, Québec\, J0T 2J0\, Canada
CATEGORIES:Développement personnel,Expression créative,Méditation,Mouvement,Rituel
ATTACH;FMTTYPE=image/jpeg:https://kio-o.ca/wp-content/uploads/2021/04/0.jpg
ORGANIZER;CN="Ho Rites de passage":MAILTO:info@horites.com
GEO:46.132966;-74.1940374
X-APPLE-STRUCTURED-LOCATION;VALUE=URI;X-ADDRESS=Kio-o 1905 Chemin du rang 6 Sainte-Lucie Québec J0T 2J0 Canada;X-APPLE-RADIUS=500;X-TITLE=1905 Chemin du rang 6:geo:-74.1940374,46.132966
END:VEVENT
BEGIN:VEVENT
DTSTART;VALUE=DATE:20210709
DTEND;VALUE=DATE:20210712
DTSTAMP:20260422T085904
CREATED:20210228T211927Z
LAST-MODIFIED:20210613T142617Z
UID:10005955-1625788800-1626047999@kio-o.ca
SUMMARY:Méditations actives avec Martin Bilodeau - Complet
DESCRIPTION:Découvrez la puissance des méditations actives\n\n\nVenez découvrir 6 nouvelles pratiques de méditation active avec moi l’été prochain !\n\n\n\n\nCes pratiques ont été créées par Osho spécifiquement pour l’homme moderne. \nElles vous permettront d’évacuer votre stress\, de libérer vos émotions et de calmer votre mental pour vivre de véritable moment d’éveil. Cette fin de semaine s’adressent aux participants de tous les âges et de toutes les conditions physiques. Chacun est encouragé à suivre son rythme afin de simplement permettre à l’énergie de l’habiter en respectant son état dans le moment présent. \nMantras\, mouvements en conscience\, tremblements\, danse intuitive\, cri libérateur… Cette forme de méditation est très diversifiée. Elle permet de se défouler et de se libérer complètement\, pour ensuite tourner son esprit au centre de soi. Après avoir libéré le corps et le mental\, vous vous déposez au centre du cyclone. Ces pratiques vous invitent à découvrir le centre de pouvoir stable et puissant qui est en vous. Elles permettent également d’associer votre pratique de la méditation à une activité physique. \nVous recevrez tout au long de la fin de semaine des enseignements sur l’essence de la méditation\, de la kundalini et sur chacune des pratiques qui vous sera proposée. \nDans cette retraite de célébration\, vous ferez l’expérience des pratiques suivantes qui seront adaptées selon l’énergie du moment : \nKundalini (4 phases : tremblement du corps\, danse méditative\, expansion de conscience\, centration) \nNadabrahma (3 phases : humming (mantra om intérieur)\, mudras (posture des mains) en action\, vipassana) \nChakra breathing (7 phases de respiration active avec chacun des chakras et léger tremblement du corps) \nGourishankar (4 phases : pranayama (respiration)\, méditation avec une flamme\, danse intuitive\, détente profonde) \nNo dimension (3 phases : danse soufisme\, tournoiement\, méditation guidée) \nPower shaking (4 phases : tremblement\, carthasis\, méditation\, danse) \nDes trames musicales spéciales accompagnent chacun de ces processus pour les rendre encore plus inspirant et libérateur ! \n\n\n\nLES BIENFAITS \n\nLibère les tensions physiques\, émotives et mentales\nFortifie le corps et stimule le système immunitaire\nStimule la kundalini (cette énergie vitale qui circule le long de la colonne vertébrale)\nFacilite la guérison en accentuant la régénération des tissus\, des organes et autres fonctions corporelles\nRéveille l’énergie sexuelle et sensuelle\nPermet de retrouver un bien-être dans son corps\nRedonne au corps sa liberté d’action\, l’intelligence naturelle du mouvement et de la spontanéité\nPermet de connecter plus librement avec son inspiration et ses idées créatrices\nAide à perdre du poids par l’accélération de son métabolisme et par la transpiration
URL:https://kio-o.ca/evenement/retraite-dinitiation-avec-martin-bilodeau/
LOCATION:Kio-o\, 1905 Chemin du rang 6\, Sainte-Lucie\, Québec\, J0T 2J0\, Canada
CATEGORIES:Méditation,Mouvement
ATTACH;FMTTYPE=image/jpeg:https://kio-o.ca/wp-content/uploads/2021/02/retraite_mediactive4.jpg
ORGANIZER;CN="Martin Bilodeau Auteur%2C auteur%2C conf%C3%A9rencier et enseignant":MAILTO:info@martinbilodeau.com
GEO:46.132966;-74.1940374
X-APPLE-STRUCTURED-LOCATION;VALUE=URI;X-ADDRESS=Kio-o 1905 Chemin du rang 6 Sainte-Lucie Québec J0T 2J0 Canada;X-APPLE-RADIUS=500;X-TITLE=1905 Chemin du rang 6:geo:-74.1940374,46.132966
END:VEVENT
BEGIN:VEVENT
DTSTART;VALUE=DATE:20210709
DTEND;VALUE=DATE:20210713
DTSTAMP:20260422T085904
CREATED:20210219T194005Z
LAST-MODIFIED:20210613T142731Z
UID:10005937-1625788800-1626134399@kio-o.ca
SUMMARY:Fin de semaine de yoga et méditation - Bram Levinson - Complet
DESCRIPTION:Fin de semaine de yoga et méditation \nNous entamons\, un nouveau départ\, un nouveau cycle avec un long week-end  de retraite de yoga et méditation dans dans la belle campagne québécoise des Laurentides ! \nSitué dans un beau secteur\, nous aurons accès à des sentiers de marche et de randonnée\, un espace feu de camp extérieur et beaucoup de calme et de tranquillité. Tous les repas végétariens sont inclus\, tout comme les chambres et tous les cours de méditation et de yoga. Le wifi gratuit est également disponible dans toutes les zones du centre. \nRejoignez-nous pour cette opportunité de lancer la deuxième moitié de l’année 2021 avec un nouvel état d’esprit\, de vous ressourcer et de vous immerger dans la beauté de la nature pour un peu de paix\, de calme et de tranquillité. \nContactez Bram ici pour plus d’information.
URL:https://kio-o.ca/evenement/fin-de-semaine-de-yoga-et-meditation-bram-levinson/
LOCATION:Kio-o\, 1905 Chemin du rang 6\, Sainte-Lucie\, Québec\, J0T 2J0\, Canada
CATEGORIES:Méditation,Yoga
ATTACH;FMTTYPE=image/jpeg:https://kio-o.ca/wp-content/uploads/2018/02/bouddha.jpg
ORGANIZER;CN="Bram Levinson":MAILTO:bram.levinson@gmail.com
GEO:46.132966;-74.1940374
X-APPLE-STRUCTURED-LOCATION;VALUE=URI;X-ADDRESS=Kio-o 1905 Chemin du rang 6 Sainte-Lucie Québec J0T 2J0 Canada;X-APPLE-RADIUS=500;X-TITLE=1905 Chemin du rang 6:geo:-74.1940374,46.132966
END:VEVENT
BEGIN:VEVENT
DTSTART;VALUE=DATE:20210723
DTEND;VALUE=DATE:20210726
DTSTAMP:20260422T085904
CREATED:20210523T175033Z
LAST-MODIFIED:20210528T153849Z
UID:10005737-1626998400-1627257599@kio-o.ca
SUMMARY:QiGong avec Lise Lapointe
DESCRIPTION:🤗Besoin de prendre soin de toi et de ta vie … Tu aimes le QiGong\, la méditation et prendre du temps pour améliorer ta vie … Ce we est pour toi !!!\nBienvenue à la 9 édition du we zen!!!\nWeekend zen QiGong\, méditation et ateliers de ressourcement et de croissance au  Centre Kio-o : \nLe monde a changé .. on continue ensemble d’améliorer nos vies \net le monde dans lequel nous vivons. \nContenu de la fin de semaine \n☯️ Mouvements de QiGong été \n☯️ QiGong pour préparer un bel été\, un système immunitaire en santé\, paix\, sécurité\, joie\, vitalité …. \n☯️ Méditation taoïste\, des 5 sons\, du temple des immortels\, de la glande pinéale\, du coeur … \n☯️ Un peu de théorie en lien avec 2020.( l’importance d’augmenter sont taux  vibratoires\, l’enracinement entre terre et ciel\, renforcer nos WeiQi\, méthodes simples et efficace pour libérer nos émotions et rester dans notre centre de paix\, cocréer ce qui est essentiel dans sa vie …) \n🙏 Bienvenue à ton weekend zen pour prendre soin de toi et ta vie et bien traverser cette période de transformation unique et humanitaire 🌎💓☯️🌈 \nLe vendredi nous arrivons entre 16 h et 18 h. \nSi vous ne connaissez pas l’école de QiGong Lise Lapointe  \nPour plus d’informations n’hésitez pas à communiquer avec nous. Une brève rencontre zoom ou téléphonique est proposée pour échanger sur vos besoins. \n​ \nÀ la joie de vivre cette belle fin de semaine avec vous. \nLise
URL:https://kio-o.ca/evenement/qigong-avec-lise-lapointe/2021-07-23/
LOCATION:Kio-o\, 1905 Chemin du rang 6\, Sainte-Lucie\, Québec\, J0T 2J0\, Canada
CATEGORIES:Méditation,Mouvement,Qi Gong
ATTACH;FMTTYPE=image/jpeg:https://kio-o.ca/wp-content/uploads/2016/09/Lise-Lapointe.jpg
ORGANIZER;CN="Lise Lapointe":MAILTO:liselapointeqigong@yahoo.com
GEO:46.132966;-74.1940374
X-APPLE-STRUCTURED-LOCATION;VALUE=URI;X-ADDRESS=Kio-o 1905 Chemin du rang 6 Sainte-Lucie Québec J0T 2J0 Canada;X-APPLE-RADIUS=500;X-TITLE=1905 Chemin du rang 6:geo:-74.1940374,46.132966
END:VEVENT
BEGIN:VEVENT
DTSTART;VALUE=DATE:20210730
DTEND;VALUE=DATE:20210802
DTSTAMP:20260422T085904
CREATED:20210408T142203Z
LAST-MODIFIED:20210408T142718Z
UID:10005958-1627603200-1627862399@kio-o.ca
SUMMARY:Tout sur la respiration avec Lily Champagne
DESCRIPTION:« On ne fabrique pas le souffle\, on le reçoit. »  \n Frère Odilon Cassidy \nLe merveilleux monde du souffle est à la portée de tous\, jeune ou vieux\, en pleine santé ou dans les moments où le corps est plus fragile\, seul ou en groupe\, riche ou pauvre\, peu importe la condition dans laquelle on se trouve le souffle est toujours là\, fidèle\, ne nous laissant jamais tomber. De la première inspiration au début de notre vie jusqu’à notre dernière expiration lors de notre grand départ. \nEt ce qui est merveilleux\, est que tout cela se fait sur un mode naturel…. Comme sur un pilote automatique à partir de notre première respiration. Extraordinaire non? Et pourtant ce pilote automatique nous joue des tours car on ne sait pas tout le pouvoir que le souffle peut nous offrir. \nC’est cela que nous allons découvrir tout au long de cet atelier en regardant chacun de ces éléments. \n*Le souffle: la qualité\, la régularité et le lieu. \n  \n*Le mouvement: l’expiration\, l’inspiration\, les rétentions poumons pleins et poumons vides et le mouvement de prâna et d’apâna. \n  \n*Les effets: Brhimana\, Langhana\, Samâna \n  \n*La notion de lieu:  Desha \n  \n*La notion de temps et de rythme: Kâla ( longueur\, durée et rythme) \n  \n*La notion de nombre: Samkhyâ  \n  \n« Respirer consciemment c’est maîtriser sa respiration mais c’est aussi entrer en symbiose avec le mouvement de l’infiniment grand et de l’infiniment petit qui est à l’intérieur de nous. Respirer consciemment\, c’est la possibilité de se relier à ce qu’il y a de plus grand en Nous. »  \n  \nLa posture s’intéresse plus au corps alors que le souffle s’intéresse davantage à l’esprit. Voici un mot important qui va nous accompagner tout au long de cet atelier pour approfondir le souffle.
URL:https://kio-o.ca/evenement/tout-sur-la-respiration-avec-lily-champagne/
LOCATION:Kio-o\, 1905 Chemin du rang 6\, Sainte-Lucie\, Québec\, J0T 2J0\, Canada
CATEGORIES:Méditation,Yoga
ATTACH;FMTTYPE=image/png:https://kio-o.ca/wp-content/uploads/2021/04/Capture-décran-le-2021-04-08-à-10.11.27.png
ORGANIZER;CN="Lily Champagne":MAILTO:viniyoga@lilychampagne.com
GEO:46.132966;-74.1940374
X-APPLE-STRUCTURED-LOCATION;VALUE=URI;X-ADDRESS=Kio-o 1905 Chemin du rang 6 Sainte-Lucie Québec J0T 2J0 Canada;X-APPLE-RADIUS=500;X-TITLE=1905 Chemin du rang 6:geo:-74.1940374,46.132966
END:VEVENT
BEGIN:VEVENT
DTSTART;VALUE=DATE:20210730
DTEND;VALUE=DATE:20210802
DTSTAMP:20260422T085904
CREATED:20210526T160750Z
LAST-MODIFIED:20210528T140934Z
UID:10005749-1627603200-1627862399@kio-o.ca
SUMMARY:Yoga et Méditation - Stéphanie Kitembo
DESCRIPTION:Retraite de yoga\n\nNous vous bichonnerons à l’aide de plusieurs classes de yoga à partir du vendredi soir jusqu’au dimanche début d’après-midi. Vous aurez aussi du temps juste pour être dans la merveilleuse nature des Laurentides\, ou pour lire\, ou dessiner\, ou écrire. Ce que vous mangerez sera succulent et végétarien. Croyez moi\, les cuisiniers du centre sont extras !\n\nSans oublier de mettre en lumière\, que Lise prend toutes les précautions nécessaires pour respecter les normes sanitaires.\n\nAtmosphère très très agréable assurée \nPrix et horaires Informations / sur demande.\nPlaces limitées. \nMerci de votre confiance.
URL:https://kio-o.ca/evenement/yoga-et-meditation-stephanie-kitembo/2021-07-30/
LOCATION:Kio-o\, 1905 Chemin du rang 6\, Sainte-Lucie\, Québec\, J0T 2J0\, Canada
CATEGORIES:Méditation,Mouvement,Yoga
ATTACH;FMTTYPE=image/jpeg:https://kio-o.ca/wp-content/uploads/2021/05/Stéphanie-Kitembo.jpg
ORGANIZER;CN="St%C3%A9phanie Kitembo":MAILTO:kitembo31@gmail.com
GEO:46.132966;-74.1940374
X-APPLE-STRUCTURED-LOCATION;VALUE=URI;X-ADDRESS=Kio-o 1905 Chemin du rang 6 Sainte-Lucie Québec J0T 2J0 Canada;X-APPLE-RADIUS=500;X-TITLE=1905 Chemin du rang 6:geo:-74.1940374,46.132966
END:VEVENT
END:VCALENDAR