BEGIN:VCALENDAR
VERSION:2.0
PRODID:-//Kio-o - ECPv6.15.12.2//NONSGML v1.0//EN
CALSCALE:GREGORIAN
METHOD:PUBLISH
X-ORIGINAL-URL:https://kio-o.ca
X-WR-CALDESC:Évènements pour Kio-o
REFRESH-INTERVAL;VALUE=DURATION:PT1H
X-Robots-Tag:noindex
X-PUBLISHED-TTL:PT1H
BEGIN:VTIMEZONE
TZID:America/New_York
BEGIN:DAYLIGHT
TZOFFSETFROM:-0500
TZOFFSETTO:-0400
TZNAME:EDT
DTSTART:20210314T070000
END:DAYLIGHT
BEGIN:STANDARD
TZOFFSETFROM:-0400
TZOFFSETTO:-0500
TZNAME:EST
DTSTART:20211107T060000
END:STANDARD
BEGIN:DAYLIGHT
TZOFFSETFROM:-0500
TZOFFSETTO:-0400
TZNAME:EDT
DTSTART:20220313T070000
END:DAYLIGHT
BEGIN:STANDARD
TZOFFSETFROM:-0400
TZOFFSETTO:-0500
TZNAME:EST
DTSTART:20221106T060000
END:STANDARD
BEGIN:DAYLIGHT
TZOFFSETFROM:-0500
TZOFFSETTO:-0400
TZNAME:EDT
DTSTART:20230312T070000
END:DAYLIGHT
BEGIN:STANDARD
TZOFFSETFROM:-0400
TZOFFSETTO:-0500
TZNAME:EST
DTSTART:20231105T060000
END:STANDARD
END:VTIMEZONE
BEGIN:VEVENT
DTSTART;VALUE=DATE:20220627
DTEND;VALUE=DATE:20220702
DTSTAMP:20260421T101131
CREATED:20220516T164300Z
LAST-MODIFIED:20220516T164724Z
UID:10006021-1656288000-1656719999@kio-o.ca
SUMMARY:École d'été - Ho Rites de Passage
DESCRIPTION:Nous sommes très heureux de vous présenter notre École d’Été 2022\nL’École d’Été en pratique rituelle est un événement de formation offert au Québec sur une base annuelle. C’est un un joyeux rassemblement de créatifs culturels\, d’anciens et de nouveaux étudiants de notre communauté ainsi que d’amoureux des rituels qui se côtoient dans un vaste laboratoire de recherche et d’expérimentation. Des vacances pour se ressourcer tout en travaillant sur soi\, dans la joie et la célébration! \nL’École d’Été de HO réunit des étudiants du Québec et de l’Europe francophone\, toutes années confondues\, pour réfléchir\, pratiquer et traduire d’anciennes pratiques rituelles en termes contemporains. Les classes sont offertes par des pionniers de la pratique rituelle au Québec venant de milieux divers. \nTenant à la fois du festival et de l’apprentissage intensif\, cette École d’Été est soutenue par des méditations quotidiennes\, yoga\, baignades\, repas végétariens\, conférences\, films\, soirées de danse et moments collectifs de silence. \n\n\n\n\n\n\nÉcole d’Été en pratique rituelle\nUn grand rassemblement franco-québécois pour s’initier à la puissance de la pratique rituelle\n\n\nPROGRAMMATION 2022\nCliquez sur l’atelier ou l’activité choisi pour accéder à l’inscription. \n\nLe Voyage du héros\, répondre à l’appel pour retrouver le sens sacré de la vie\, du 27 au 30 juin.\n416$+tx (478\,30$)\nL’appel du héros\, de l’héroïne\, c’est la voix de l’âme\, à l’intérieur\, qui veut s’éveiller\, se connecter\, créer\, honorer la vie. Plonger dans le voyage du héros\, de l’héroïne\, c’est oser l’aventure vers soi\, oser marcher son chemin\, dans la meilleure version de soi-même. Entendez-vous cet appel\, cette invitation à partir à la recherche de votre trésor?\nCet atelier est facilité par Barbara Hébert et Dominique Owen.\nLa Journée Communauté du 1er juillet est offerte avec cet atelier. Hébergements en pension complète en plus.\nRites de terre et spiritualité de la nature\, du 27 au 30 juin.\n416$+tx (478\,30$)\nUne initiation puissante au rituel dans l’esprit du mouvement « Earth Consciousness ». Facilité par Gordon Robertson\, ce stage permet une rencontre unique avec les éléments que sont l’eau\, le vent\, la terre et le feu. 3 jours pour honorer notre lien à la terre et au ciel\, à travers des cérémonies et des danses ancestrales et l’initiation à la roue de médecine.\nLa Journée Communauté du 1er juillet est offerte avec cet atelier. Hébergements en pension complète en plus.\nLa Journée Communauté\, du 30 juin au soir au 1er juillet.\n99$+tx (113.83$)\nLe 30 juin\, en soirée\, concert d’été\, avec Sundaram.\nLe 1er juillet\, conférence-atelier sur le thème Univers symbolique et rituel\, animé par Claudine Papin et soutenue par Marie-Hélène Ouellette.\nVous pouvez assister uniquement à la Journée Communauté\, hébergement et repas en sus.\n\nL’École d’Été se déroule au Centre Kio-o\, un lieu de ressourcement unique situé à Ste-Lucie-des-Laurentides\, à environ 100 km de Montréal\, au cœur d’un domaine de 125 acres dans les magnifiques montagnes des Laurentides. Atmosphère calme\, lac privé\, splendide vue de la falaise\, montagnes\, sentiers pédestres\, silence\, air pur\, gazebo au bord de l’eau\, espaces de feux extérieurs\, chambres accueillantes\, repas végétariens… \nVous adorerez ! \nTÉLÉCHARGER LE DOCUMENT PDF \nLes places sont limitées: ne tardez pas à vous inscrire!\nDate limite d’inscription avant le 13 juin.\nLe paiement des ateliers choisis confirme votre inscription. \n\n\nVous pouvez participer à l’École d’été en vous inscrivant individuellement à l’activité et atelier choisi.\nPour plus d’informations\, écrivez-nous à info@horites.com\n\nVoir la fiche
URL:https://kio-o.ca/evenement/ecole-dete-ho-rites-de-passage-2/
LOCATION:Kio-o\, 1905 Chemin du rang 6\, Sainte-Lucie\, Québec\, J0T 2J0\, Canada
CATEGORIES:Développement personnel,Expression créative,Méditation,Rituel
ATTACH;FMTTYPE=image/png:https://kio-o.ca/wp-content/uploads/2022/05/Capture-décran-le-2022-05-16-à-12.41.20.png
ORGANIZER;CN="Ho Rites de passage":MAILTO:info@horites.com
GEO:46.132966;-74.1940374
X-APPLE-STRUCTURED-LOCATION;VALUE=URI;X-ADDRESS=Kio-o 1905 Chemin du rang 6 Sainte-Lucie Québec J0T 2J0 Canada;X-APPLE-RADIUS=500;X-TITLE=1905 Chemin du rang 6:geo:-74.1940374,46.132966
END:VEVENT
BEGIN:VEVENT
DTSTART;VALUE=DATE:20220701
DTEND;VALUE=DATE:20220704
DTSTAMP:20260421T101131
CREATED:20211213T145414Z
LAST-MODIFIED:20211213T145414Z
UID:10005977-1656633600-1656892799@kio-o.ca
SUMMARY:RETRAITE INITIATIQUE avec Cécile Purusha Hontoy
DESCRIPTION:RETRAITE INITIATIQUE \nUne retraite initiatique propose un environnement sacré transmetteur d’enseignement personnalisé et de groupe. Ces enseignements sont accompagnés de rituels de passation énergétique puissants\, initiatiques et chamaniques et en nature. Cette retraite s’adresse aux personnes ouvertes à écouter et vivre des enseignements spirituels différents et à développer leur propre différence positive dans leur vie\, leur entreprise et dans le monde. \n  \nPour plus d’information cliquez ici \n 
URL:https://kio-o.ca/evenement/retraite-initiatique-avec-cecile-purusha-hontoy/
LOCATION:Kio-o\, 1905 Chemin du rang 6\, Sainte-Lucie\, Québec\, J0T 2J0\, Canada
CATEGORIES:Développement personnel,Méditation,Mouvement,Rituel,Yoga
ATTACH;FMTTYPE=image/jpeg:https://kio-o.ca/wp-content/uploads/2021/12/Purusha-chapeau.jpg
ORGANIZER;CN="C%C3%A9cile-Purusha Hontoy ( swami Purusha )":MAILTO:purushahontoy@hotmail.com
GEO:46.132966;-74.1940374
X-APPLE-STRUCTURED-LOCATION;VALUE=URI;X-ADDRESS=Kio-o 1905 Chemin du rang 6 Sainte-Lucie Québec J0T 2J0 Canada;X-APPLE-RADIUS=500;X-TITLE=1905 Chemin du rang 6:geo:-74.1940374,46.132966
END:VEVENT
BEGIN:VEVENT
DTSTART;VALUE=DATE:20220703
DTEND;VALUE=DATE:20220709
DTSTAMP:20260421T101131
CREATED:20211213T145755Z
LAST-MODIFIED:20220114T182942Z
UID:10005764-1656806400-1657324799@kio-o.ca
SUMMARY:LA RETRAITE SPIRITUELLE et la QUÊTE DE SENS avec Cécile Purusha Hontoy
DESCRIPTION:LA RETRAITE SPIRITUELLE et la QUÊTE DE SENS \nLa retraite spirituelle et la quête de sens permet l’arrêt des activités extérieures et un ressourcement intense. \nCela se présente comme  une semaine de retraite en nature\, en forêt\,  pour communiquer avec soi-même\, le silence\, les forces et les esprits bienfaisants de la nature. \nCette retraite s’adresse aux personnes ouvertes à vivre et à s’impliquer un grand rituel ancien de quête de sens. \nElles cherchent à définir leur vie et à faire les choix qui sont congruents avec leurs priorités. \n  \nPour plus d’information cliquez ici
URL:https://kio-o.ca/evenement/la-retraite-spirituelle-et-la-quete-de-sens-avec-cecile-purusha-hontoy/
LOCATION:Kio-o\, 1905 Chemin du rang 6\, Sainte-Lucie\, Québec\, J0T 2J0\, Canada
CATEGORIES:Développement personnel,Expression créative,Méditation,Mouvement,Rituel,Yoga
ATTACH;FMTTYPE=image/jpeg:https://kio-o.ca/wp-content/uploads/2021/12/Purusha-chapeau.jpg
ORGANIZER;CN="C%C3%A9cile-Purusha Hontoy ( swami Purusha )":MAILTO:purushahontoy@hotmail.com
GEO:46.132966;-74.1940374
X-APPLE-STRUCTURED-LOCATION;VALUE=URI;X-ADDRESS=Kio-o 1905 Chemin du rang 6 Sainte-Lucie Québec J0T 2J0 Canada;X-APPLE-RADIUS=500;X-TITLE=1905 Chemin du rang 6:geo:-74.1940374,46.132966
END:VEVENT
BEGIN:VEVENT
DTSTART;VALUE=DATE:20220707
DTEND;VALUE=DATE:20220711
DTSTAMP:20260421T101131
CREATED:20220516T155222Z
LAST-MODIFIED:20220709T145121Z
UID:10006006-1657152000-1657497599@kio-o.ca
SUMMARY:Devenez guide de méditations avec Martin Bilodeau
DESCRIPTION:Pour télécharger le document pdf cliquez ici  \n  \n 
URL:https://kio-o.ca/evenement/devenez-guide-de-meditations-avec-martin-bilodeau/2022-07-07/
LOCATION:Kio-o\, 1905 Chemin du rang 6\, Sainte-Lucie\, Québec\, J0T 2J0\, Canada
CATEGORIES:Méditation
ATTACH;FMTTYPE=image/png:https://kio-o.ca/wp-content/uploads/2022/05/devenez-guide-meditation-cover.png
ORGANIZER;CN="Martin Bilodeau Auteur%2C auteur%2C conf%C3%A9rencier et enseignant":MAILTO:info@martinbilodeau.com
GEO:46.132966;-74.1940374
X-APPLE-STRUCTURED-LOCATION;VALUE=URI;X-ADDRESS=Kio-o 1905 Chemin du rang 6 Sainte-Lucie Québec J0T 2J0 Canada;X-APPLE-RADIUS=500;X-TITLE=1905 Chemin du rang 6:geo:-74.1940374,46.132966
END:VEVENT
BEGIN:VEVENT
DTSTART;VALUE=DATE:20220710
DTEND;VALUE=DATE:20220716
DTSTAMP:20260421T101131
CREATED:20210222T220942Z
LAST-MODIFIED:20230208T192915Z
UID:10006093-1657411200-1657929599@kio-o.ca
SUMMARY:Retraite Zen Satori avec ChandraKala et son équipe
DESCRIPTION:RETRAITE ZEN SATORI \nEn silence ou en exercices de communication\, cette pratique de présence basée sur l’exploration de koans de vie permet d’explorer le mystérieux labyrinthe de sa propre condition humaine avec un regard qui devient de plus en plus bienveillant face à soi\, face aux autres.\nLe processus est encadré par une structure Zen qui supporte une expérience amenant profondément en soi pour pouvoir réconcilier tous les aspects qui font d’une personne un être humain unique et complet tel qu’il est – ombres et lumière. \nUn koan est une quête\, un questionnement de fond sur des thèmes fondamentaux :\nQui suis-je ? Qui est à l’intérieur ? Ce qu’est la Vie? l’Autre? l’Amour ? la Liberté ?\nla Confiance? la Vérité ? Etc. \nUne démarche à la fois simple et puissante qui permet de trouver une réelle assise intérieure pour aborder la vie de façon responsable\, comme un cadeau à honorer. \nVoici une vingtaine d’années que j’ai la chance de guider ce processus ici et ailleurs dans le monde et que je vois toutes sortes de gens en profiter. Plusieurs reviennent à chaque année pour se donner un temps de silence et de ressourcement qui les porte tout le reste de l’année. D’autres viennent pour une première fois et découvrent un nouveau regard éclairant sur eux-mêmes et sur la texture de la vie sous toutes ses dimensions.\nNous continuerons donc inspirés par le passé – le nôtre et celui des êtres réalisés qui nous ont précédés qui éclairent le chemin.\nInspirés aussi par la réalité actuelle dans laquelle nous vivons. C’est dire\, utiliser la méthode traditionnelle et l’ajuster à notre réalité actuelle. \nLa retraite Satori se déroulera comme toujours à travers un processus évolutif qui comporte une certaine intensité nécessaire à la descente en profondeur.\nIl y aura aussi des périodes de repos et de méditation pour permettre l’intégration de ce qui se trame pendant les pratiques actives de communication/écoute des koans de vie\, afin d’amener de la détente dans l’effort de la démarche. \nLe ‘Koan’ est un questionnement dynamique qui mène à la source essentielle de qui nous sommes sur toutes nos facettes et toutes nos couleurs. Il sert à cultiver un regard juste face au réel tel qu’il est au-delà des peurs\, protections\, justifications et jugements pour avoir accès à la totalité de ce que nous sommes – qui inclut l’ombre autant que la lumière.\nÀ peu près tout le monde est terrifié par son côté ombre; c’est ce qui crée la tension et les prétentions qui font si mal. Mais juste à côté de l’ombre\, il y a la lumière.\nSe fermer à l’ombre serait aussi se fermer à la lumière – lui faire face permet de la démystifier\, de la prendre pour ce qu’elle est et sans plus.\nCette mise à jour élargit le regard et donne accès à toute la réalité – rien à créer\, rien à rejeter\, tout à inclure.\nPas d’analyse\, ni d’interprétation\, ni d’interférence : seulement l’écoute silencieuse et la communication libre encadrées par le silence. \n« Qui Suis-Je ? » « Qui est à l’intérieur ? » Ce qu’est la vie\, l’autre\, l’amour\, la liberté\, la vérité\,la confiance\,  etc.\nL’autre communique et j’écoute – je communique et l’autre écoute\, dans un protocole guidé rassurant. Il n’y a pas de conversation\, ni d’interrelation entre les participants. Chacun devient un miroir-témoin pour l’autre à tour de rôle; mais chacun demeure seul dans son expérience unique et personnelle. \nDans la tradition Zen\, le Satori est un moment de réalisation\, d’unité\, de clarté… un instant de grâce qui ouvre un espace essentiel en soi.\nCela ne peut pas être forcé mais peut être invité en cultivant l’état de présence. \nDifférents types de méditations\, des lectures et des périodes de repos feront partie de la routine quotidienne; ainsi que des rencontres individuelles avec Chandra comme support individuel pour supporter le parcours de chacun.\nEn dehors des périodes de pratique active\, nous sommes en silence.\nLa démarche est puissante et très simple à la fois. Elle permet de trouver une réelle assise en soi pour éventuellement devenir plus simple face au grand jazz de la condition humaine – elle mène vers une force de réconciliation essentielle au bien-être humain. \nCe qu’il faut apporter\n. Vêtements confortables (légers & chauds – suffisamment pour pouvoir se changer souvent)\n. Souliers de marche\n. Châle ou couverture légère\n. Maillot de bain en saison\n. Montre et réveil matin (indépendant du IPod ou cel) \nN’apportez pas\n. Ordinateur\, IPad\, IPod\, Cel\, etc.\n. Rien à lire ni pour écrire\n. Pas de bijoux\n. Pas de produits de maquillage ni matériel de rasage\n. Bouffe additionnelle – à moins de diète spéciale.\n. Aucun produit à odeur (même si c’est naturel) \n* Une nourriture végétarienne simple\, nettoyante\, soutenante et savoureuse sera servie sans restriction.\nPour les particularités alimentaires vraiment nécessaires\, communiquez directement avec Kio-o pour les arrangements requis. \n* Pour les gens ayant des restrictions physiques\, il est possible d’utiliser des chaises droites – il n’y a qu’à demander. \nFRAIS \nRetraite Zen Satori : 599 $ \nHébergement et nourriture : \n615 $ plus taxes pour 5 nuitées en occupation partagée\, incluant les repas \n860 $ plus taxes pour 5 nuitées en occupation simple\, incluant les repas \nUn dépôt de 75 $ confirmera votre inscription. \n10 % DE RÉDUCTION POUR LES INSCRIPTIONS AVANT LE 1ER JUIN 2023 \n  \n\n	Remarque : JavaScript est requis pour ce contenu.\n\n\n    \n\n\n    \n            \n        \n        \n  \n 
URL:https://kio-o.ca/evenement/retraite-zen-satori-avec-chandrakala-et-son-equipe/2022-07-10/
LOCATION:Kio-o\, 1905 Chemin du rang 6\, Sainte-Lucie\, Québec\, J0T 2J0\, Canada
CATEGORIES:Développement personnel,Méditation
ATTACH;FMTTYPE=image/jpeg:https://kio-o.ca/wp-content/uploads/2019/12/Auberge-Kioo-22.jpeg
ORGANIZER;CN="Chandrakala - Qui suis-je ?":MAILTO:info@martinbilodeau.com
GEO:46.132966;-74.1940374
X-APPLE-STRUCTURED-LOCATION;VALUE=URI;X-ADDRESS=Kio-o 1905 Chemin du rang 6 Sainte-Lucie Québec J0T 2J0 Canada;X-APPLE-RADIUS=500;X-TITLE=1905 Chemin du rang 6:geo:-74.1940374,46.132966
END:VEVENT
BEGIN:VEVENT
DTSTART;VALUE=DATE:20220710
DTEND;VALUE=DATE:20220716
DTSTAMP:20260421T101131
CREATED:20230628T154758Z
LAST-MODIFIED:20230628T154759Z
UID:10005932-1657411200-1657929599@kio-o.ca
SUMMARY:Retraite Zen Satori avec ChandraKala et son équipe
DESCRIPTION:RETRAITE ZEN SATORI \nEn silence ou en exercices de communication\, cette pratique de présence basée sur l’exploration de koans de vie permet d’explorer le mystérieux labyrinthe de sa propre condition humaine avec un regard qui devient de plus en plus bienveillant face à soi\, face aux autres.\nLe processus est encadré par une structure Zen qui supporte une expérience amenant profondément en soi pour pouvoir réconcilier tous les aspects qui font d’une personne un être humain unique et complet tel qu’il est – ombres et lumière. \nUn koan est une quête\, un questionnement de fond sur des thèmes fondamentaux :\nQui suis-je ? Qui est à l’intérieur ? Ce qu’est la Vie? l’Autre? l’Amour ? la Liberté ?\nla Confiance? la Vérité ? Etc. \nUne démarche à la fois simple et puissante qui permet de trouver une réelle assise intérieure pour aborder la vie de façon responsable\, comme un cadeau à honorer. \nVoici une vingtaine d’années que j’ai la chance de guider ce processus ici et ailleurs dans le monde et que je vois toutes sortes de gens en profiter. Plusieurs reviennent à chaque année pour se donner un temps de silence et de ressourcement qui les porte tout le reste de l’année. D’autres viennent pour une première fois et découvrent un nouveau regard éclairant sur eux-mêmes et sur la texture de la vie sous toutes ses dimensions.\nNous continuerons donc inspirés par le passé – le nôtre et celui des êtres réalisés qui nous ont précédés qui éclairent le chemin.\nInspirés aussi par la réalité actuelle dans laquelle nous vivons. C’est dire\, utiliser la méthode traditionnelle et l’ajuster à notre réalité actuelle. \nLa retraite Satori se déroulera comme toujours à travers un processus évolutif qui comporte une certaine intensité nécessaire à la descente en profondeur.\nIl y aura aussi des périodes de repos et de méditation pour permettre l’intégration de ce qui se trame pendant les pratiques actives de communication/écoute des koans de vie\, afin d’amener de la détente dans l’effort de la démarche. \nLe ‘Koan’ est un questionnement dynamique qui mène à la source essentielle de qui nous sommes sur toutes nos facettes et toutes nos couleurs. Il sert à cultiver un regard juste face au réel tel qu’il est au-delà des peurs\, protections\, justifications et jugements pour avoir accès à la totalité de ce que nous sommes – qui inclut l’ombre autant que la lumière.\nÀ peu près tout le monde est terrifié par son côté ombre; c’est ce qui crée la tension et les prétentions qui font si mal. Mais juste à côté de l’ombre\, il y a la lumière.\nSe fermer à l’ombre serait aussi se fermer à la lumière – lui faire face permet de la démystifier\, de la prendre pour ce qu’elle est et sans plus.\nCette mise à jour élargit le regard et donne accès à toute la réalité – rien à créer\, rien à rejeter\, tout à inclure.\nPas d’analyse\, ni d’interprétation\, ni d’interférence : seulement l’écoute silencieuse et la communication libre encadrées par le silence. \n« Qui Suis-Je ? » « Qui est à l’intérieur ? » Ce qu’est la vie\, l’autre\, l’amour\, la liberté\, la vérité\,la confiance\,  etc.\nL’autre communique et j’écoute – je communique et l’autre écoute\, dans un protocole guidé rassurant. Il n’y a pas de conversation\, ni d’interrelation entre les participants. Chacun devient un miroir-témoin pour l’autre à tour de rôle; mais chacun demeure seul dans son expérience unique et personnelle. \nDans la tradition Zen\, le Satori est un moment de réalisation\, d’unité\, de clarté… un instant de grâce qui ouvre un espace essentiel en soi.\nCela ne peut pas être forcé mais peut être invité en cultivant l’état de présence. \nDifférents types de méditations\, des lectures et des périodes de repos feront partie de la routine quotidienne; ainsi que des rencontres individuelles avec Chandra comme support individuel pour supporter le parcours de chacun.\nEn dehors des périodes de pratique active\, nous sommes en silence.\nLa démarche est puissante et très simple à la fois. Elle permet de trouver une réelle assise en soi pour éventuellement devenir plus simple face au grand jazz de la condition humaine – elle mène vers une force de réconciliation essentielle au bien-être humain. \nCe qu’il faut apporter\n. Vêtements confortables (légers & chauds – suffisamment pour pouvoir se changer souvent)\n. Souliers de marche\n. Châle ou couverture légère\n. Maillot de bain en saison\n. Montre et réveil matin (indépendant du IPod ou cel) \nN’apportez pas\n. Ordinateur\, IPad\, IPod\, Cel\, etc.\n. Rien à lire ni pour écrire\n. Pas de bijoux\n. Pas de produits de maquillage ni matériel de rasage\n. Bouffe additionnelle – à moins de diète spéciale.\n. Aucun produit à odeur (même si c’est naturel) \n* Une nourriture végétarienne simple\, nettoyante\, soutenante et savoureuse sera servie sans restriction.\nPour les particularités alimentaires vraiment nécessaires\, communiquez directement avec Kio-o pour les arrangements requis. \n* Pour les gens ayant des restrictions physiques\, il est possible d’utiliser des chaises droites – il n’y a qu’à demander. \nFRAIS \nRetraite Zen Satori : 599 $ \nHébergement et nourriture : \n615 $ plus taxes pour 5 nuitées en occupation partagée\, incluant les repas \n860 $ plus taxes pour 5 nuitées en occupation simple\, incluant les repas \nUn dépôt de 75 $ confirmera votre inscription. \n10 % DE RÉDUCTION POUR LES INSCRIPTIONS AVANT LE 1ER JUIN 2023 \n  \n  \n  \n 
URL:https://kio-o.ca/evenement/retraite-zen-satori-avec-chandrakala-et-son-equipe-4/
LOCATION:Kio-o\, 1905 Chemin du rang 6\, Sainte-Lucie\, Québec\, J0T 2J0\, Canada
CATEGORIES:Développement personnel,Méditation
ATTACH;FMTTYPE=image/jpeg:https://kio-o.ca/wp-content/uploads/2019/12/Auberge-Kioo-22.jpeg
ORGANIZER;CN="Chandrakala - Qui suis-je ?":MAILTO:info@martinbilodeau.com
GEO:46.132966;-74.1940374
X-APPLE-STRUCTURED-LOCATION;VALUE=URI;X-ADDRESS=Kio-o 1905 Chemin du rang 6 Sainte-Lucie Québec J0T 2J0 Canada;X-APPLE-RADIUS=500;X-TITLE=1905 Chemin du rang 6:geo:-74.1940374,46.132966
END:VEVENT
BEGIN:VEVENT
DTSTART;VALUE=DATE:20220711
DTEND;VALUE=DATE:20220715
DTSTAMP:20260421T101131
CREATED:20220516T171054Z
LAST-MODIFIED:20220517T170345Z
UID:10006023-1657497600-1657843199@kio-o.ca
SUMMARY:Retraite de méditation avec Parijata de Shanti Om yoga méditation
DESCRIPTION:Retraite de méditation\n\n\n\n\n\nLa méditation est une pratique de retour à soi. En tibétain on la nomme “Gom” ce qui veut dire se familiariser… se familiariser avec notre propre esprit\, nos pensées\, nos états d’âme. Le but est de développer un regard lucide et aimant\, en toute intimité avec l’expérience de notre propre vie. Sans cette familiarisation consciente\, nous sommes isolé ou même étranger à nous même\, ainsi l’anxiété et le mal-aise s’installe chassant cette joie tranquille qui est la fondation même de notre être. \nTarifs :\nRetraite : 345 $ plus taxes \nHébergement et nourriture : \n\nEn occupation partagée : 357 $ plus taxes par personne – 3 nuitées incluant les repas\nEn occupation simple : 504 $ plus taxes par personnes – 3 nuitées incluant les repas\n\nRabais : 10 % pour les inscriptions avant le 1er juin 2022 \nUn dépôt de 100 $ confirmera votre inscription \n\n\n\n\n\n\n\n\n\n 
URL:https://kio-o.ca/evenement/retraite-de-meditation-avec-parijata-de-shanti-om-yoga-meditation/
LOCATION:Kio-o\, 1905 Chemin du rang 6\, Sainte-Lucie\, Québec\, J0T 2J0\, Canada
CATEGORIES:Méditation
ATTACH;FMTTYPE=image/jpeg:https://kio-o.ca/wp-content/uploads/2022/05/retraite-meditation-kio-pnzgpia5sr6t0ita19y2wyel85lgd7xu7388yed180.jpg
ORGANIZER;CN="Parijata":MAILTO:infoparijatayoga@gmail.com
GEO:46.132966;-74.1940374
X-APPLE-STRUCTURED-LOCATION;VALUE=URI;X-ADDRESS=Kio-o 1905 Chemin du rang 6 Sainte-Lucie Québec J0T 2J0 Canada;X-APPLE-RADIUS=500;X-TITLE=1905 Chemin du rang 6:geo:-74.1940374,46.132966
END:VEVENT
BEGIN:VEVENT
DTSTART;VALUE=DATE:20220715
DTEND;VALUE=DATE:20220718
DTSTAMP:20260421T101131
CREATED:20220516T171914Z
LAST-MODIFIED:20220516T171914Z
UID:10006020-1657843200-1658102399@kio-o.ca
SUMMARY:Vacances - Bien-Être - méditation et Yoga avec Bram Levinson
DESCRIPTION:Notre retraite annuelle de méditation et yoga dans les Laurentides est maintenant confirmée! \nRejoignez-nous pour un week-end de retraite de paix et bien-être dans la belle campagne québécoise et profitez des cours\, des 2\,5km de sentiers de randonnée\, du lac baignable\, et des coins privés partout sur le site pour vous reposer. En plus\, les délicieux repas sont à base de protéines végétales et de légumes frais\, de provenance locale le plus possible. \nNe manquez pas cette occasion de vous détendre et de vous reconnecter à vous-même. \n550 $+taxes – occupation double / 665 $+taxes – occupation simple. \nInscription confirmée par virement Interac envoyée à bram.levinson@gmail.com.
URL:https://kio-o.ca/evenement/vacances-bien-etre-meditation-et-yoga-avec-bram-levinson/
LOCATION:Kio-o\, 1905 Chemin du rang 6\, Sainte-Lucie\, Québec\, J0T 2J0\, Canada
CATEGORIES:Méditation,Yoga
ATTACH;FMTTYPE=image/png:https://kio-o.ca/wp-content/uploads/2022/05/Capture-décran-le-2022-05-16-à-13.15.42.png
ORGANIZER;CN="Bram Levinson":MAILTO:bram.levinson@gmail.com
GEO:46.132966;-74.1940374
X-APPLE-STRUCTURED-LOCATION;VALUE=URI;X-ADDRESS=Kio-o 1905 Chemin du rang 6 Sainte-Lucie Québec J0T 2J0 Canada;X-APPLE-RADIUS=500;X-TITLE=1905 Chemin du rang 6:geo:-74.1940374,46.132966
END:VEVENT
BEGIN:VEVENT
DTSTART;VALUE=DATE:20220715
DTEND;VALUE=DATE:20220720
DTSTAMP:20260421T101131
CREATED:20220517T170759Z
LAST-MODIFIED:20220517T171028Z
UID:10006013-1657843200-1658275199@kio-o.ca
SUMMARY:Qi Gong avancé avec Lise Lapointe - COMPLET
DESCRIPTION:
URL:https://kio-o.ca/evenement/qi-gong-avance-avec-lise-lapointe-complet/
LOCATION:Kio-o\, 1905 Chemin du rang 6\, Sainte-Lucie\, Québec\, J0T 2J0\, Canada
CATEGORIES:Méditation,Mouvement,Qi Gong
ATTACH;FMTTYPE=image/jpeg:https://kio-o.ca/wp-content/uploads/2016/09/Lise-Lapointe.jpg
ORGANIZER;CN="Lise Lapointe":MAILTO:liselapointeqigong@yahoo.com
GEO:46.132966;-74.1940374
X-APPLE-STRUCTURED-LOCATION;VALUE=URI;X-ADDRESS=Kio-o 1905 Chemin du rang 6 Sainte-Lucie Québec J0T 2J0 Canada;X-APPLE-RADIUS=500;X-TITLE=1905 Chemin du rang 6:geo:-74.1940374,46.132966
END:VEVENT
BEGIN:VEVENT
DTSTART;VALUE=DATE:20220731
DTEND;VALUE=DATE:20220806
DTSTAMP:20260421T101131
CREATED:20220516T180902Z
LAST-MODIFIED:20220516T180902Z
UID:10006017-1659225600-1659743999@kio-o.ca
SUMMARY:Renaissance - avec Martin Bilodeau
DESCRIPTION:Renaissance\n\nDécouvrez une retraite inspirée de la psychologie sacrée et des rites sacrés du monde entier! \n\nUn voyage intensif sur cinq jours\nqui offre à la fois un apprentissage intellectuel et expérientiel \n\n\n\n\nUn parcours d’empowerment\npour devenir des leaders conscients dans toutes les sphères de votre vie \n\n\n\n\nUne exploration des bases\nd’une nouvelle psychologie des profondeurs \n\n\n\n\nUne communauté éphémère de chercheurs\nqui désirent retrouver et célébrer le sens sacré de leur existence \n\n\n\n\n\nMon invitation\n\n\n\n\nL’angle puissant de la psychologie sacrée fécondera et inspirera nos pratiques. L’esprit de toute ma démarche personnelle s’inscrit dans ce qu’on appelle aujourd’hui le « Dharma Gaïa »\, la rencontre du bouddhisme et du chamanisme. Plus généralement\, je crois qu’en cette période de bouleversement\, un métissage est essentiel pour ouvrir de nouveaux espaces de sagesse et se réapproprier notre évolution autant au niveau personnel et collectif. \nJe vous offre\, à travers ce parcours\, de la rigueur\, de l’ouverture et de l’intégrité\, mais aussi de l’aventure et de l’audace!\nVous voulez découvrir le parcours qui m’inspire dans la transmission de cette retraite? Lisez ceci.
URL:https://kio-o.ca/evenement/renaissance-avec-martin-bilodeau-2/
LOCATION:Kio-o\, 1905 Chemin du rang 6\, Sainte-Lucie\, Québec\, J0T 2J0\, Canada
CATEGORIES:Développement personnel,Méditation,Rituel,Yoga
ATTACH;FMTTYPE=image/jpeg:https://kio-o.ca/wp-content/uploads/2021/02/MartinBilodeau_2020-7344_HR600px.jpg
ORGANIZER;CN="Martin Bilodeau Auteur%2C auteur%2C conf%C3%A9rencier et enseignant":MAILTO:info@martinbilodeau.com
GEO:46.132966;-74.1940374
X-APPLE-STRUCTURED-LOCATION;VALUE=URI;X-ADDRESS=Kio-o 1905 Chemin du rang 6 Sainte-Lucie Québec J0T 2J0 Canada;X-APPLE-RADIUS=500;X-TITLE=1905 Chemin du rang 6:geo:-74.1940374,46.132966
END:VEVENT
END:VCALENDAR