BEGIN:VCALENDAR
VERSION:2.0
PRODID:-//Kio-o - ECPv6.15.12.2//NONSGML v1.0//EN
CALSCALE:GREGORIAN
METHOD:PUBLISH
X-ORIGINAL-URL:https://kio-o.ca
X-WR-CALDESC:Évènements pour Kio-o
REFRESH-INTERVAL;VALUE=DURATION:PT1H
X-Robots-Tag:noindex
X-PUBLISHED-TTL:PT1H
BEGIN:VTIMEZONE
TZID:America/New_York
BEGIN:DAYLIGHT
TZOFFSETFROM:-0500
TZOFFSETTO:-0400
TZNAME:EDT
DTSTART:20210314T070000
END:DAYLIGHT
BEGIN:STANDARD
TZOFFSETFROM:-0400
TZOFFSETTO:-0500
TZNAME:EST
DTSTART:20211107T060000
END:STANDARD
BEGIN:DAYLIGHT
TZOFFSETFROM:-0500
TZOFFSETTO:-0400
TZNAME:EDT
DTSTART:20220313T070000
END:DAYLIGHT
BEGIN:STANDARD
TZOFFSETFROM:-0400
TZOFFSETTO:-0500
TZNAME:EST
DTSTART:20221106T060000
END:STANDARD
BEGIN:DAYLIGHT
TZOFFSETFROM:-0500
TZOFFSETTO:-0400
TZNAME:EDT
DTSTART:20230312T070000
END:DAYLIGHT
BEGIN:STANDARD
TZOFFSETFROM:-0400
TZOFFSETTO:-0500
TZNAME:EST
DTSTART:20231105T060000
END:STANDARD
END:VTIMEZONE
BEGIN:VEVENT
DTSTART;VALUE=DATE:20220828
DTEND;VALUE=DATE:20220903
DTSTAMP:20260421T071944
CREATED:20220519T124841Z
LAST-MODIFIED:20220819T191253Z
UID:10006012-1661644800-1662163199@kio-o.ca
SUMMARY:Retraite Sadhana avec Martin Bilodeau - ANNULÉE
DESCRIPTION:Retraite Sadhana\n\n\n\n\nCet événement unique au Québec vous permettra de plonger dans la pratique de la méditation de manière simple\, accessible et pleine d’humour. Venez entraîner votre esprit à la joie\, l’amour\, la vitalité et l’optimisme. Après de nombreuses retraites et séminaires à travers le monde\, je vous partage ma passion pour la spiritualité orientale adaptée à la vie moderne et vous apprends comment la pratique de la méditation peut s’intégrer dans votre vie pour vous apporter plus de joie\, de bonheur et d’émerveillement. \nVenez vivre une expérience immersive de méditation et de contemplation sur un site enchanteur au cœur des Laurentides. Partez à la découverte de votre sagesse véritable qui se révélera à travers des pratiques simples que vous pourrez refaire n’importe où.   \nDécouvrez vos terres de liberté intérieure grâce au silence\, à la nature ainsi qu’au son des bols tibétains et du chant de mantras. \n\n\n\n\nVenez découvrir ‹ Les étapes de la voie de l’illumination ›\, lamrim en tibétain. Ces vingt et une méditations constituent le coeur des enseignements de bouddha et transformeront votre vie pour toujours. Elles visent à vous libérer de toutes les souffrances et vous permettre d’atteindre la paix et le bonheur durable. \n\n\n\n\n\n\n\n\nVoici les thèmes abordés durant cette retraite immersive au cœur de la spiritualité bouddhiste :\n\n\n\n\n\nRéaliser le sens de la précieuse vie humaine\nPrendre conscience de la mort et l’impermanence\nLa pratique du refuge pour trouver les sources véritables du bonheur\nComprendre les actions et leurs effets (karma)\nDévelopper le renoncement au samsara (sources de souffrances)\nDévelopper la concentration du calme stable\nDévelopper l’équanimité et se libérer de la colère\nReconnaître que tous les êtres vivants sont dignes d’être aimés\nSe souvenir de la bonté des êtres qui nous entourent\nLa mise à égalité de soi et des autres (humilité)\nCesser d’obéir à l’ego pour écouter notre conscience supérieure\nLes avantages de chérir les autres\nL’échange de soi avec les autres\nRéaliser la grande compassion\nLa compassion en action\nSe libérer de l’amour désirant et de l’attachement\nRéaliser son idéal de vie en accords avec ses vérités profondes\nL’engagement en une discipline joyeuse\nLa calme stable et les six perfections de l’esprit\nLa vue supérieure\, vivre au delà des illusions\nS’en remettre à un guide spirituel “BOUDDHA” (toutes les croyances sont bienvenues)\n\n\n\n\n\n\n\nLors de cette retraite\, vous serez guidé à travers les enseignements traditionnels qui ont été actualisés afin de vous permettre de les appliquer à votre vie moderne et vous en servir dans la vie de tous les jours.  \nVous ferez ce voyage à travers de multiples techniques pour approfondir votre compréhension : \n\nMéditation analytique et contemplative\nVisualisation et pensée créatrice\nTechniques de respirations « prana »\nPratique de chants de mantras de guérison\nInitiation au tantrisme spirituel pour permettre de puissants moments d’éveil\nUne semaine de silence individuel et communautaire\n\nTout ceci sur un site enchanteur et entouré des beautés de la nature pour faciliter le retour à l’équilibre intérieur et inspirer les bases d’une vie meilleure et riche de sens. \nÀ PROPOS DU SILENCE\nEnviron 60% de la retraite se déroule en silence complet\, soit 3 jours et 3 nuits. Le silence n’est pas de mise pour le reste de la retraite. \n\n\n\n\n\nINFORMATIONS PRATIQUES\n\n\n\n\nCoût de la retraite\n595 $ par personne\, plus les taxes. \nLes coûts d’hébergement et de nourriture ne sont pas inclus dans ce tarif. Merci de lire les informations ci-dessous pour découvrir les options d’hébergement qui s’offrent à vous.  \nDépôt \n297\,50 $ pour réserver votre place. \nHoraire\nLa retraite se déroule en continu toute la semaine. La programmation débute le dimanche avec une première pratique à 19 h et se termine le vendredi vers 16h. \nUn horaire détaillé vous sera remis sur place. \nLieu\nCentre Kio-o (Sainte-Lucie-des-Laurentides) \nCoûts pour l’hébergement : \n\nChambre en occupation partagée : deux ou trois lits simples par chambre : 119 $ par personne (+ taxes\, par nuitée)\nChambre en occupation simple : 168 $ (+ taxes\, par jour)\n\nLe coût d’hébergement inclut 3 repas gastronomique végétarien par jour\, accès au site en nature avec lac et sentiers et salle exclusive de pratiques de groupe. \nLe prix total de l’événement est la somme du coût de la retraite et de l’hébergement selon votre préférence pour celui-ci. \n\n\n\n\n\n\n\n\nPour réserver votre place\nRéservez votre place maintenant en effectuant votre dépôt de 297\,50 $ par Paypal\, virement bancaire ou par chèque en cliquant sur le bouton ci-dessous. \n\n\nJE RÉSERVE MA PLACE!
URL:https://kio-o.ca/evenement/retraite-sadhana-avec-martin-bilodeau/
LOCATION:Kio-o\, 1905 Chemin du rang 6\, Sainte-Lucie\, Québec\, J0T 2J0\, Canada
CATEGORIES:Méditation,Rituel
ATTACH;FMTTYPE=image/jpeg:https://kio-o.ca/wp-content/uploads/2021/02/MartinBilodeau_2020-7344_HR600px.jpg
ORGANIZER;CN="Martin Bilodeau Auteur%2C auteur%2C conf%C3%A9rencier et enseignant":MAILTO:info@martinbilodeau.com
GEO:46.132966;-74.1940374
X-APPLE-STRUCTURED-LOCATION;VALUE=URI;X-ADDRESS=Kio-o 1905 Chemin du rang 6 Sainte-Lucie Québec J0T 2J0 Canada;X-APPLE-RADIUS=500;X-TITLE=1905 Chemin du rang 6:geo:-74.1940374,46.132966
END:VEVENT
BEGIN:VEVENT
DTSTART;VALUE=DATE:20220902
DTEND;VALUE=DATE:20220906
DTSTAMP:20260421T071944
CREATED:20220709T144755Z
LAST-MODIFIED:20221211T012244Z
UID:10006025-1662076800-1662422399@kio-o.ca
SUMMARY:Cercle des amis de Bruno Gröning
DESCRIPTION:Pour information : \ncercledesamisbg-st-sauveur@hotmail.com
URL:https://kio-o.ca/evenement/cercle-des-amis-de-bruno-groning/2022-09-02/
LOCATION:Kio-o\, 1905 Chemin du rang 6\, Sainte-Lucie\, Québec\, J0T 2J0\, Canada
CATEGORIES:Méditation,Mouvement
ATTACH;FMTTYPE=image/jpeg:https://kio-o.ca/wp-content/uploads/2022/07/446F0EAD-0216-4C9F-8449-5DBEFE9DC57D_1_105_c.jpeg
ORGANIZER;CN="Les amis de Bruno Gr%C3%B6ning":MAILTO:leblancfrance@hotmail.com
GEO:46.132966;-74.1940374
X-APPLE-STRUCTURED-LOCATION;VALUE=URI;X-ADDRESS=Kio-o 1905 Chemin du rang 6 Sainte-Lucie Québec J0T 2J0 Canada;X-APPLE-RADIUS=500;X-TITLE=1905 Chemin du rang 6:geo:-74.1940374,46.132966
END:VEVENT
BEGIN:VEVENT
DTSTART;VALUE=DATE:20220912
DTEND;VALUE=DATE:20220917
DTSTAMP:20260421T071944
CREATED:20220503T132421Z
LAST-MODIFIED:20220503T132421Z
UID:10006001-1662940800-1663372799@kio-o.ca
SUMMARY:QiGong\, méditation en mouvement avec Luce Desgagné
DESCRIPTION:QiGong\, méditation en mouvement\n\nUn voyage inoubliable vers l’Unité dans un décor d’une beauté exceptionnelle. Les mouvements QiGong sont doux\, fluides et faciles\,  s’adaptent à toutes les conditions et visent la santé globale. \n\n\nS’arrêter et contempler. \nS’offrir un temps d’écoute et de lenteur. \nExplorer le vivant au présent et en présence.\n\n\nOuvert à toutes et tous. Bienvenue!\n\n\n\n 
URL:https://kio-o.ca/evenement/qigong-meditation-en-mouvement-avec-luce-desgagne/
LOCATION:Kio-o\, 1905 Chemin du rang 6\, Sainte-Lucie\, Québec\, J0T 2J0\, Canada
CATEGORIES:Méditation,Mouvement,Qi Gong
ATTACH;FMTTYPE=image/jpeg:https://kio-o.ca/wp-content/uploads/2022/05/Luce-Desgagné.jpg
ORGANIZER;CN="Luce Desgagn%C3%A9":MAILTO:luce.qigong@gmail.com
GEO:46.132966;-74.1940374
X-APPLE-STRUCTURED-LOCATION;VALUE=URI;X-ADDRESS=Kio-o 1905 Chemin du rang 6 Sainte-Lucie Québec J0T 2J0 Canada;X-APPLE-RADIUS=500;X-TITLE=1905 Chemin du rang 6:geo:-74.1940374,46.132966
END:VEVENT
BEGIN:VEVENT
DTSTART;VALUE=DATE:20220915
DTEND;VALUE=DATE:20220919
DTSTAMP:20260421T071944
CREATED:20220516T155222Z
LAST-MODIFIED:20220709T145121Z
UID:10006007-1663200000-1663545599@kio-o.ca
SUMMARY:Devenez guide de méditations avec Martin Bilodeau
DESCRIPTION:Pour télécharger le document pdf cliquez ici  \n  \n 
URL:https://kio-o.ca/evenement/devenez-guide-de-meditations-avec-martin-bilodeau/2022-09-15/
LOCATION:Kio-o\, 1905 Chemin du rang 6\, Sainte-Lucie\, Québec\, J0T 2J0\, Canada
CATEGORIES:Méditation
ATTACH;FMTTYPE=image/png:https://kio-o.ca/wp-content/uploads/2022/05/devenez-guide-meditation-cover.png
ORGANIZER;CN="Martin Bilodeau Auteur%2C auteur%2C conf%C3%A9rencier et enseignant":MAILTO:info@martinbilodeau.com
GEO:46.132966;-74.1940374
X-APPLE-STRUCTURED-LOCATION;VALUE=URI;X-ADDRESS=Kio-o 1905 Chemin du rang 6 Sainte-Lucie Québec J0T 2J0 Canada;X-APPLE-RADIUS=500;X-TITLE=1905 Chemin du rang 6:geo:-74.1940374,46.132966
END:VEVENT
BEGIN:VEVENT
DTSTART;VALUE=DATE:20220923
DTEND;VALUE=DATE:20220926
DTSTAMP:20260421T071944
CREATED:20220125T212350Z
LAST-MODIFIED:20230217T163531Z
UID:10005785-1663891200-1664146740@kio-o.ca
SUMMARY:Reconnexion à Son Soi Sacré avec Joanne Basilières
DESCRIPTION:Description \nRejoignez-nous pour la fin de semaine inoubliable qui vous donnera la chance d’avoir du temps pour vous ressourcer et de reconnecter à ton Soi Sacré pendant ces temps chargé au niveau vibratoire et énergétique. \nLa retraite silencieuse du yoga et de méditation « Reconnexion à ton Soi Sacré » vous permettra d’explorer différents aspects de la vie de yoga spirituelle: méditations\, yoga\, et marches de santé en nature. Vous apprécierez chaque jour des repas biologiques végétariens / végétaliens délicieux et l’air des Laurentides pur! \nChaque jour vous aurez du temps pour soi pour marcher et reconnecter avec la nature pendant des moments de temps libre pour vous ressourcer en toute liberté.  Notre retraite est tenue sur le site magnifique et paisible à Kio-o\, Centre de ressourcement et de créativité\, situé au cœur de la forêt laurentienne. L’atmosphère calme\, le lac privé\, la vue splendide de la falaise\, la montagne et les sentiers de la nature offrent un cadre qui favorise la sérénité et la relaxation profonde. \nLe silence\, l’air pur de la montagne et le contact direct de la nature sont des sources d’inspiration continue. Kio-o propose un cadre majestueux dans lequel pour se détendre\, se régénérer et retrouver une paix intérieure. \nOn débutera le vendredi soir avec un rituel pour aligner vos intentions pour votre expérience de la retraite en silence. Pendant le séjour vous serez introduit au yoga doux\, la Pranayama\, la méditation guidée et en silence\, le chant\, des mandalas ainsi que le temps d’écrire dans votre journal personnel pour observer et noter vos expériences de croissance personnelle et spirituelle tout au long du week-end pour harmoniser votre énergie. \nLe dimanche\, pendant le dîner\,nous allons briser notre silence et profiter de parler avec nos nouveaux amis. Avant notre départ\, on va rassembler pour un cercle de partage de notre expérience pendant le weekend. \n  \nCliquez ici pour l’inscription et tarification \n  \nAu plaisir de vous accueillir. \n  \nJoanne Basilières \nThérapeute Holistique et Professeure Certifiée de Hatha Yoga \nSpirita Services de Yoga et Médecine Douce \nCellulaire : 514-994-0238 \nDM @joannebasilieres \nwww.spirita.ca \nFB: centre.spirita
URL:https://kio-o.ca/evenement/reconnexion-a-ton-soi-sacre-avec-joanne-basilieres-2022-09-23-2023-03-10/2022-09-23/
LOCATION:Kio-o\, 1905 Chemin du rang 6\, Sainte-Lucie\, Québec\, J0T 2J0\, Canada
CATEGORIES:Méditation,Mouvement,Yoga
ATTACH;FMTTYPE=image/jpeg:https://kio-o.ca/wp-content/uploads/2022/01/Joanne-Basilière.jpg
ORGANIZER;CN="Joanne Basili%C3%A8res":MAILTO:joanne@spirita.ca
GEO:46.132966;-74.1940374
X-APPLE-STRUCTURED-LOCATION;VALUE=URI;X-ADDRESS=Kio-o 1905 Chemin du rang 6 Sainte-Lucie Québec J0T 2J0 Canada;X-APPLE-RADIUS=500;X-TITLE=1905 Chemin du rang 6:geo:-74.1940374,46.132966
END:VEVENT
BEGIN:VEVENT
DTSTART;VALUE=DATE:20220923
DTEND;VALUE=DATE:20220926
DTSTAMP:20260421T071944
CREATED:20220125T212350Z
LAST-MODIFIED:20221211T012603Z
UID:10005780-1663891200-1664150399@kio-o.ca
SUMMARY:Reconnexion à Son Soi Sacré avec Joanne Basilières
DESCRIPTION:Description \nRejoignez-nous pour la fin de semaine inoubliable qui vous donnera la chance d’avoir du temps pour vous ressourcer et de reconnecter à ton Soi Sacré pendant ces temps chargé au niveau vibratoire et énergétique. \nLa retraite silencieuse du yoga et de méditation « Reconnexion à ton Soi Sacré » vous permettra d’explorer différents aspects de la vie de yoga spirituelle: méditations\, yoga\, et marches de santé en nature. Vous apprécierez chaque jour des repas biologiques végétariens / végétaliens délicieux et l’air des Laurentides pur! \nChaque jour vous aurez du temps pour soi pour marcher et reconnecter avec la nature pendant des moments de temps libre pour vous ressourcer en toute liberté.  Notre retraite est tenue sur le site magnifique et paisible à Kio-o\, Centre de ressourcement et de créativité\, situé au cœur de la forêt laurentienne. L’atmosphère calme\, le lac privé\, la vue splendide de la falaise\, la montagne et les sentiers de la nature offrent un cadre qui favorise la sérénité et la relaxation profonde. \nLe silence\, l’air pur de la montagne et le contact direct de la nature sont des sources d’inspiration continue. Kio-o propose un cadre majestueux dans lequel pour se détendre\, se régénérer et retrouver une paix intérieure. \nOn débutera le vendredi soir avec un rituel pour aligner vos intentions pour votre expérience de la retraite en silence. Pendant le séjour vous serez introduit au yoga doux\, la Pranayama\, la méditation guidée et en silence\, le chant\, des mandalas ainsi que le temps d’écrire dans votre journal personnel pour observer et noter vos expériences de croissance personnelle et spirituelle tout au long du week-end pour harmoniser votre énergie. \nLe dimanche\, pendant le dîner\,nous allons briser notre silence et profiter de parler avec nos nouveaux amis. Avant notre départ\, on va rassembler pour un cercle de partage de notre expérience pendant le weekend. \n  \nCliquez ici pour l’inscription et tarification \n  \nAu plaisir de vous accueillir. \n  \nJoanne Basilières \nThérapeute Holistique et Professeure Certifiée de Hatha Yoga \nSpirita Services de Yoga et Médecine Douce \nCellulaire : 514-994-0238 \nDM @joannebasilieres \nwww.spirita.ca \nFB: centre.spirita
URL:https://kio-o.ca/evenement/reconnexion-a-ton-soi-sacre-avec-joanne-basilieres-2022-09-23/
LOCATION:Kio-o\, 1905 Chemin du rang 6\, Sainte-Lucie\, Québec\, J0T 2J0\, Canada
CATEGORIES:Méditation,Mouvement,Yoga
ATTACH;FMTTYPE=image/jpeg:https://kio-o.ca/wp-content/uploads/2022/01/Joanne-Basilière.jpg
ORGANIZER;CN="Joanne Basili%C3%A8res":MAILTO:joanne@spirita.ca
GEO:46.132966;-74.1940374
X-APPLE-STRUCTURED-LOCATION;VALUE=URI;X-ADDRESS=Kio-o 1905 Chemin du rang 6 Sainte-Lucie Québec J0T 2J0 Canada;X-APPLE-RADIUS=500;X-TITLE=1905 Chemin du rang 6:geo:-74.1940374,46.132966
END:VEVENT
BEGIN:VEVENT
DTSTART;VALUE=DATE:20220923
DTEND;VALUE=DATE:20220926
DTSTAMP:20260421T071944
CREATED:20220709T150639Z
LAST-MODIFIED:20220709T150639Z
UID:10006027-1663891200-1664150399@kio-o.ca
SUMMARY:Passages sacrés avec Cécile Purusha Hontoy
DESCRIPTION:PASSAGES SACRÉS \n\n\nLes chiffres magiques comme le 7\, le 21\, le 40 marquent des passages sacrés obligés. Ces passages spirituels invitent à la mort du vieil homme et à la renaissance. \nCe séminaire haut en rituels apportera du SENS à nos passages! Il y aura exceptionnellement une initiation à l’énergie initiatique des anciens ! Les  Pertes\, deuils\, espoirs\, déceptions y prendront leurs signifiances sacrées et seront transformés en force de résilience et de transcendance! \nTu dois t’attendre à l’ouverture de ton expression spirituelle. ( Chants et danse sacrés\, rituels et créativité sacrés\, méditations et initiations profondes.
URL:https://kio-o.ca/evenement/passages-sacres-avec-cecile-purusha-hontoy/
LOCATION:Kio-o\, 1905 Chemin du rang 6\, Sainte-Lucie\, Québec\, J0T 2J0\, Canada
CATEGORIES:Expression créative,Méditation,Rituel
ATTACH;FMTTYPE=image/webp:https://kio-o.ca/wp-content/uploads/2022/07/purusha-meditation-yoga2.webp
ORGANIZER;CN="C%C3%A9cile-Purusha Hontoy ( swami Purusha )":MAILTO:purushahontoy@hotmail.com
GEO:46.132966;-74.1940374
X-APPLE-STRUCTURED-LOCATION;VALUE=URI;X-ADDRESS=Kio-o 1905 Chemin du rang 6 Sainte-Lucie Québec J0T 2J0 Canada;X-APPLE-RADIUS=500;X-TITLE=1905 Chemin du rang 6:geo:-74.1940374,46.132966
END:VEVENT
BEGIN:VEVENT
DTSTART;VALUE=DATE:20220923
DTEND;VALUE=DATE:20220926
DTSTAMP:20260421T071944
CREATED:20220713T132244Z
LAST-MODIFIED:20220713T150559Z
UID:10006030-1663891200-1664150399@kio-o.ca
SUMMARY:PASSAGES SACRÉS ( Formation en éco-chamanisme ) avec Cécile Purusha Hontoy
DESCRIPTION:PASSAGES SACRÉS ( Formation en éco-chamanisme \nLes passages obligés invitent au rendez-vous avec soi. Comment activer nos réflexions sur les moments vécus et les émotions pour en faire du sens ? Pertes\, deuils\, espoirs\, déceptions\, puissance\, impuissance\, vulnérabilité\, effort ! \n  Ainsi\, fêter 40 ans de vie est important pour la plupart d’entre nous. 40 est un chiffre magique et symbolique dans beaucoup de traditions. Ainsi le 40 ans correspond à l’âge de raison pour la tradition juive.  Pour les sociétés anciennes\, il signifie un moment d’introspection avant d’aborder de vrais changements en profondeur.  On enterrait les pharaons 40 jours après leur décès.  Ces 40 jours étaient réservés pour la préparation de leur voyage initiatique dans la vie après la mort. \nCe séminaire de reconnection sur les passages obligés \, le rituel de la  fête  et de la  la joie de vivre\, même dans le deuil\,  car la Vie doit gagner\, vous invitera à  considérer les passages obligés parfois douloureux de la vie comme des  invitations  à la réflexion sur le sens de votre vie.   \n 
URL:https://kio-o.ca/evenement/10029/
LOCATION:Kio-o\, 1905 Chemin du rang 6\, Sainte-Lucie\, Québec\, J0T 2J0\, Canada
CATEGORIES:Expression créative,Méditation,Rituel,Yoga
ATTACH;FMTTYPE=image/jpeg:https://kio-o.ca/wp-content/uploads/2021/12/Purusha-chapeau.jpg
ORGANIZER;CN="C%C3%A9cile-Purusha Hontoy ( swami Purusha )":MAILTO:purushahontoy@hotmail.com
GEO:46.132966;-74.1940374
X-APPLE-STRUCTURED-LOCATION;VALUE=URI;X-ADDRESS=Kio-o 1905 Chemin du rang 6 Sainte-Lucie Québec J0T 2J0 Canada;X-APPLE-RADIUS=500;X-TITLE=1905 Chemin du rang 6:geo:-74.1940374,46.132966
END:VEVENT
BEGIN:VEVENT
DTSTART;VALUE=DATE:20220930
DTEND;VALUE=DATE:20221003
DTSTAMP:20260421T071944
CREATED:20210228T210316Z
LAST-MODIFIED:20221003T192135Z
UID:10005950-1664496000-1664755199@kio-o.ca
SUMMARY:Retraite de découverte TANTRA EN COUPLE avec Martin Bilodeau
DESCRIPTION:« L’amour n’est pas quelque chose que vous faites\, l’amour est quelque chose que vous êtes! » – Martin Bilodeau\n\n\n\n\nCette fin de semaine pour couples\, est une invitation à laisser l’amour s’exprimer à travers soi pour se manifester librement dans la rencontre avec l’autre. L’amour est votre essence ultime et une force infinie qui libère le meilleur de soi. Cette énergie s’exprime à travers notre regard\, nos paroles\, nos gestes pour diffuser tendresse et bienveillance autour de nous. L’esprit de cette fin de semaine est la joie\, la légèreté\, la connexion et la douceur. \nCette retraite est un chemin pour libérer votre force d’aimer et pour choisir de vous abandonner aux vérités du cœur. Venez calmer le mental et l’ego pour faire vibrer VOTRE ÊTRE dans un océan d’amour qui vous permettra de retrouver le sens sacré à votre vie et de dévoiler la dimension spirituelle dans votre relation. Cette retraite de ressourcement vous présente quelques-uns des plus précieux enseignements sur le tantrisme\, et ce\, sans nudité. Du point de vue pratique\, le tantra offre une vaste somme de connaissances et de moyens pratiques permettant aux hommes et aux femmes de reconnecter avec leur essence ultime et primordiale\, amour. Le tantra a comme but principal de permettre des transformations intérieures et libérer les êtres de la souffrance. \n\n\n\n\nCes transformations se vivront à travers les pratiques suivantes :\n\nMéditation sur le regard\nMéditation de l’étreinte\nRite d’éveil des sens\nPratique de contemplation dans la nature\nCréation d’un œuvre éphémère (mandala en nature)\nRite de pardon pour se libérer du passé\nMéditation sur le sens de l’amour dans sa vie\nRituel pour reconnaître et voir la beauté en l’autre\nExpérience d’harmonisation de la kundalini\nRespiration pranique et extase par le souffle\net plus encore
URL:https://kio-o.ca/evenement/retraite-de-decouverte-tantra-en-couple-avec-martin-bilodeau/2022-09-30/
LOCATION:Kio-o\, 1905 Chemin du rang 6\, Sainte-Lucie\, Québec\, J0T 2J0\, Canada
CATEGORIES:Développement personnel,Méditation
ATTACH;FMTTYPE=image/jpeg:https://kio-o.ca/wp-content/uploads/2021/02/MartinBilodeau_2020-7344_HR600px.jpg
ORGANIZER;CN="Martin Bilodeau Auteur%2C auteur%2C conf%C3%A9rencier et enseignant":MAILTO:info@martinbilodeau.com
GEO:46.132966;-74.1940374
X-APPLE-STRUCTURED-LOCATION;VALUE=URI;X-ADDRESS=Kio-o 1905 Chemin du rang 6 Sainte-Lucie Québec J0T 2J0 Canada;X-APPLE-RADIUS=500;X-TITLE=1905 Chemin du rang 6:geo:-74.1940374,46.132966
END:VEVENT
BEGIN:VEVENT
DTSTART;VALUE=DATE:20220930
DTEND;VALUE=DATE:20221003
DTSTAMP:20260421T071944
CREATED:20220316T181948Z
LAST-MODIFIED:20220316T183926Z
UID:10005997-1664496000-1664755199@kio-o.ca
SUMMARY:Yoga et Méditation avec Stéphanie Kitembo
DESCRIPTION:Yoga et Méditation avec Stéphanie Kitembo\n\nJ’ai découvert le centre Kio-o il y a quelques années. Bien sûr je suis tombée sous le charme de cet endroit superbe au cœur des Laurentides\,  mais tout aussi séduite par celle qui m’y a accueilli : Lise Dagenais ! Lise me raconte comment  elle se consacre à ce domaine avec tant d’étoiles dans ses yeux. Je suis restée fidèle à ce lieu où je propose deux fois dans l’année des retraites de yoga et de méditation.\n\n\n\nDu 30 septembre au 2 octobre\, je vous propose de passer une fin de semaine sur nos tapis de yoga\, dans une toile de fond des couleurs de notre automne québécois laurentien\, en contemplation ou lecture devant le lac privé du domaine\, après un succulent petit déjeuner préparé sur place; des sentiers de randonnées vous permettront d’embrasser cette si belle saison.  Des classes de yoga et de méditation enseignées dans le respect de votre corps seront à votre disposition. Il sera aussi question de repos\, de faire la connaissance d’un groupe très sympa\, et de prendre du temps pour soi.\n\n\n\nVoici une ébauche du programme\, sujet à changement.\n\nVendredi\nArrivée entre 16 h et 17 h et installation dans les chambres\nLa retraite débutera par une présentation de la retraite et une courte pratique de yoga/méditation\n18 h 30 : le souper sera servi\n20 h : la journée se terminera par un yin yoga\n\nSamedi \n6 h 30 : méditation\n7 h – 8 h : classe de yoga de 60 minutes\n8 h 30 : petit déjeuner\nTemps libre (massages en sus)\n13 h : lunch\nTemps libre (massages en sus)\n16 h 30-17 h 45 : Yoga\n18 h 30 : le souper sera servi\n20 h : la journée se terminera par un yoga doux\n\nDimanche\nRandonnée au lever du soleil et méditation\n7 h – 8 h : classe de yoga de 60 minutes\n8 h 30 : petit déjeuner\nTemps libre (massages en sus) – préparation des bagages\n13 h : lunch\n14 h 30 : Méditation et fin de la retraite \n\n15 h 15 : Départ
URL:https://kio-o.ca/evenement/yoga-et-meditation-avec-stephanie-kitembo-2022-09-30/
LOCATION:Kio-o\, 1905 Chemin du rang 6\, Sainte-Lucie\, Québec\, J0T 2J0\, Canada
CATEGORIES:Méditation,Yoga
ATTACH;FMTTYPE=image/png:https://kio-o.ca/wp-content/uploads/2022/03/Stéphanie-Kitembo-2022.png
ORGANIZER;CN="St%C3%A9phanie Kitembo":MAILTO:kitembo31@gmail.com
GEO:46.132966;-74.1940374
X-APPLE-STRUCTURED-LOCATION;VALUE=URI;X-ADDRESS=Kio-o 1905 Chemin du rang 6 Sainte-Lucie Québec J0T 2J0 Canada;X-APPLE-RADIUS=500;X-TITLE=1905 Chemin du rang 6:geo:-74.1940374,46.132966
END:VEVENT
END:VCALENDAR