BEGIN:VCALENDAR
VERSION:2.0
PRODID:-//Kio-o - ECPv6.15.12.2//NONSGML v1.0//EN
CALSCALE:GREGORIAN
METHOD:PUBLISH
X-WR-CALNAME:Kio-o
X-ORIGINAL-URL:https://kio-o.ca
X-WR-CALDESC:Évènements pour Kio-o
REFRESH-INTERVAL;VALUE=DURATION:PT1H
X-Robots-Tag:noindex
X-PUBLISHED-TTL:PT1H
BEGIN:VTIMEZONE
TZID:America/New_York
BEGIN:DAYLIGHT
TZOFFSETFROM:-0500
TZOFFSETTO:-0400
TZNAME:EDT
DTSTART:20200308T070000
END:DAYLIGHT
BEGIN:STANDARD
TZOFFSETFROM:-0400
TZOFFSETTO:-0500
TZNAME:EST
DTSTART:20201101T060000
END:STANDARD
BEGIN:DAYLIGHT
TZOFFSETFROM:-0500
TZOFFSETTO:-0400
TZNAME:EDT
DTSTART:20210314T070000
END:DAYLIGHT
BEGIN:STANDARD
TZOFFSETFROM:-0400
TZOFFSETTO:-0500
TZNAME:EST
DTSTART:20211107T060000
END:STANDARD
BEGIN:DAYLIGHT
TZOFFSETFROM:-0500
TZOFFSETTO:-0400
TZNAME:EDT
DTSTART:20220313T070000
END:DAYLIGHT
BEGIN:STANDARD
TZOFFSETFROM:-0400
TZOFFSETTO:-0500
TZNAME:EST
DTSTART:20221106T060000
END:STANDARD
END:VTIMEZONE
BEGIN:VEVENT
DTSTART;VALUE=DATE:20210813
DTEND;VALUE=DATE:20210816
DTSTAMP:20260422T090000
CREATED:20210520T164553Z
LAST-MODIFIED:20210526T155831Z
UID:10005954-1628812800-1629071999@kio-o.ca
SUMMARY:Rites de passage pour hommes - HO Rites de Passage- Gordon Robertson et Ati Dion
DESCRIPTION:Rites de passage pour hommes \nEn ces temps de grand questionnement sur le statut des hommes en général\, voici une occasion de renouer avec ce pouvoir de l’homme à la fois passionné et sage\, avec le courage et la vitalité qui font partie intégrante de la nature et du pouvoir masculin\, mais aussi avec sa sensibilité et sa vulnérabilité.  \nNous explorons ces qualités par le biais de rites et d’exercices tels que la hutte de sudation\, le contact avec la forêt\, des prises de paroles basées sur l’intégrité et diverses pratiques de centration et d’introspection.  Ce rite se déroule en plein air. \nAti Dion a été psychothérapeute durant une vingtaine d’années et enseigne maintenant dans le domaine de la toxicomanie à l’université. Il s’investit principalement dans les rituels de tradition Brésilienne. Amis de longue date\, Gordon et Ati ont animé plusieurs groupes d’hommes ayant vécu ensemble l’expérience des danses de la Terre et souhaitent contribuer à ramener dans la société d’anciennes pratiques de terre qui appartiennent à l’héritage universel \n– École Québécoise en pratique rituelle \nInfo@horites.com  \n514.990.0319  \nwww.horites.com
URL:https://kio-o.ca/evenement/rites-de-passage-pour-hommes-ho-rites-de-passage-gordon-robertson-et-ati-dion/
LOCATION:Kio-o\, 1905 Chemin du rang 6\, Sainte-Lucie\, Québec\, J0T 2J0\, Canada
CATEGORIES:Méditation,Rituel
ATTACH;FMTTYPE=image/jpeg:https://kio-o.ca/wp-content/uploads/2021/05/Gordon-Ati.jpeg
ORGANIZER;CN="Ho Rites de passage":MAILTO:info@horites.com
GEO:46.132966;-74.1940374
X-APPLE-STRUCTURED-LOCATION;VALUE=URI;X-ADDRESS=Kio-o 1905 Chemin du rang 6 Sainte-Lucie Québec J0T 2J0 Canada;X-APPLE-RADIUS=500;X-TITLE=1905 Chemin du rang 6:geo:-74.1940374,46.132966
END:VEVENT
BEGIN:VEVENT
DTSTART;VALUE=DATE:20210813
DTEND;VALUE=DATE:20210816
DTSTAMP:20260422T090000
CREATED:20210805T190145Z
LAST-MODIFIED:20210806T001725Z
UID:10005968-1628812800-1629071999@kio-o.ca
SUMMARY:CREATIVE PLAYGROUND / TERRAIN DE JEU CRÉATIF - Erik Iversen
DESCRIPTION:CREATIVE PLAYGROUND / TERRAIN DE JEU CRÉATIF – Erik Iversen\n\nCome join me\, Erik Iversen\, for an in-person 5Rhythms residential weekend at KIO-O in the Laurentians August 13-15!\n« Set your creativity and choose to be with those who fan the flames »\n– Gay Hendricks\nInspire yourself by dancing and meditating in nature.\nEmerge renewed\, feeling more alive and fully connected.\nFocus on your unique creative expression through movement.\nTogether\, we’ll create a field of learning and collaboration\,\nawakening each person’s playful spirit.\n________\nJoignez-vous à moi\, Erik Iversen\, pour un weekend d’atelier 5Rythmes en personne à KIO-O dans les Laurentides\, du 13 au 15 août!\n« Mettez le feu à votre créativité et choisissez d’être avec ceux qui attisent les flammes. »\n– Gay Hendricks\nInspirez-vous en dansant et en méditant dans la nature.\nÉmergez renouvelé\, en vous sentant plus vivant et pleinement connecté.\nConcentrez-vous sur votre expression créative unique à travers le mouvement.\nEnsemble\, nous créerons un champ d’apprentissage et de collaboration\,\nen réveillant l’esprit ludique de chacun.\n____\nSCHEDULE/HORAIRE:\nFriday/Vendredi:\nArrival + registration/Arrivée + enregistrement 3-6:30 pm\nWelcome session/Session de bienvenue 8-10 pm\nSaturday/Samedi:\nMorning session/Session du matin 9:30-12:30\nFree Time Swim/Temps libre 1-3pm\nAfternoon session/Session 3-6pm\nEvening Session/Session de soirée 8-9 pm\nSunday/Dimanche:\nMorning session/Session du matin 9:30-12:30 pm\nClosing/Fermeture 2-3 pm\nDeparture/Départ 3-5 pm\n____\nCOST/COÛT\nLodging:\n2 nights\, 6 fresh vegetarian meals\nSingle Room: $320+ tax\nDouble Room: $230 +tax\n\nWorkshop Fee:\nEarlyBird Pay by Friday\, August 8: $185 +tax\nStarting August 7th: $220 +tax\n____\nHébergement :\n2 nuits\, 6 repas végés frais\nOccupation simple: 320 $ + tx\nOccupation double: 230 $ + tx\n\nFrais pour l’atelier :\nLève-tôt\, payé avant le vendredi 8 août -185 $ + tx\nÀ partir du 7 août – 220 $ + tx\n\nTo confirm and register\, contact Erik/\nConfirmer et s’inscrire\, contactez Erik :\nerik@iversen.ca\n(514) 815-7787\nwww.erik.iversen.ca
URL:https://kio-o.ca/evenement/creative-playground-terrain-de-jeu-creatif-erik-iversen/
LOCATION:Kio-o\, 1905 Chemin du rang 6\, Sainte-Lucie\, Québec\, J0T 2J0\, Canada
CATEGORIES:Expression créative,Méditation,Mouvement
ATTACH;FMTTYPE=image/jpeg:https://kio-o.ca/wp-content/uploads/2021/08/Erik-Iversen-2021.jpg
ORGANIZER;CN="Erik Iversen":MAILTO:erik@iversen.ca
GEO:46.132966;-74.1940374
X-APPLE-STRUCTURED-LOCATION;VALUE=URI;X-ADDRESS=Kio-o 1905 Chemin du rang 6 Sainte-Lucie Québec J0T 2J0 Canada;X-APPLE-RADIUS=500;X-TITLE=1905 Chemin du rang 6:geo:-74.1940374,46.132966
END:VEVENT
BEGIN:VEVENT
DTSTART;VALUE=DATE:20210813
DTEND;VALUE=DATE:20210818
DTSTAMP:20260422T090000
CREATED:20210608T212740Z
LAST-MODIFIED:20210813T120004Z
UID:10005760-1628812800-1629244799@kio-o.ca
SUMMARY:RETRAITE YOGA ET MÉDITATION SONORE - Anna Kim - ANNULÉE
DESCRIPTION:RETRAITE YOGA ET MÉDITATION SONORE\n\nJoignez une expérience ressourçante et mélodieuse dans un cadre apaisant et bienfaiteur au cœur des Laurentides. Le centre de ressourcement Kio-o vous accueille pour une retraite yoga de 4 jours de détente\, de calme\, de randonnée\, de repos et d’apprentissage. Au programme : yoga vinyasa \, méditation silencieuse au lever du soleil\, atelier d’introduction à la thérapie sonore\, l’énergie subtile et les chakras\, apprentissage des bols tibétains\, et randonnée.\n\nJOUR 1\n\nPrenez la direction de Sainte-Lucie-des-Laurentides dans les Laurentides.  Le centre de ressourcement Kio-o est un véritable havre de paix au cœur d’un environnement montagneux et boisé dans les Laurentides. Situé dans un cadre naturel enchanteur\, c’est l’endroit idéal pour prendre le temps de vous ressourcer. La retraite sera guidée par Anna Kim\, instructrice de yoga et méditation sonore. \nVous êtes accueillis en après-midi pour l’explication du séjour\, la présentation des participants\, la visite des installations. \nSavoureux souper végétarien servi sous forme de buffet à volonté. L’excellence des repas constitue un élément central du lieu spécialisé en alimentation végétarienne santé. À Kio-o tous les clients font leur vaisselle à chaque repas dans un esprit convivial. \nEn soirée\, un atelier d’introduction à la thérapie sonore sous forme de conversation et petites pratiques sur les bols tibétains\, l’énergie subtile et les chakras. \nJOUR 2 \n\nCe matin\, réveillez-vous en douceur avec une méditation silencieuse au lever du soleil suivi d’une séance de yoga vinyasa. \nVous dégusterez un savoureux déjeuner et profiterez d’un temps libre jusqu’au diner. \nEn après-midi\, randonnée guidée au Mont Kaaikop situé à 15 minutes du centre de ressourcement kio-o. Vous pouvez également rester sur le site et profiter des sentiers alentours. \nSouper végétarien sous forme de buffet. En soirée vous vous initierez aux  mélodies des bols tibétains suivi d’une méditation guidée au son des bols. \nJOUR 3 \n\nCe matin\, réveillez-vous en douceur avec une méditation mélodieuse avec bols tibétains au lever du soleil suivi d’une séance de yoga vinyasa. \nVous dégusterez un savoureux déjeuner suivi d’une marche en pleine conscience (1h) avant de profiter d’un temps libre jusqu’au diner. En après-midi\, méditation guidée de groupe. \nSouper végétarien sous forme de buffet. En soirée\, cercle de partage autour d’un feu de camps. \n\nJOUR 4 \n\nCe matin\, réveillez-vous en douceur avec une méditation mélodieuse avec bols tibétains au lever du soleil suivi d’une dernière séance de yoga vinyasa. \nVous dégusterez un savoureux déjeuner suivi d’un cercle de partage pour conclure le séjour.
URL:https://kio-o.ca/evenement/retraite-yoga-et-meditation-sonore-anna-kim/
LOCATION:Kio-o\, 1905 Chemin du rang 6\, Sainte-Lucie\, Québec\, J0T 2J0\, Canada
CATEGORIES:Développement personnel,Méditation,Yoga
ATTACH;FMTTYPE=image/jpeg:https://kio-o.ca/wp-content/uploads/2021/06/Bol-tibétins-5.jpg
ORGANIZER;CN="Anna Kim":MAILTO:cecile.bellissard@thinkincentive.com
GEO:46.132966;-74.1940374
X-APPLE-STRUCTURED-LOCATION;VALUE=URI;X-ADDRESS=Kio-o 1905 Chemin du rang 6 Sainte-Lucie Québec J0T 2J0 Canada;X-APPLE-RADIUS=500;X-TITLE=1905 Chemin du rang 6:geo:-74.1940374,46.132966
END:VEVENT
END:VCALENDAR