BEGIN:VCALENDAR
VERSION:2.0
PRODID:-//Kio-o - ECPv6.15.12.2//NONSGML v1.0//EN
CALSCALE:GREGORIAN
METHOD:PUBLISH
X-ORIGINAL-URL:https://kio-o.ca
X-WR-CALDESC:Évènements pour Kio-o
REFRESH-INTERVAL;VALUE=DURATION:PT1H
X-Robots-Tag:noindex
X-PUBLISHED-TTL:PT1H
BEGIN:VTIMEZONE
TZID:America/New_York
BEGIN:DAYLIGHT
TZOFFSETFROM:-0500
TZOFFSETTO:-0400
TZNAME:EDT
DTSTART:20200308T070000
END:DAYLIGHT
BEGIN:STANDARD
TZOFFSETFROM:-0400
TZOFFSETTO:-0500
TZNAME:EST
DTSTART:20201101T060000
END:STANDARD
BEGIN:DAYLIGHT
TZOFFSETFROM:-0500
TZOFFSETTO:-0400
TZNAME:EDT
DTSTART:20210314T070000
END:DAYLIGHT
BEGIN:STANDARD
TZOFFSETFROM:-0400
TZOFFSETTO:-0500
TZNAME:EST
DTSTART:20211107T060000
END:STANDARD
BEGIN:DAYLIGHT
TZOFFSETFROM:-0500
TZOFFSETTO:-0400
TZNAME:EDT
DTSTART:20220313T070000
END:DAYLIGHT
BEGIN:STANDARD
TZOFFSETFROM:-0400
TZOFFSETTO:-0500
TZNAME:EST
DTSTART:20221106T060000
END:STANDARD
END:VTIMEZONE
BEGIN:VEVENT
DTSTART;VALUE=DATE:20210917
DTEND;VALUE=DATE:20210920
DTSTAMP:20260422T072959
CREATED:20210731T200153Z
LAST-MODIFIED:20210819T203006Z
UID:10005966-1631836800-1632095999@kio-o.ca
SUMMARY:Retraite personnelle de méditations actives avec Tushar
DESCRIPTION:Retraite personnelle de méditations actives \nQue vous connaissiez ou pas la méditation – vous avez besoin :  d’un temps à la campagne\, de bien manger – de vous retrouver – de vous reposer – sans obligation – ? Cette retraite est pour vous. \nLes méditations actives proposées sont des méditations créées par le maître spirituel Osho. \nVous serez invité·e à expérimenter différentes pratiques de méditation d’une heure chacune et serez en mesure d’apprécier leur effet sur vous.  Selon les commentaires des participant·e·s\, c’est un processus libérateur qui apporte un sentiment de paix\, une belle rencontre avec soi-même. \nHoraire \nJour d’arrivée \nEntre 16 h et 18 h 30 – Arrivée\n18 h 30                          – Souper\n20 h                               – Méditation active \nDeuxième journée\n7 h 15                           – Méditation active\n8 h 30                           – Déjeuner\n12 h                              – Dîner \n14 h 30                         – Marche silencieuse en forêt\n16 h 45                         – Méditation active\n18 h                              – Souper \n19 h  30                        – Méditation active \nDernière journée\n7 h 15                             – Méditation active\n8 h 30                             – Déjeuner \n11 h                                – Méditation Vipassana\n12 h 30                           – Dîner \nForfait tout inclut : 399 $ plus taxes \n819 326-6121 \ninfo@kio-o.ca \nLe forfait inclut : deux nuitées en occupation simple\, sept méditations\, six repas végétariens\, l’accès aux sentiers et au lac. \nUn dépôt de 75 $ confirmera votre inscription. \n[caldera_form_modal id= »CF588f6476160d1″ type= »button » width= »700″]Cliquez ici pour vous inscrire[/caldera_form_modal] \n 
URL:https://kio-o.ca/evenement/retraite-personnelle-de-meditations-actives-avec-tushar/2021-09-17/
LOCATION:Kio-o\, 1905 Chemin du rang 6\, Sainte-Lucie\, Québec\, J0T 2J0\, Canada
CATEGORIES:Méditation
ATTACH;FMTTYPE=image/png:https://kio-o.ca/wp-content/uploads/2018/05/Tushar-1.png
ORGANIZER;CN="Tushar":MAILTO:info@kio-o.ca
GEO:46.132966;-74.1940374
X-APPLE-STRUCTURED-LOCATION;VALUE=URI;X-ADDRESS=Kio-o 1905 Chemin du rang 6 Sainte-Lucie Québec J0T 2J0 Canada;X-APPLE-RADIUS=500;X-TITLE=1905 Chemin du rang 6:geo:-74.1940374,46.132966
END:VEVENT
BEGIN:VEVENT
DTSTART;VALUE=DATE:20210917
DTEND;VALUE=DATE:20210920
DTSTAMP:20260422T072959
CREATED:20210804T144143Z
LAST-MODIFIED:20210804T144143Z
UID:10005967-1631836800-1632095999@kio-o.ca
SUMMARY:La Loba - Un atelier Femmes-Loups animé par Dominique Owen
DESCRIPTION:La Loba – Un atelier Femmes-Loups \n\n\n\n\nPour contacter\nla femme sauvage et intuitive qui ne demande \nqu’à être libre et à s’exprimer. \n\n\n\n\n\n\n\n\n« … Quand les femmes entendent ces mots\, un très vieux souvenir s’éveille\, la mémoire de leur parentalité absolue\, indiscutable et irrévocable avec la féminité sauvage » \nCertaines histoires sont porteuses de filon pour l’âme. On les dit initiatiques. Elles mettentent en perspective certains aspects de nos vies et permettent d’opérer de profondes prises de conscience. Elles sont fertiles en instructions pour nous guider au travers des complexités de l’existence. C’est le cas du remarquable conte du Nouveau- Mexique intitulé LA LOBA (La Louve)\, raconté par Clarissa Pinkola Estés dans son magnifique livre Femmes qui courent avec les loups. À travers la mise en scène de ce mythe\, ce stage explore un chemin pour retrouver la source de cette femme sauvage\, vibrante et donneuse de vie qui sommeille en nous\, et renouveler notre passion pour l’aventure de vivre. Rigoureux et ludique\, festif et sacré\, façon HO Rites de Passage. \nLes stages rituels FEMMES-LOUPS de Paule Lebrun ont touché des milliers de femmes au Québec\, en Europe et en Arizona depuis 30 ans. Axés sur la célébration\, ils nous permettent de renouveler la perspective sur nos vies au travers de pratiques de soul work (travail de l’âme). \nRitualiste passionnée\, Dominique Owen facilite depuis plusieurs années différents stages autour des contes\, de la pratique rituelle et de la psychologie sacrée. Musicienne et auteure\, elle est animée d’une passion contagieuse pour les processus d’exploration intérieure et a à cœur l’accompagnement et l’accès au plein potentiel créateur à travers le rituel et les liens humains. \nDATE : 17 (souper) au 19 septembre 2021 – Vendredi de 19h à 22h – Samedi de 9h à 18h Dimanche de 9h à 16h\nTARIF : 295 $ + tx ou 265 $ + tx avant le 11 août 2021\nLIEU :  Kio-o\, Laurentides (Hébergement et repas en sus) \nTarifs pour le séjour\, par personne + taxes : Chambre partagée : 230 $ – Chambre simple: 308 $ – Camping: 208 $ \n\n\n\n\n\nHO Rites de Passage – École Québécoise en pratique rituelle Info@horites.com – 514.990.0319 – www.horites.com
URL:https://kio-o.ca/evenement/la-loba-un-atelier-femmes-loups-anime-par-dominique-owen/
LOCATION:Kio-o\, 1905 Chemin du rang 6\, Sainte-Lucie\, Québec\, J0T 2J0\, Canada
CATEGORIES:Développement personnel,Méditation,Rituel
ATTACH;FMTTYPE=image/png:https://kio-o.ca/wp-content/uploads/2021/08/Capture-décran-le-2021-08-04-à-10.37.25.png
ORGANIZER;CN="Dominique Owen - Ho Rites de passage":MAILTO:info@horites.com
GEO:46.132966;-74.1940374
X-APPLE-STRUCTURED-LOCATION;VALUE=URI;X-ADDRESS=Kio-o 1905 Chemin du rang 6 Sainte-Lucie Québec J0T 2J0 Canada;X-APPLE-RADIUS=500;X-TITLE=1905 Chemin du rang 6:geo:-74.1940374,46.132966
END:VEVENT
END:VCALENDAR