BEGIN:VCALENDAR
VERSION:2.0
PRODID:-//Kio-o - ECPv6.15.12.2//NONSGML v1.0//EN
CALSCALE:GREGORIAN
METHOD:PUBLISH
X-ORIGINAL-URL:https://kio-o.ca
X-WR-CALDESC:Évènements pour Kio-o
REFRESH-INTERVAL;VALUE=DURATION:PT1H
X-Robots-Tag:noindex
X-PUBLISHED-TTL:PT1H
BEGIN:VTIMEZONE
TZID:America/New_York
BEGIN:DAYLIGHT
TZOFFSETFROM:-0500
TZOFFSETTO:-0400
TZNAME:EDT
DTSTART:20180311T070000
END:DAYLIGHT
BEGIN:STANDARD
TZOFFSETFROM:-0400
TZOFFSETTO:-0500
TZNAME:EST
DTSTART:20181104T060000
END:STANDARD
BEGIN:DAYLIGHT
TZOFFSETFROM:-0500
TZOFFSETTO:-0400
TZNAME:EDT
DTSTART:20190310T070000
END:DAYLIGHT
BEGIN:STANDARD
TZOFFSETFROM:-0400
TZOFFSETTO:-0500
TZNAME:EST
DTSTART:20191103T060000
END:STANDARD
BEGIN:DAYLIGHT
TZOFFSETFROM:-0500
TZOFFSETTO:-0400
TZNAME:EDT
DTSTART:20200308T070000
END:DAYLIGHT
BEGIN:STANDARD
TZOFFSETFROM:-0400
TZOFFSETTO:-0500
TZNAME:EST
DTSTART:20201101T060000
END:STANDARD
END:VTIMEZONE
BEGIN:VEVENT
DTSTART;VALUE=DATE:20190529
DTEND;VALUE=DATE:20190603
DTSTAMP:20260420T101428
CREATED:20180913T194618Z
LAST-MODIFIED:20180914T210219Z
UID:10005799-1559088000-1559519999@kio-o.ca
SUMMARY:Awakening to Spiritual Abundance with Jeff Carreira
DESCRIPTION:Awakening to Spiritual Abundance with Jeff Carreira \nI am thrilled to invite you to a 5-day retreat at the beautiful Kio-O Retreat Center in the beautiful forest hills outside of Montreal\, Canada. \nIn this beautiful setting you will discover that spiritual fulfillment is not something that happens in the future because it is already here now. \nMeditation is most often taught as a concentration technique such as following your breath\, scanning your bodily sensations\, or focusing on a mantra. \nOn this retreat you will discover how meditation can be simply the direct recognition of your own inherent freedom and fulfillment. \nYou see we have all been culturally conditioned to see ourselves as partial\, incomplete\, and deficient. So we assume that we must work hard to find wholeness. \nAt some point we might realize that in spite of all of our best efforts we are not finding the fulfillment we long for. We realize that we will not find the fullness we seek in material acquisitions or even unending personal development. \nWe are looking for spiritual wholeness\, existential contentment and no amount of effort seems to be enough. \nThere are many things in life that we can achieve through hard work and diligent effort\, but wholeness and spiritual fulfillment cannot be achieved this way. \nIf we want our lives to be full and complete\, we must stop making effort long enough to discover that wholeness and contentment are already always ours. \nIn this five day retreat you will be guided through an experience of letting go that will bring you to an immediate recognition of spiritual wholeness. \nYou will discover that a great deal of our feelings of discontent and incompleteness are habits of perception that mask the true fullness of being alive. You will learn how to break the habits of discontent and discover the natural experience of fullness and wholeness that life always is. \nThe miracle that you discover and deepen into will change your life\, relieving you of the burden of anxiety\, worry and self-concern so that you can be available to engage fully with life\, however it appears. \nhttps://jeffcarreira.com/events/montreal-retreat-2019/?ref=2 \nInformation and registration : \nCarmela Luttinger: 514-978-0102\nAriela Luttinger: 514-231-3602\nManon Desjardins: 514-262-4762
URL:https://kio-o.ca/evenement/awakening-to-spiritual-abundance-with-jeff-carreira/
LOCATION:Kio-o\, 1905 Chemin du rang 6\, Sainte-Lucie\, Québec\, J0T 2J0\, Canada
CATEGORIES:Méditation
ATTACH;FMTTYPE=image/jpeg:https://kio-o.ca/wp-content/uploads/2018/09/Jeff-Carreira.jpg
ORGANIZER;CN="Jeff Carreira":MAILTO:jeff@jeffcarreira.com
GEO:46.132966;-74.1940374
X-APPLE-STRUCTURED-LOCATION;VALUE=URI;X-ADDRESS=Kio-o 1905 Chemin du rang 6 Sainte-Lucie Québec J0T 2J0 Canada;X-APPLE-RADIUS=500;X-TITLE=1905 Chemin du rang 6:geo:-74.1940374,46.132966
END:VEVENT
BEGIN:VEVENT
DTSTART;VALUE=DATE:20190517
DTEND;VALUE=DATE:20190521
DTSTAMP:20260420T101428
CREATED:20171029T192428Z
LAST-MODIFIED:20190517T201902Z
UID:10005578-1558051200-1558396799@kio-o.ca
SUMMARY:Retrouvailles des sannyassins
DESCRIPTION:  \nHORAIRE EN CONSTRUCTION DES RETROUVAILLES SANNYAS 2019 \n  \nVendredi 17 – Soirée \n15 h 30 à 18. 30 : Accueil \n18 h 30  : Souper \n20 h : Love méditation avec Ati \n  \nSamedi 18 \n7 h 30-8 h 30  \n– Méditation dynamique  Tushar \n– Yoga \n8 h 30 : Déjeuner \n11  h – 12 h 30 : Méditation du cœur – Deva Michelle \n12 h 30 : Diner \n15 h 30 – 17 h : Rayonnez vos couleurs / Shine your colors Pour en apprendre plus sur nous et sur les autres \nPrem Jasmine Passionnée de l’humain – Profil Nova \n17 h 30 – 18 h 30 : Méditation Kundalini \n18 h 30 : Souper \n*Soirée :  Kirtans avec Parijata et Annie-Claude \n  \nDimanche 19 \n7 h 30-8 h 30 : – Yoga Shivani \n8 h 30 : Déjeuner \n9 h 30 à 11 h 15 : Projet d’embellissement des lieux – en équipe – \n11 h 30– 12 h 30 : Vipassana – Yogi \n12 h 30 : Diner \n14 h  à 15 h 30 : Randonnée en silence – Deva Prem\n \n16 h  – 17 h : La fin de vie – Supana \n17 h 30 – 18 h 30 : Méditation Chakras Breathing \n18 h 30 :   Souper \n*Soirée : 5 Rythmes animé par Shanti Park \n  \nLundi 20 \n7 h 30-8 h 30 : \n– Méditation dynamique Salle du Soleil Levant – Tushar \n– Yoga Shivani \n10 h : White robe – Kairava \n12 h : Brunch \n  \nCoût : \n299 $ chambre partagée \n419 $ chambre simple \n  \nLe coût inclut l’hébergement et la nourriture\, avant taxes. \nPour vous inscrire \nUn dépôt de 75 $ confirmera votre inscription. \n[caldera_form_modal id= »CF588f6476160d1″ type= »button » width= »700″]Cliquez ici pour vous inscrire[/caldera_form_modal] \n  \n  \n 
URL:https://kio-o.ca/evenement/retrouvailles-des-sannyassins-2019-05-17/
LOCATION:Kio-o\, 1905 Chemin du rang 6\, Sainte-Lucie\, Québec\, J0T 2J0\, Canada
CATEGORIES:Expression créative,Méditation,Mouvement,Yoga
ATTACH;FMTTYPE=image/jpeg:https://kio-o.ca/wp-content/uploads/2017/10/IMG_1690.jpg
ORGANIZER;CN="Kio-o":MAILTO:info@kio-o.ca
GEO:46.132966;-74.1940374
X-APPLE-STRUCTURED-LOCATION;VALUE=URI;X-ADDRESS=Kio-o 1905 Chemin du rang 6 Sainte-Lucie Québec J0T 2J0 Canada;X-APPLE-RADIUS=500;X-TITLE=1905 Chemin du rang 6:geo:-74.1940374,46.132966
END:VEVENT
BEGIN:VEVENT
DTSTART;VALUE=DATE:20190503
DTEND;VALUE=DATE:20190506
DTSTAMP:20260420T101428
CREATED:20170708T183237Z
LAST-MODIFIED:20190115T201746Z
UID:10005711-1556841600-1557100799@kio-o.ca
SUMMARY:Qi Gong et méditation - ChandraKala
DESCRIPTION:Qi Gong et méditation\n \nNous apprendrons une des séries de Qi Gong des Cinq Éléments – leur liens\, leurs influences et leur  action en nous et autour de nous – ils sont le fondement de l’énergétique chinoise. \nNous équilibrerons cette pratique en abordant différentes façons de méditer pour pouvoir trouver un accès à l’espace de détente et de silence en nous-mêmes. \n– pour se rassembler intérieurement \n– pour développer sa capacité d’attention \n– pour pouvoir être en action sans se stresser \n– pour une profonde détente du corps et de l‘esprit. \nPratique soutenue\, silence\, repos\, partage et enseignements. \n* Ouvert à toutes et tous – débutants ou ayant de l’expérience \n  \nHORAIRE \nArrivée : 15h et 18h30 \nSouper : 18h30 \n19h45 – 21h \nOuverture: \n– Présentation du groupe et du programme de la fin de semaine \n– Première pratique en mouvement et silence \nSamedi : 7h30 – 8h30 : Méditation active \n8h30 – 10h : Déjeuner \n10h – 13h : – Initiation à la série  des Cinq Éléments \n– Méditation \n13h – 15h30 : Repas et repos \n– Marche en nature facultative et selon la température \n15h30 – 18h30: Pratique de mouvements Qi Gong et méditation \n20h: Détente : Écoute de musique sacrée – Facultatif \nDimanche : Matin: Même horaire que samedi matin \n13h – 14h30 : Repas et repos \n14h30 – 16h : Dernière pratique et clôture \nLe coût inclut l’hébergement et la nourriture\, avant taxes. \nPour vous inscrire \nUn dépôt de 75 $ confirmera votre inscription. \n[caldera_form_modal id= »CF588f6476160d1″ type= »button » width= »700″]Cliquez ici pour vous inscrire[/caldera_form_modal]
URL:https://kio-o.ca/evenement/qi-gong-et-meditation-chandrakala-2018-04-27-2019-05-03/
LOCATION:Kio-o\, 1905 Chemin du rang 6\, Sainte-Lucie\, Québec\, J0T 2J0\, Canada
CATEGORIES:Méditation,Mouvement
ATTACH;FMTTYPE=image/jpeg:https://kio-o.ca/wp-content/uploads/2016/05/DSC_0086cc-e1596989490627.jpg
ORGANIZER;CN="Chandrakala - Qui suis-je ?":MAILTO:info@martinbilodeau.com
GEO:46.132966;-74.1940374
X-APPLE-STRUCTURED-LOCATION;VALUE=URI;X-ADDRESS=Kio-o 1905 Chemin du rang 6 Sainte-Lucie Québec J0T 2J0 Canada;X-APPLE-RADIUS=500;X-TITLE=1905 Chemin du rang 6:geo:-74.1940374,46.132966
END:VEVENT
BEGIN:VEVENT
DTSTART;VALUE=DATE:20190426
DTEND;VALUE=DATE:20190429
DTSTAMP:20260420T101428
CREATED:20160518T064500Z
LAST-MODIFIED:20200809T153633Z
UID:10005570-1556236800-1556495999@kio-o.ca
SUMMARY:Séminaire de fin de semaine - Paul Beaudry
DESCRIPTION:Chaque séminaire présente des enseignements différents. Les thèmes qui sont traités reflètent toujours ce que les participants ont besoin d’intégrer durant cette période particulière. Nous ne publicisons pas les thèmes d’avance car ils sont inspirés quelques semaines à peine avant le séminaire. Peu importe les enseignements dispensés par Paul\, ils sont toujours à point nommé pour chacun de nous. \nPaul Beaudry est guide spirituel et auteur. Depuis 1990\, il a introduit des milliers de personnes à la pratique de la méditation et autant à la voie intérieure. Son parcours de vie et les transformations qu’il a subies par la pratique de la méditation sont une source d’inspiration précieuse. La façon la plus juste et honnête de connaître Paul est d’en faire connaissance par vous-mêmes à travers ses cours. En sa présence\, vous saisirez beaucoup de choses. Lorsqu’on lui demande de se définir\, voici ce qu’il répond : \n« Je suis ce que vous désirez. Que je sois rien\, un enseignant\, un facilitateur ou un sage\, cela n’a aucune importance pour moi. Mon désir sincère est de vous élever vers une plus haute conscience de vous-mêmes et de vous assister dans votre quête d’une paix durable. »
URL:https://kio-o.ca/evenement/ecole-de-meditation-paul-beaudry-2018-11-23-2019-04-26/2019-04-26/
LOCATION:Kio-o\, 1905 Chemin du rang 6\, Sainte-Lucie\, Québec\, J0T 2J0\, Canada
CATEGORIES:Méditation
ATTACH;FMTTYPE=image/jpeg:https://kio-o.ca/wp-content/uploads/2016/05/meditate1.jpg
ORGANIZER;CN="Paul Beaudry":MAILTO:info@meditationpaulbeaudry.com
GEO:46.132966;-74.1940374
X-APPLE-STRUCTURED-LOCATION;VALUE=URI;X-ADDRESS=Kio-o 1905 Chemin du rang 6 Sainte-Lucie Québec J0T 2J0 Canada;X-APPLE-RADIUS=500;X-TITLE=1905 Chemin du rang 6:geo:-74.1940374,46.132966
END:VEVENT
BEGIN:VEVENT
DTSTART;VALUE=DATE:20190419
DTEND;VALUE=DATE:20190422
DTSTAMP:20260420T101428
CREATED:20161017T185031Z
LAST-MODIFIED:20190423T131103Z
UID:10005490-1555632000-1555891199@kio-o.ca
SUMMARY:Retraite personnelle de yoga - Luciemay et méditations actives - Tushar -COMPLET
DESCRIPTION:En cette fin de semaine de Pâques\, vous avez besoin d’un temps à la campagne pour vous retrouver – vous reposer – faire le plein d’énergie – bien manger ?  Cette retraite est pour vous. \nLes activités proposées sont accessibles\, les participants en retirent beaucoup de détente.  Aucune expérience requise. \nHoraire \nVendredi \n18 h 30 – Souper \n20 h  Mot de bienvenue – Classe de yoga et méditation Gourishankar STUDIO DU GONG \n  \nSamedi \n7 h 15 :   Classe de yoga STUDIO DU GONG \n8 h 30 –  Déjeuner en silence \n11 h 15 :   Méditation Chakra Breathing STUDIO DU GONG \n12 h 30 – Dîner en silence \n17 h 15 :  Classe de yoga GONG ou méditation Kundalini SOLEIL LEVANT \n18 h 30 : Souper en silence \n20 h :  Kirtan GONG \n  \nDimanche \n7 h 15 :  Classe de yoga Gong ou méditation Nadabrahma SOLEIL LEVANT \n8 h 30 –  Déjeuner en silence \n11 h : Méditation Vipassana \n12 h 30 – Dîner \nLe forfait inclut:  deux nuitées en occupation simple\, six activités d’une heure\, six repas végétariens (du souper à l’arrivée au dîner du jour du départ). \nLes repas seront servis en silence\, sauf le premier soir et le dernier midi. \n 
URL:https://kio-o.ca/evenement/retraite-personnelle-de-yoga-et-meditation-2017-10-27-2018-03-30-2019-04-19/
LOCATION:Kio-o\, 1905 Chemin du rang 6\, Sainte-Lucie\, Québec\, J0T 2J0\, Canada
CATEGORIES:-,Méditation,Yoga
ATTACH;FMTTYPE=image/jpeg:https://kio-o.ca/wp-content/uploads/2016/10/Méditationetyoga.jpg
ORGANIZER;CN="Luciemay":MAILTO:info@kio-o.ca
GEO:46.132966;-74.1940374
X-APPLE-STRUCTURED-LOCATION;VALUE=URI;X-ADDRESS=Kio-o 1905 Chemin du rang 6 Sainte-Lucie Québec J0T 2J0 Canada;X-APPLE-RADIUS=500;X-TITLE=1905 Chemin du rang 6:geo:-74.1940374,46.132966
END:VEVENT
END:VCALENDAR