BEGIN:VCALENDAR
VERSION:2.0
PRODID:-//Kio-o - ECPv6.15.12.2//NONSGML v1.0//EN
CALSCALE:GREGORIAN
METHOD:PUBLISH
X-WR-CALNAME:Kio-o
X-ORIGINAL-URL:https://kio-o.ca
X-WR-CALDESC:Évènements pour Kio-o
REFRESH-INTERVAL;VALUE=DURATION:PT1H
X-Robots-Tag:noindex
X-PUBLISHED-TTL:PT1H
BEGIN:VTIMEZONE
TZID:America/New_York
BEGIN:DAYLIGHT
TZOFFSETFROM:-0500
TZOFFSETTO:-0400
TZNAME:EDT
DTSTART:20190310T070000
END:DAYLIGHT
BEGIN:STANDARD
TZOFFSETFROM:-0400
TZOFFSETTO:-0500
TZNAME:EST
DTSTART:20191103T060000
END:STANDARD
BEGIN:DAYLIGHT
TZOFFSETFROM:-0500
TZOFFSETTO:-0400
TZNAME:EDT
DTSTART:20200308T070000
END:DAYLIGHT
BEGIN:STANDARD
TZOFFSETFROM:-0400
TZOFFSETTO:-0500
TZNAME:EST
DTSTART:20201101T060000
END:STANDARD
BEGIN:DAYLIGHT
TZOFFSETFROM:-0500
TZOFFSETTO:-0400
TZNAME:EDT
DTSTART:20210314T070000
END:DAYLIGHT
BEGIN:STANDARD
TZOFFSETFROM:-0400
TZOFFSETTO:-0500
TZNAME:EST
DTSTART:20211107T060000
END:STANDARD
END:VTIMEZONE
BEGIN:VEVENT
DTSTART;VALUE=DATE:20201004
DTEND;VALUE=DATE:20201010
DTSTAMP:20260423T051927
CREATED:20200808T145954Z
LAST-MODIFIED:20201003T180948Z
UID:10005925-1601769600-1602287999@kio-o.ca
SUMMARY:Retraite Zen Satori - Revisitée ! - animée par ChandraKala et son équipe ANNULÉE !
DESCRIPTION:Nouvelle retraite Zen Satori transformée et transformante\nUne retraite Zen simple et efficace pour se recharger et faire le point dans sa vie après des mois à vivre un grand tournant de notre histoire\, pour pouvoir vivre la suite le mieux possible. \n  \nPlusieurs en ont déjà fait l’expérience de cette retraite Zen sous la forme de dyades en alternant communication et écoute pour appuyer l’exploration multidimensionnelle de différents Koans de vie. – Les koans sont une quête\, un questionnement de fond sur des thèmes fondamentaux de nos existences : Qui suis-je ? Qui est à l’intérieur ? Ce qu’est la Vie\, l’Amour ? la Liberté ? la Confiance\, la Vérité ? Etc. \nMais ces dyades ne seront pas possibles dans le contexte de la distanciation à respecter \n\nL’exploration se fera donc d’une toute autre façon à travers d’autres formes d’introspections utilisant la parole\, le silence et l’écriture\, des périodes de méditation Vipassana\, des temps de réflexion et de partage inspirés par différents textes de sagesse et de questionnement personnel\, des pratiques de Qi Gong pour prendre soin du corps\, des marche silencieuses en contact avec la nature au beau de l’automne dans les Laurentides. \n  \nNous vivons des temps qui obligent à beaucoup d’ajustement et d’adaptation avec les conditions qu’impose la Covid…nous en sommes tous touchés d’une façon ou d’une autre. \nLa structure habituelle de la retraite Zen Satori n’est pas vraiment possible dans les circonstances de soins et de prudence dont nous nous sentons responsables pour vous inviter à participer à une retraite de groupe en toute sécurité. Comme cela semble vouloir durer encore un certain temps\,  la solution est d’en changer la forme pour pouvoir vous offrir le meilleur contexte qui puisse porter un processus en profondeur. \n  \nL’invitation à l’introspection\, au ralentissement\, au silence\, à la quête du réel en soi et au grand voyage à la verticale demeure la même\, mais la façon de l’articuler sera différente. \n  \nAvec ou sans expérience\, l’invitation est ouverte à tous ceux et celles qui ont à cœur de se donner des moyens pour accéder à l’essentiel\, là où il est possible de trouver une assise fondamentale pour pouvoir vivre les circonstances de la vie sans s’y perdre. \nCOÛTS retraite de cinq jours : \nRETRAITE ZEN SATORI : 499 $ + tx \nHébergement et nourriture : 545 $ pour une chambre partagée – 745 $  pour une chambre en occupation simple. \n10 % DE RÉDUCTION POUR L’INSCRIPTION AVANT LE 10 SEPTEMBRE \n  \n 
URL:https://kio-o.ca/evenement/nouvelle-retraite-zen-satori-transformee-et-transformante-animee-par-chandrakala-et-son-equipe/
LOCATION:Kio-o\, 1905 Chemin du rang 6\, Sainte-Lucie\, Québec\, J0T 2J0\, Canada
CATEGORIES:Développement personnel,Méditation
ATTACH;FMTTYPE=image/png:https://kio-o.ca/wp-content/uploads/2020/08/Capture-d’écran-le-2020-08-09-à-12.11.48.png
ORGANIZER;CN="Chandrakala - Qui suis-je ?":MAILTO:info@martinbilodeau.com
GEO:46.132966;-74.1940374
X-APPLE-STRUCTURED-LOCATION;VALUE=URI;X-ADDRESS=Kio-o 1905 Chemin du rang 6 Sainte-Lucie Québec J0T 2J0 Canada;X-APPLE-RADIUS=500;X-TITLE=1905 Chemin du rang 6:geo:-74.1940374,46.132966
END:VEVENT
END:VCALENDAR