BEGIN:VCALENDAR
VERSION:2.0
PRODID:-//Kio-o - ECPv6.15.12.2//NONSGML v1.0//EN
CALSCALE:GREGORIAN
METHOD:PUBLISH
X-WR-CALNAME:Kio-o
X-ORIGINAL-URL:https://kio-o.ca
X-WR-CALDESC:Évènements pour Kio-o
REFRESH-INTERVAL;VALUE=DURATION:PT1H
X-Robots-Tag:noindex
X-PUBLISHED-TTL:PT1H
BEGIN:VTIMEZONE
TZID:America/New_York
BEGIN:DAYLIGHT
TZOFFSETFROM:-0500
TZOFFSETTO:-0400
TZNAME:EDT
DTSTART:20200308T070000
END:DAYLIGHT
BEGIN:STANDARD
TZOFFSETFROM:-0400
TZOFFSETTO:-0500
TZNAME:EST
DTSTART:20201101T060000
END:STANDARD
BEGIN:DAYLIGHT
TZOFFSETFROM:-0500
TZOFFSETTO:-0400
TZNAME:EDT
DTSTART:20210314T070000
END:DAYLIGHT
BEGIN:STANDARD
TZOFFSETFROM:-0400
TZOFFSETTO:-0500
TZNAME:EST
DTSTART:20211107T060000
END:STANDARD
BEGIN:DAYLIGHT
TZOFFSETFROM:-0500
TZOFFSETTO:-0400
TZNAME:EDT
DTSTART:20220313T070000
END:DAYLIGHT
BEGIN:STANDARD
TZOFFSETFROM:-0400
TZOFFSETTO:-0500
TZNAME:EST
DTSTART:20221106T060000
END:STANDARD
END:VTIMEZONE
BEGIN:VEVENT
DTSTART;VALUE=DATE:20210903
DTEND;VALUE=DATE:20210907
DTSTAMP:20260422T090901
CREATED:20210725T162106Z
LAST-MODIFIED:20210904T214110Z
UID:10005964-1630627200-1630972799@kio-o.ca
SUMMARY:Retrouvailles sannyas 2021
DESCRIPTION:Retrouvailles Sannyas \n \n  \nDepuis près de 20 ans les sannyasins d’Osho se réunissent chaque année pour méditer\, se rencontrer\, faire la fête  : tenter de créer ce que le maitre spirituel Osho appelle Zorba le Bouddha ! Ouvert à tous !\n \n  \nHoraire en cours d’élaboration !!\nHORAIRE DES RETROUVAILLES SANNYAS 2021 \n  \nVendredi  3 septembre 2021 \n15 h 30 à 18. 30 : Accueil \n18 h 30  : Souper \n20 h :  Méditation\n \n  \nSamedi 4 septembre  \n7 h 30 – Dance avec DJ Joss Salle Gong \n7 h 40 – 8 h 40 \n  \n  \n–  Méditation avec Tushar  Salle Soleil Levant \n  \n  \n  \n  \n– Yoga avec Solaya Salle Gong   \n  \n8 h 30 : Déjeuner \n  \n  \n  \n10 h 20 – Dance avec DJ Joss Salle Gong \n10  h 30 – 12 h 30 : L’Inquiry\, un Cadeau de l’Approche Diamant Salle Gong \n Shah Allard et Eme Le Cavalier sont de passage depuis la Californie pour nous faire découvrir l’inquiry\, cette méthode simple\, précise et efficace qui supporte et développe notre capacité à être ici et maintenant\, intime avec notre expérience. \n  \n« Dans l’approche diamant\, l’ego n’est pas le mauvais gars (ou la mauvaise fille) – au contraire\, il peut être une porte vers notre véritable nature. » – Tejo Jourdan \nAinsi\, l’inquiry devient un support indispensable pour actualiser notre réalisation dans notre vie de tous les jours. \n12 h 30 : Diner \n14 h 00 – 16 h : Embellissement des sentiers – Deva Prem\n \n17 h 20 Dance avec DJ Joss Salle Gong \n  \n17 h 30 – 18 h 30 : Méditation Kundalini Salle Gong \n18 h 30 : Souper \nSoirée : Célébrer sa vie – 5 Rythms avec Shanti Park \n  \n  \n  \n  \nDimanche 17 \n7 h 20 : Dance avec DJ Joss Salle Gong  \n7 h 30-8 h 30 : – Yoga \n8 h 30 : Déjeuner \n9 h 20 : Dance avec DJ Joss Salle Gong \n9 h 30 à 11 h 15 : Art éphémère – Activité collective avec Vidrohi \n11 h 30– 12 h 30 : Vipassana \n12 h 30 : Diner \n  \n14 h  à 15 h 30 : Randonnée en silence – Anadi   \n16 h  – 17 h :  \n17 h 20 : Dance avec DJ Joss Salle Gong  \n17 h 30 – 18 h 30 : Méditation Chakras Breathing \n18 h 30 :   Souper \n*Soirée : Cercle de chants sacrés avec Karine Ste-Marie \n  \n  \n  \n  \nLundi 18 \n7 h 30-8 h 30 : \n– Méditation Salle Gong \n8 h 30 :   Muffins et fruits \n10 h : Satsang\n \n11 h 30 : Brunch \n  \n  \n  \nCoût pour trois nuitées incluant les repas et les activités : \n345 $ $ chambre partagée \n449 $ chambre simple \n  \nLe coût inclut l’hébergement et la nourriture\, avant taxes. \nPour vous inscrire \nUn dépôt de 75 $ confirmera votre inscription. \n[caldera_form_modal id= »CF588f6476160d1″ type= »button » width= »700″]Cliquez ici pour vous inscrire[/caldera_form_modal] \n 
URL:https://kio-o.ca/evenement/retrouvailles-sannyas-2021/
LOCATION:Kio-o\, 1905 Chemin du rang 6\, Sainte-Lucie\, Québec\, J0T 2J0\, Canada
CATEGORIES:Méditation,Mouvement
ATTACH;FMTTYPE=image/jpeg:https://kio-o.ca/wp-content/uploads/2017/10/IMG_1690.jpg
GEO:46.132966;-74.1940374
X-APPLE-STRUCTURED-LOCATION;VALUE=URI;X-ADDRESS=Kio-o 1905 Chemin du rang 6 Sainte-Lucie Québec J0T 2J0 Canada;X-APPLE-RADIUS=500;X-TITLE=1905 Chemin du rang 6:geo:-74.1940374,46.132966
END:VEVENT
BEGIN:VEVENT
DTSTART;VALUE=DATE:20210910
DTEND;VALUE=DATE:20210913
DTSTAMP:20260422T090902
CREATED:20210228T210316Z
LAST-MODIFIED:20221003T192135Z
UID:10005947-1631232000-1631491199@kio-o.ca
SUMMARY:Retraite de découverte TANTRA EN COUPLE avec Martin Bilodeau
DESCRIPTION:« L’amour n’est pas quelque chose que vous faites\, l’amour est quelque chose que vous êtes! » – Martin Bilodeau\n\n\n\n\nCette fin de semaine pour couples\, est une invitation à laisser l’amour s’exprimer à travers soi pour se manifester librement dans la rencontre avec l’autre. L’amour est votre essence ultime et une force infinie qui libère le meilleur de soi. Cette énergie s’exprime à travers notre regard\, nos paroles\, nos gestes pour diffuser tendresse et bienveillance autour de nous. L’esprit de cette fin de semaine est la joie\, la légèreté\, la connexion et la douceur. \nCette retraite est un chemin pour libérer votre force d’aimer et pour choisir de vous abandonner aux vérités du cœur. Venez calmer le mental et l’ego pour faire vibrer VOTRE ÊTRE dans un océan d’amour qui vous permettra de retrouver le sens sacré à votre vie et de dévoiler la dimension spirituelle dans votre relation. Cette retraite de ressourcement vous présente quelques-uns des plus précieux enseignements sur le tantrisme\, et ce\, sans nudité. Du point de vue pratique\, le tantra offre une vaste somme de connaissances et de moyens pratiques permettant aux hommes et aux femmes de reconnecter avec leur essence ultime et primordiale\, amour. Le tantra a comme but principal de permettre des transformations intérieures et libérer les êtres de la souffrance. \n\n\n\n\nCes transformations se vivront à travers les pratiques suivantes :\n\nMéditation sur le regard\nMéditation de l’étreinte\nRite d’éveil des sens\nPratique de contemplation dans la nature\nCréation d’un œuvre éphémère (mandala en nature)\nRite de pardon pour se libérer du passé\nMéditation sur le sens de l’amour dans sa vie\nRituel pour reconnaître et voir la beauté en l’autre\nExpérience d’harmonisation de la kundalini\nRespiration pranique et extase par le souffle\net plus encore
URL:https://kio-o.ca/evenement/retraite-de-decouverte-tantra-en-couple-avec-martin-bilodeau/2021-09-10/
LOCATION:Kio-o\, 1905 Chemin du rang 6\, Sainte-Lucie\, Québec\, J0T 2J0\, Canada
CATEGORIES:Développement personnel,Méditation
ATTACH;FMTTYPE=image/jpeg:https://kio-o.ca/wp-content/uploads/2021/02/MartinBilodeau_2020-7344_HR600px.jpg
ORGANIZER;CN="Martin Bilodeau Auteur%2C auteur%2C conf%C3%A9rencier et enseignant":MAILTO:info@martinbilodeau.com
GEO:46.132966;-74.1940374
X-APPLE-STRUCTURED-LOCATION;VALUE=URI;X-ADDRESS=Kio-o 1905 Chemin du rang 6 Sainte-Lucie Québec J0T 2J0 Canada;X-APPLE-RADIUS=500;X-TITLE=1905 Chemin du rang 6:geo:-74.1940374,46.132966
END:VEVENT
END:VCALENDAR