BEGIN:VCALENDAR
VERSION:2.0
PRODID:-//Kio-o - ECPv6.15.12.2//NONSGML v1.0//EN
CALSCALE:GREGORIAN
METHOD:PUBLISH
X-WR-CALNAME:Kio-o
X-ORIGINAL-URL:https://kio-o.ca
X-WR-CALDESC:Évènements pour Kio-o
REFRESH-INTERVAL;VALUE=DURATION:PT1H
X-Robots-Tag:noindex
X-PUBLISHED-TTL:PT1H
BEGIN:VTIMEZONE
TZID:America/New_York
BEGIN:DAYLIGHT
TZOFFSETFROM:-0500
TZOFFSETTO:-0400
TZNAME:EDT
DTSTART:20210314T070000
END:DAYLIGHT
BEGIN:STANDARD
TZOFFSETFROM:-0400
TZOFFSETTO:-0500
TZNAME:EST
DTSTART:20211107T060000
END:STANDARD
BEGIN:DAYLIGHT
TZOFFSETFROM:-0500
TZOFFSETTO:-0400
TZNAME:EDT
DTSTART:20220313T070000
END:DAYLIGHT
BEGIN:STANDARD
TZOFFSETFROM:-0400
TZOFFSETTO:-0500
TZNAME:EST
DTSTART:20221106T060000
END:STANDARD
BEGIN:DAYLIGHT
TZOFFSETFROM:-0500
TZOFFSETTO:-0400
TZNAME:EDT
DTSTART:20230312T070000
END:DAYLIGHT
BEGIN:STANDARD
TZOFFSETFROM:-0400
TZOFFSETTO:-0500
TZNAME:EST
DTSTART:20231105T060000
END:STANDARD
END:VTIMEZONE
BEGIN:VEVENT
DTSTART;VALUE=DATE:20220304
DTEND;VALUE=DATE:20220307
DTSTAMP:20260421T211627
CREATED:20220114T182633Z
LAST-MODIFIED:20220114T182633Z
UID:10005772-1646352000-1646611199@kio-o.ca
SUMMARY:7 NIVEAUX D'EXCELLENCE SPIRITUELLE avec Cécile Purusha Hontoy
DESCRIPTION:7 NIVEAUX D’EXCELLENCE SPIRITUELLE \nVoici un séminaire original d’exploration pour trouver son niveau d’excellence spirituel et le bonifier afin de l’utiliser au profit de soi-même et des autres. Vous êtes prêts à découvrir les mystères de l’intuition\, de la voyance\, des dons paranormaux! Ce séminaire est pour vous. À propos de l’événement\nLes journées seront consacrées à la mise en évidence de vos dons spirituels les plus cachés et les plus oubliés. Parce qu’une personne qui connaît ses dons et pouvoirs peut faire une réelle différence dans sa communauté\, il est nécessaire de les rencontrer\, les voir\, les reconnaître et les faire évoluer. \nNos objectifs seront donc à travers des conférences et des mises en action de vous faire comprendre vos propres dons et comment ils se manifestent. \n– Voir sans voir c’est possible. \n– Effets de la claire-audience et de l’intuition profonde. \n– Reconnaissance et communication avec vos guides de sagesse et vos vies antérieures profondes.( Le guide\, l’entraîneur\, l’enseignant\, le mentor\, le parrain et l’éveilleur). \nPour plus d’information : \n450-601-4169 \n info@ecolepurusha.com
URL:https://kio-o.ca/evenement/7-niveaux-dexcellence-spirituelle-avec-cecile-purusha-hontoy/
LOCATION:Kio-o\, 1905 Chemin du rang 6\, Sainte-Lucie\, Québec\, J0T 2J0\, Canada
CATEGORIES:Développement personnel,Expression créative,Méditation,Yoga
ATTACH;FMTTYPE=image/jpeg:https://kio-o.ca/wp-content/uploads/2021/07/Purusha.jpg
ORGANIZER;CN="C%C3%A9cile-Purusha Hontoy ( swami Purusha )":MAILTO:purushahontoy@hotmail.com
GEO:46.132966;-74.1940374
X-APPLE-STRUCTURED-LOCATION;VALUE=URI;X-ADDRESS=Kio-o 1905 Chemin du rang 6 Sainte-Lucie Québec J0T 2J0 Canada;X-APPLE-RADIUS=500;X-TITLE=1905 Chemin du rang 6:geo:-74.1940374,46.132966
END:VEVENT
END:VCALENDAR