BEGIN:VCALENDAR
VERSION:2.0
PRODID:-//Kio-o - ECPv6.15.12.2//NONSGML v1.0//EN
CALSCALE:GREGORIAN
METHOD:PUBLISH
X-WR-CALNAME:Kio-o
X-ORIGINAL-URL:https://kio-o.ca
X-WR-CALDESC:Évènements pour Kio-o
REFRESH-INTERVAL;VALUE=DURATION:PT1H
X-Robots-Tag:noindex
X-PUBLISHED-TTL:PT1H
BEGIN:VTIMEZONE
TZID:America/New_York
BEGIN:DAYLIGHT
TZOFFSETFROM:-0500
TZOFFSETTO:-0400
TZNAME:EDT
DTSTART:20210314T070000
END:DAYLIGHT
BEGIN:STANDARD
TZOFFSETFROM:-0400
TZOFFSETTO:-0500
TZNAME:EST
DTSTART:20211107T060000
END:STANDARD
BEGIN:DAYLIGHT
TZOFFSETFROM:-0500
TZOFFSETTO:-0400
TZNAME:EDT
DTSTART:20220313T070000
END:DAYLIGHT
BEGIN:STANDARD
TZOFFSETFROM:-0400
TZOFFSETTO:-0500
TZNAME:EST
DTSTART:20221106T060000
END:STANDARD
BEGIN:DAYLIGHT
TZOFFSETFROM:-0500
TZOFFSETTO:-0400
TZNAME:EDT
DTSTART:20230312T070000
END:DAYLIGHT
BEGIN:STANDARD
TZOFFSETFROM:-0400
TZOFFSETTO:-0500
TZNAME:EST
DTSTART:20231105T060000
END:STANDARD
END:VTIMEZONE
BEGIN:VEVENT
DTSTART;VALUE=DATE:20220731
DTEND;VALUE=DATE:20220806
DTSTAMP:20260421T113927
CREATED:20220516T180902Z
LAST-MODIFIED:20220516T180902Z
UID:10006017-1659225600-1659743999@kio-o.ca
SUMMARY:Renaissance - avec Martin Bilodeau
DESCRIPTION:Renaissance\n\nDécouvrez une retraite inspirée de la psychologie sacrée et des rites sacrés du monde entier! \n\nUn voyage intensif sur cinq jours\nqui offre à la fois un apprentissage intellectuel et expérientiel \n\n\n\n\nUn parcours d’empowerment\npour devenir des leaders conscients dans toutes les sphères de votre vie \n\n\n\n\nUne exploration des bases\nd’une nouvelle psychologie des profondeurs \n\n\n\n\nUne communauté éphémère de chercheurs\nqui désirent retrouver et célébrer le sens sacré de leur existence \n\n\n\n\n\nMon invitation\n\n\n\n\nL’angle puissant de la psychologie sacrée fécondera et inspirera nos pratiques. L’esprit de toute ma démarche personnelle s’inscrit dans ce qu’on appelle aujourd’hui le « Dharma Gaïa »\, la rencontre du bouddhisme et du chamanisme. Plus généralement\, je crois qu’en cette période de bouleversement\, un métissage est essentiel pour ouvrir de nouveaux espaces de sagesse et se réapproprier notre évolution autant au niveau personnel et collectif. \nJe vous offre\, à travers ce parcours\, de la rigueur\, de l’ouverture et de l’intégrité\, mais aussi de l’aventure et de l’audace!\nVous voulez découvrir le parcours qui m’inspire dans la transmission de cette retraite? Lisez ceci.
URL:https://kio-o.ca/evenement/renaissance-avec-martin-bilodeau-2/
LOCATION:Kio-o\, 1905 Chemin du rang 6\, Sainte-Lucie\, Québec\, J0T 2J0\, Canada
CATEGORIES:Développement personnel,Méditation,Rituel,Yoga
ATTACH;FMTTYPE=image/jpeg:https://kio-o.ca/wp-content/uploads/2021/02/MartinBilodeau_2020-7344_HR600px.jpg
ORGANIZER;CN="Martin Bilodeau Auteur%2C auteur%2C conf%C3%A9rencier et enseignant":MAILTO:info@martinbilodeau.com
GEO:46.132966;-74.1940374
X-APPLE-STRUCTURED-LOCATION;VALUE=URI;X-ADDRESS=Kio-o 1905 Chemin du rang 6 Sainte-Lucie Québec J0T 2J0 Canada;X-APPLE-RADIUS=500;X-TITLE=1905 Chemin du rang 6:geo:-74.1940374,46.132966
END:VEVENT
BEGIN:VEVENT
DTSTART;VALUE=DATE:20220805
DTEND;VALUE=DATE:20220808
DTSTAMP:20260421T113927
CREATED:20211123T221010Z
LAST-MODIFIED:20221211T012047Z
UID:10005984-1659657600-1659916740@kio-o.ca
SUMMARY:Retraite de yoga\, méditation et journal créatif - Alysson Martel de Espace Atman
DESCRIPTION:Espace Atman est LA ressource en mieux-être. \nWeekend combinant le yoga\, de la méditation\, des enseignements de pleine conscience\, des exercices d’écriture et de collage\, des rituels de libération\, des moments de silence\, des marches méditatives et de la danse expressive. \nCette retraite d’un weekend permet de décrocher des nombreuses responsabilités du quotidien afin de reconnecter avec sa petite voix intérieure. \nS’arrêter et prendre du temps pour soi peut parfois être laborieux; cela demande de dire non à certaines choses\, de déplacer des activités dans son horaire\, de mettre ses limites et d’assumer ses besoins et responsabilités. Or\, nous vous garantissons que les bienfaits récoltés surpassent de beaucoup les efforts déployés. \nTARIF \n(Les tarifs peuvent changer! Pour être certain\, consulter le site Web : \nhttps://www.espaceatman.com/retraites-dun-weekend) \nRégulier : 525 $+tx* \nInscription hâtive 2 mois avant : 475 $+tx* \n  \nTarif incluant : \n\n2 nuitées en hébergement double (il faut ajouter 90 $+tx pour occ. simple);\n6 succulents repas végétariens;\nLes collations et tisanes;\n7 séances en groupe (yoga\, méditation et journal créatif – matériel inclu);\nEnseignements de pleine conscience;\nRituels en nature;\nTemps libre pour se reposer;\n\n*Rabais \n\nRabais de 20 $ pour chaque personne que vous référez et qui vient avec vous;\nRabais pour couple : 20 $/personne;\n\nDépôt \n\nDépôt obligatoire pour réserver votre place : 200$ (à effectuer par virement Interac à info@espaceatman.com; question : quelle région; réponse : Laurentides).\n100% remboursable si annulation plus de 1 mois avant la retraite.\n50% remboursable si annulation plus de 2 semaines avant la retraite (sauf si des mesures sanitaires obligent l’annulation du séjour).\nNon remboursable si annulation moins 2 semaines avant la retraite (sauf si des mesures sanitaires obligent l’annulation du séjour).\n\nBalance \nPayable en entier et non remboursable 1 semaine avant la retraite\, à moins de trouver quelqu’un pour vous remplacer ( sauf si des mesures sanitaires obligent l’annulation du séjour ). \n  \nPOUR VOUS INSCRIRE \n1) Nous faire un virement Interac de 200 $ à info@espaceatman.com pour payer le dépôt qui assure votre place ( question : quelle région; réponse : Laurentides). \n2) Nous envoyer votre courriel\, numéro de téléphone et toute allergie ou intolérance alimentaire par Messenger ( Alysson Martel )\, courriel ( alysson@espaceatman.com ) ou texto ( 514 757-3052) ; \n  \nQUOI APPORTER \n\nArticles de toilette ;\nTapis de yoga et autres accessoires si vous en avez ( coussin\, bloc\, etc. ) ;\nVêtements et chaussures pour l’extérieur ;\nCahier d’écriture si vous en avez un ;\nCouvre-visage\n\nHORAIRE DÉTAILLÉ ( Sujet à changement ) \nVendredi \n17 h : arrivée et installation dans les chambres\n18 h 30 : souper et présentation\n19 h 30 : satsang (enseignements) en groupe \nSamedi \n7 h 30-8 h : méditation \n8 h-9 h : déjeuner\n9 h-10 h : temps libre\n10 h-12 h : yoga et méditation \nDébut du NOBLE SILENCE \n12 h-13 h : dîner \n13 h-14 h : marche méditative en groupe \n14 h-15 h 30 : journal créatif et yoga restaurateur \n15 h 30-18 h : temps libre \n18 h : souper \n19 h 30 : satsang (enseignements) en groupe \nDimanche  \n7 h 30-8 h : méditation \n8 h-9 h déjeuner \n  \nFin du NOBLE SILENCE \n9 h-10 h : Retour sur le noble silence\n10 h-12 h : yoga et méditation\n12 h-13 h : dîner\n13 h-14 h : cercle de conclusion \n  \nPOUR VOUS INSCRIRE \n1) Nous faire un virement Interac de 200 $ à info@espaceatman.com pour payer le dépôt qui assure votre place ( question : quelle région; réponse : Laurentides ). \n2) Nous envoyer votre courriel\, numéro de téléphone et toute allergie ou intolérance alimentaire par Messenger ( Alysson Martel )\, courriel ( alysson@espaceatman.com ) ou texto ( 514-757-3052 ) ; \n  \nPOUR PLUS DE RENSEIGNEMENTS\nContactez-nous par écrit ou encore par téléphone afin de nous poser toutes vos questions. \ninfo@espaceatman.com \n  \nhttps://www.facebook.com/espaceatman/
URL:https://kio-o.ca/evenement/retraite-de-yoga-meditation-et-journal-creatif-alysson-martel-de-espace-atman/2022-08-05/
LOCATION:Kio-o\, 1905 Chemin du rang 6\, Sainte-Lucie\, Québec\, J0T 2J0\, Canada
CATEGORIES:Expression créative,Méditation,Yoga
ATTACH;FMTTYPE=image/jpeg:https://kio-o.ca/wp-content/uploads/2020/02/Alysson-Martel.jpeg
ORGANIZER;CN="Alysson Martel - Espace Atman":MAILTO:info@espaceatman.com
GEO:46.132966;-74.1940374
X-APPLE-STRUCTURED-LOCATION;VALUE=URI;X-ADDRESS=Kio-o 1905 Chemin du rang 6 Sainte-Lucie Québec J0T 2J0 Canada;X-APPLE-RADIUS=500;X-TITLE=1905 Chemin du rang 6:geo:-74.1940374,46.132966
END:VEVENT
BEGIN:VEVENT
DTSTART;VALUE=DATE:20220805
DTEND;VALUE=DATE:20220808
DTSTAMP:20260421T113927
CREATED:20210523T175033Z
LAST-MODIFIED:20220628T185751Z
UID:10005743-1659657600-1659916799@kio-o.ca
SUMMARY:Week-end Zen avec Lise Lapointe
DESCRIPTION:Week-end Zen Avec Lise Lapointe\, organisatrice d’évènements zen\nsanté/mieux-être depuis plus de 10 ans. \nTu as besoin de te ressourcer et de vivre un beau we zen juste pour toi dans un bel environnement naturel avec de belles personnes ? \nBesoin de prendre soin de toi et de ta vie ?! Tu aimes le QiGong\, la méditation… tu aimes apprendre et vivre des méthodes de mieux-être … ou tu aimerais l’expérimenter ? \nTu veux prendre du temps pour améliorer ta santé\, ton mieux-être et ta vie … \nCe week-end zen est pour toi!!! \nWeekend zen QiGong\, méditation\, méthode pour bien te sentir et ateliers de ressourcement et de croissance au Centre Kio-o. \nUn lieu magnifique avec lac\, montagne pour recharger ton énergie et te sentir bien … \nLe monde a changé .. on continue ensemble d’améliorer nos vies et le monde dans lequel nous vivons. \nContenu de la fin de semaine : \n• Mouvements de QiGong.\nUne belle chorégraphie de mouvements que tu pourras intégrer\nquotidiennement pour continuer de prendre soin de toi et de ta vie.\n• Méditations guidées\n• Sons thérapeutiques\,\n• Respirations en conscience\,\n• Yoga yin accessible à tous\n• Techniques efficaces et simples pour libérer les\nstress et émotions désagréables.\n• Autres trucs pour vivre la zénitude\n• Baignade\, Sup\, randonnée\, joie\, musique …\n• Autres … \n• Inscriptions ou informations supplémentaires écrire ; liselapointeqigong@yahoo.com \nÀ la joie de vivre ces beaux moments précieux et de mieux-être avec toi! \n  \nDétails – HébergementAu centre Kio-o : kio-o.ca/environnement✨ ✨ Merci de m’informer le plus tôt possible votrepréférence d’hébergement ( solo ou en duo )avec lenom de votre partenaire de chambre s’il y a lieu.✨ ✨\n\nRepas6 Délicieux repas végétarien local sur placeActivités zenL’horaire détaillé et des informations vous seront transmis lors de votre inscription auprès de Lise Lapointe.Hébergement et repas incluschambre partagée : 273\,64 $ par personne incluant les taxeschambre simple : 386\,32 $ incluant les taxesActivités zen\nPour les participants de l’école : 240 $ incluant les taxes
URL:https://kio-o.ca/evenement/qigong-avec-lise-lapointe-2021-10-15-2022-08-05/
LOCATION:Kio-o\, 1905 Chemin du rang 6\, Sainte-Lucie\, Québec\, J0T 2J0\, Canada
CATEGORIES:Méditation,Mouvement,Qi Gong
ATTACH;FMTTYPE=image/jpeg:https://kio-o.ca/wp-content/uploads/2016/09/Lise-Lapointe.jpg
ORGANIZER;CN="Lise Lapointe":MAILTO:liselapointeqigong@yahoo.com
GEO:46.132966;-74.1940374
X-APPLE-STRUCTURED-LOCATION;VALUE=URI;X-ADDRESS=Kio-o 1905 Chemin du rang 6 Sainte-Lucie Québec J0T 2J0 Canada;X-APPLE-RADIUS=500;X-TITLE=1905 Chemin du rang 6:geo:-74.1940374,46.132966
END:VEVENT
END:VCALENDAR