BEGIN:VCALENDAR
VERSION:2.0
PRODID:-//Kio-o - ECPv6.15.12.2//NONSGML v1.0//EN
CALSCALE:GREGORIAN
METHOD:PUBLISH
X-WR-CALNAME:Kio-o
X-ORIGINAL-URL:https://kio-o.ca
X-WR-CALDESC:Évènements pour Kio-o
REFRESH-INTERVAL;VALUE=DURATION:PT1H
X-Robots-Tag:noindex
X-PUBLISHED-TTL:PT1H
BEGIN:VTIMEZONE
TZID:America/New_York
BEGIN:DAYLIGHT
TZOFFSETFROM:-0500
TZOFFSETTO:-0400
TZNAME:EDT
DTSTART:20230312T070000
END:DAYLIGHT
BEGIN:STANDARD
TZOFFSETFROM:-0400
TZOFFSETTO:-0500
TZNAME:EST
DTSTART:20231105T060000
END:STANDARD
BEGIN:DAYLIGHT
TZOFFSETFROM:-0500
TZOFFSETTO:-0400
TZNAME:EDT
DTSTART:20240310T070000
END:DAYLIGHT
BEGIN:STANDARD
TZOFFSETFROM:-0400
TZOFFSETTO:-0500
TZNAME:EST
DTSTART:20241103T060000
END:STANDARD
BEGIN:DAYLIGHT
TZOFFSETFROM:-0500
TZOFFSETTO:-0400
TZNAME:EDT
DTSTART:20250309T070000
END:DAYLIGHT
BEGIN:STANDARD
TZOFFSETFROM:-0400
TZOFFSETTO:-0500
TZNAME:EST
DTSTART:20251102T060000
END:STANDARD
END:VTIMEZONE
BEGIN:VEVENT
DTSTART;VALUE=DATE:20240726
DTEND;VALUE=DATE:20240729
DTSTAMP:20260419T215511
CREATED:20240315T183909Z
LAST-MODIFIED:20240315T183950Z
UID:10006181-1721952000-1722211199@kio-o.ca
SUMMARY:Week-end Zen - QiGong avec Lise Lapointe
DESCRIPTION:Tu as besoin de te ressourcer et de vivre un beau we zen juste pour toi dans un bel environnement zen avec de belles personnes ?\n​\nBesoin de prendre soin de toi et de ta vie ?!\nTu aimes le QiGong et la méditation ou tu aimerais l’expérimenter ?\n​ \nTu veux prendre du temps pour améliorer ta santé\, ton mieux-être et ta vie … \nCe week-end zen est pour toi !!! \n​ \nLe monde a changé .. on continue ensemble d’améliorer nos vies et le monde dans lequel nous vivons. \n​\nContenu de la fin de semaine : \n​ \n\n\nMouvements de QiGong.Une belle chorégraphie que tu pourras intégrer quotidiennement pour continuer de prendre soin de toi et de ta vie. \n\n\nMéditation taoïste\, \n\n\nSons thérapeutiques\, \n\n\nRespirations en conscience\, \n\n\nTechniques efficaces et simples pour libérer les stress et émotions désagréables. \n\n\nAutres moyens pour vivre la zénitude \n\n\nInscriptions ou informations supplémentaires écrire ; liselapointeqigong@yahoo.com \n\n\nÀ la joie de vivre ces beaux moments précieux avec vous \nLise \n​ \n✨✨Merci de m’informer le plus tôt possible votre préférence d’hébergement avec le nom de votre partenaire de chambre s’il y a lieu.✨✨ \nRepas\nDélicieux repas végétarien local sur place  \n​ \nActivités zen\nL’horaire détaillé et des informations vous seront transmis lors de votre inscription auprès de Lise Lapointe.  \n​ \nHébergement et repas inclus\nchambre partagée : 365\,62 $ par personne incluant les taxes \nchambre simple : 480\,60 $ incluant les taxes \n​ \nActivités zen\nPour les participants : 240 $ incluant les taxes \nPour les nouveaux : 270 $ incluant les taxes
URL:https://kio-o.ca/evenement/week-end-zen-avec-lise-lapointe/
LOCATION:Kio-o\, 1905 Chemin du rang 6\, Sainte-Lucie\, Québec\, J0T 2J0\, Canada
CATEGORIES:Méditation,Qi Gong
ATTACH;FMTTYPE=image/jpeg:https://kio-o.ca/wp-content/uploads/2016/09/Lise-Lapointe.jpg
ORGANIZER;CN="Lise Lapointe":MAILTO:liselapointeqigong@yahoo.com
GEO:46.132966;-74.1940374
X-APPLE-STRUCTURED-LOCATION;VALUE=URI;X-ADDRESS=Kio-o 1905 Chemin du rang 6 Sainte-Lucie Québec J0T 2J0 Canada;X-APPLE-RADIUS=500;X-TITLE=1905 Chemin du rang 6:geo:-74.1940374,46.132966
END:VEVENT
BEGIN:VEVENT
DTSTART;VALUE=DATE:20240728
DTEND;VALUE=DATE:20240731
DTSTAMP:20260419T215511
CREATED:20240110T213228Z
LAST-MODIFIED:20240110T213228Z
UID:10006146-1722124800-1722383999@kio-o.ca
SUMMARY:Tantra en couple animé par Martin Bilodeau
DESCRIPTION:Cette fin de semaine pour couples\, est une invitation à laisser l’amour s’exprimer à travers soi pour se manifester librement dans la rencontre avec l’autre. \nL’amour est votre essence ultime et une force infinie qui libère le meilleur de soi. \nCette énergie s’exprime à travers notre regard\, nos paroles\, nos gestes pour diffuser tendresse et bienveillance autour de nous \n\n\n\n\n\n\n\n\n\n\nMon invitation\n\n\n\n\nL’esprit de cette fin de semaine est la joie\, la légèreté\, la connexion et la douceur.\nCette retraite est un chemin pour libérer votre force d’aimer et pour choisir de vous abandonner aux vérités du cœur. Venez calmer le mental et l’ego pour faire vibrer VOTRE ÊTRE dans un océan d’amour qui vous permettra de retrouver le sens sacré à votre vie et de dévoiler la dimension spirituelle dans votre relation. \nCette retraite de ressourcement vous présente quelques-uns des plus précieux enseignements sur le tantrisme\, et ce\, sans nudité. \nDu point de vue pratique\, le tantra offre une vaste somme de connaissances et de moyens pratiques permettant aux hommes et aux femmes de reconnecter avec leur essence ultime et primordiale\, amour. Le tantra a comme but principal de permettre des transformations intérieures et libérer les êtres de la souffrance.
URL:https://kio-o.ca/evenement/tantra-en-couple-anime-par-martin-bilodeau-3/
LOCATION:Kio-o\, 1905 Chemin du rang 6\, Sainte-Lucie\, Québec\, J0T 2J0\, Canada
CATEGORIES:Développement personnel,Méditation
ATTACH;FMTTYPE=image/png:https://kio-o.ca/wp-content/uploads/2024/01/Martin-Bilodeau-assis.png
ORGANIZER;CN="Martin Bilodeau Auteur%2C auteur%2C conf%C3%A9rencier et enseignant":MAILTO:info@martinbilodeau.com
GEO:46.132966;-74.1940374
X-APPLE-STRUCTURED-LOCATION;VALUE=URI;X-ADDRESS=Kio-o 1905 Chemin du rang 6 Sainte-Lucie Québec J0T 2J0 Canada;X-APPLE-RADIUS=500;X-TITLE=1905 Chemin du rang 6:geo:-74.1940374,46.132966
END:VEVENT
END:VCALENDAR