BEGIN:VCALENDAR
VERSION:2.0
PRODID:-//Kio-o - ECPv6.15.12.2//NONSGML v1.0//EN
CALSCALE:GREGORIAN
METHOD:PUBLISH
X-ORIGINAL-URL:https://kio-o.ca
X-WR-CALDESC:Évènements pour Kio-o
REFRESH-INTERVAL;VALUE=DURATION:PT1H
X-Robots-Tag:noindex
X-PUBLISHED-TTL:PT1H
BEGIN:VTIMEZONE
TZID:America/New_York
BEGIN:DAYLIGHT
TZOFFSETFROM:-0500
TZOFFSETTO:-0400
TZNAME:EDT
DTSTART:20210314T070000
END:DAYLIGHT
BEGIN:STANDARD
TZOFFSETFROM:-0400
TZOFFSETTO:-0500
TZNAME:EST
DTSTART:20211107T060000
END:STANDARD
BEGIN:DAYLIGHT
TZOFFSETFROM:-0500
TZOFFSETTO:-0400
TZNAME:EDT
DTSTART:20220313T070000
END:DAYLIGHT
BEGIN:STANDARD
TZOFFSETFROM:-0400
TZOFFSETTO:-0500
TZNAME:EST
DTSTART:20221106T060000
END:STANDARD
BEGIN:DAYLIGHT
TZOFFSETFROM:-0500
TZOFFSETTO:-0400
TZNAME:EDT
DTSTART:20230312T070000
END:DAYLIGHT
BEGIN:STANDARD
TZOFFSETFROM:-0400
TZOFFSETTO:-0500
TZNAME:EST
DTSTART:20231105T060000
END:STANDARD
END:VTIMEZONE
BEGIN:VEVENT
DTSTART;VALUE=DATE:20221007
DTEND;VALUE=DATE:20221010
DTSTAMP:20260421T003646
CREATED:20220429T135927Z
LAST-MODIFIED:20221004T130602Z
UID:10005999-1665100800-1665359999@kio-o.ca
SUMMARY:Formation de Praticien.ne Soul Coaching ® avec Moëra Saule et Mélany Boucher
DESCRIPTION:Description de la formation :\nLa Formation de Praticien.ne Soul Coaching ® est autant\nune retraite spirituelle et une formation professionnelle. \nAlors que vous développez des compétences en tant que\nPraticien.ne Soul Coaching ® vous créez aussi un\nalignement entre vos valeurs profondes et votre propre\nréalité\, une connexion profonde avec vous-même\, de la\nclarté dans ce qui fait du sens dans votre vie et un\népanouissement à travers la réalisation de ce qui vous\nressemble. Conçue en deux étapes\, elle permet en premier\nlieu de réaliser un programme de 28 jours (en ligne)\, animé\npar la Maître Praticienne Soul Coaching® et Formatrice\,\nMoëra Saule. À cette étape\, vous serez accompagné dans\nun voyage qui vous mènera vers votre authenticité. La\ndeuxième étape se réalisera en présentiel accompagné de\nMoëra et sa partenaire Mélany\, Praticienne Soul\nCoaching®. Lors de cette retraite\, vous aurez la chance\nd’avoir accès à un savoir riche et unique\, d’acquérir des \nméthodes et techniques de « guérison » de l’âme\, issues de\nnombreuses traditions ancestrales. \nDétails :\nDébut : 7 octobre 2022 (à 15 h)\nFin : 09 octobre 2022 (à 13 h) \nLieu :\n– Programme 28 jours (en ligne)\n– Formation Praticien Soul Coaching ® ( Kio-o\, centre de\nressourcement et créativité ) \nOrganisatrice : Mélany Boucher\nPour inscription\nCourriel : melany.boucher29@gmail.com\nTél : 514 240-2223 \nPour informations\n1. Mélany Boucher\nwww.elyadecoaching.com \n2. Soul Coaching® International Institute\nwww.soulcoachinginternationalinstitute.com \n3. Moëra Saule\nwww.shapeyourownworld.com
URL:https://kio-o.ca/evenement/formation-de-praticien-ne-soul-coaching-avec-moera-saule-et-melany-boucher/
LOCATION:Kio-o\, 1905 Chemin du rang 6\, Sainte-Lucie\, Québec\, J0T 2J0\, Canada
CATEGORIES:Développement personnel,Expression créative,Méditation,Mouvement,Santé globale
ATTACH;FMTTYPE=image/png:https://kio-o.ca/wp-content/uploads/2022/04/Capture-décran-le-2022-07-09-à-11.28.48.png
ORGANIZER;CN="Moera Saule et Melany Boucher":MAILTO:melany.boucher29@gmail.com
GEO:46.132966;-74.1940374
X-APPLE-STRUCTURED-LOCATION;VALUE=URI;X-ADDRESS=Kio-o 1905 Chemin du rang 6 Sainte-Lucie Québec J0T 2J0 Canada;X-APPLE-RADIUS=500;X-TITLE=1905 Chemin du rang 6:geo:-74.1940374,46.132966
END:VEVENT
BEGIN:VEVENT
DTSTART;VALUE=DATE:20221007
DTEND;VALUE=DATE:20221010
DTSTAMP:20260421T003646
CREATED:20220815T173908Z
LAST-MODIFIED:20220815T175826Z
UID:10005813-1665100800-1665359999@kio-o.ca
SUMMARY:Féminin Sacré avec Carole Demers
DESCRIPTION:Féminin sacré \nDans le tourbillon de la vie moderne\, nous avons souvent l’impression d’avoir perdu le contact avec soi-même\, nos racines profondes\, notre nature cyclique. Viens te ressourcer\, reconnecter avec la nature\, t’enraciner et reconnaître qui tu es\, ta véritable essence\, ton essence féminine et sacrée. Par des enseignements\, des rituels\, des cercles de parole\, du yoga\, la méditation\, et différents exercices de respiration retrouvons ensemble notre union avec l’énergie féminine profondément enfouie en nous. Reconnais-toi\, souviens-toi qui tu es…
URL:https://kio-o.ca/evenement/10122/
LOCATION:Kio-o\, 1905 Chemin du rang 6\, Sainte-Lucie\, Québec\, J0T 2J0\, Canada
CATEGORIES:Développement personnel,Méditation,Mouvement,Rituel,Yoga
ATTACH;FMTTYPE=image/jpeg:https://kio-o.ca/wp-content/uploads/2022/08/Carole-Demers.jpg
ORGANIZER;CN="Carole Demers":MAILTO:carodemers@gmail.com
GEO:46.132966;-74.1940374
X-APPLE-STRUCTURED-LOCATION;VALUE=URI;X-ADDRESS=Kio-o 1905 Chemin du rang 6 Sainte-Lucie Québec J0T 2J0 Canada;X-APPLE-RADIUS=500;X-TITLE=1905 Chemin du rang 6:geo:-74.1940374,46.132966
END:VEVENT
END:VCALENDAR