BEGIN:VCALENDAR
VERSION:2.0
PRODID:-//Kio-o - ECPv6.15.12.2//NONSGML v1.0//EN
CALSCALE:GREGORIAN
METHOD:PUBLISH
X-ORIGINAL-URL:https://kio-o.ca
X-WR-CALDESC:Évènements pour Kio-o
REFRESH-INTERVAL;VALUE=DURATION:PT1H
X-Robots-Tag:noindex
X-PUBLISHED-TTL:PT1H
BEGIN:VTIMEZONE
TZID:America/New_York
BEGIN:DAYLIGHT
TZOFFSETFROM:-0500
TZOFFSETTO:-0400
TZNAME:EDT
DTSTART:20220313T070000
END:DAYLIGHT
BEGIN:STANDARD
TZOFFSETFROM:-0400
TZOFFSETTO:-0500
TZNAME:EST
DTSTART:20221106T060000
END:STANDARD
BEGIN:DAYLIGHT
TZOFFSETFROM:-0500
TZOFFSETTO:-0400
TZNAME:EDT
DTSTART:20230312T070000
END:DAYLIGHT
BEGIN:STANDARD
TZOFFSETFROM:-0400
TZOFFSETTO:-0500
TZNAME:EST
DTSTART:20231105T060000
END:STANDARD
BEGIN:DAYLIGHT
TZOFFSETFROM:-0500
TZOFFSETTO:-0400
TZNAME:EDT
DTSTART:20240310T070000
END:DAYLIGHT
BEGIN:STANDARD
TZOFFSETFROM:-0400
TZOFFSETTO:-0500
TZNAME:EST
DTSTART:20241103T060000
END:STANDARD
END:VTIMEZONE
BEGIN:VEVENT
DTSTART;VALUE=DATE:20230908
DTEND;VALUE=DATE:20230911
DTSTAMP:20260420T034740
CREATED:20230801T190629Z
LAST-MODIFIED:20230801T190629Z
UID:10006099-1694131200-1694390399@kio-o.ca
SUMMARY:Initiation à la méditation active avec Martin Bilodeau
DESCRIPTION:Initiation à la méditation active\n\nÉveillez la kundalini et retrouvez un bien-être dans votre corps!\n\nCet été\, venez découvrir 6 nouvelles pratiques de méditation active avec moi!\nMantras\, mouvements en conscience\, tremblements\, danse intuitive\, cri libérateur… Cette forme de méditation est très diversifiée. Elle permet de se défouler et de se libérer complètement\, pour ensuite tourner son esprit au centre de soi. Après avoir libéré le corps et le mental\, vous vous déposez au centre du cyclone. \nCes pratiques vous invitent à découvrir le centre de pouvoir stable et puissant qui est en vous. Elles permettent également d’associer votre pratique de la méditation à une activité physique. \n\n\n\n\n\n\n\n\n\n\nMon invitation\n\n\n\n\nCes pratiques ont été créées par Osho spécifiquement pour l’homme moderne. \nElles vous permettront d’évacuer votre stress\, de libérer vos émotions et de calmer votre mental pour vivre de véritable moment d’éveil. Cette fin de semaine s’adressent aux participants de tous les âges et de toutes les conditions physiques. Chacun est encouragé à suivre son rythme afin de simplement permettre à l’énergie de l’habiter en respectant son état dans le moment présent. \nVous recevrez tout au long de la fin de semaine des enseignements sur l’essence de la méditation\, de la kundalini et sur chacune des pratiques qui vous sera proposée. \n  \n\n\n\n\n\n\nBienfaits de la méditation active :\n\n\n\n\n\nLibère les tensions physiques\, émotives et mentales \n\n\n\n\n\nFortifie le corps et stimule le système immunitaire \n\n\n\n\nStimule la kundalini (cette énergie vitale qui circule le long de la colonne vertébrale) \n\n\n\n\nFacilite la guérison en accentuant la régénération des tissus\, des organes et autres fonctions corporelles \n\n\n\n\nRéveille l’énergie sexuelle et sensuelle \n\n\n\n\nPermet de retrouver un bien-être dans son corps \n\n\n\n\nRedonne au corps sa liberté d’action\, l’intelligence naturelle du mouvement et de la spontanéité \n\n\n\n\nPermet de connecter plus librement avec son inspiration et ses idées créatrices \n\n\n\n\n\nAide à perdre du poids par l’accélération de son métabolisme et par la transpiration
URL:https://kio-o.ca/evenement/initiation-a-la-meditation-active-avec-martin-bilodeau-2/
LOCATION:Québec
CATEGORIES:Méditation,Mouvement
ATTACH;FMTTYPE=image/jpeg:https://kio-o.ca/wp-content/uploads/2016/08/MartinBilodeau_2020-7609_HR600px.jpg
ORGANIZER;CN="Martin Bilodeau Auteur%2C auteur%2C conf%C3%A9rencier et enseignant":MAILTO:info@martinbilodeau.com
END:VEVENT
END:VCALENDAR