BEGIN:VCALENDAR
VERSION:2.0
PRODID:-//Kio-o - ECPv6.15.12.2//NONSGML v1.0//EN
CALSCALE:GREGORIAN
METHOD:PUBLISH
X-ORIGINAL-URL:https://kio-o.ca
X-WR-CALDESC:Évènements pour Kio-o
REFRESH-INTERVAL;VALUE=DURATION:PT1H
X-Robots-Tag:noindex
X-PUBLISHED-TTL:PT1H
BEGIN:VTIMEZONE
TZID:America/New_York
BEGIN:DAYLIGHT
TZOFFSETFROM:-0500
TZOFFSETTO:-0400
TZNAME:EDT
DTSTART:20230312T070000
END:DAYLIGHT
BEGIN:STANDARD
TZOFFSETFROM:-0400
TZOFFSETTO:-0500
TZNAME:EST
DTSTART:20231105T060000
END:STANDARD
BEGIN:DAYLIGHT
TZOFFSETFROM:-0500
TZOFFSETTO:-0400
TZNAME:EDT
DTSTART:20240310T070000
END:DAYLIGHT
BEGIN:STANDARD
TZOFFSETFROM:-0400
TZOFFSETTO:-0500
TZNAME:EST
DTSTART:20241103T060000
END:STANDARD
BEGIN:DAYLIGHT
TZOFFSETFROM:-0500
TZOFFSETTO:-0400
TZNAME:EDT
DTSTART:20250309T070000
END:DAYLIGHT
BEGIN:STANDARD
TZOFFSETFROM:-0400
TZOFFSETTO:-0500
TZNAME:EST
DTSTART:20251102T060000
END:STANDARD
END:VTIMEZONE
BEGIN:VEVENT
DTSTART;VALUE=DATE:20240628
DTEND;VALUE=DATE:20240702
DTSTAMP:20260419T202853
CREATED:20240311T195612Z
LAST-MODIFIED:20240311T195612Z
UID:10006167-1719532800-1719878399@kio-o.ca
SUMMARY:RITES DE TERRE ET SPIRITUALITÉ DE LA NATURE avec Gordon Robertson de HO Rites de passage
DESCRIPTION:RITES DE TERRE ET SPIRITUALITÉ DE LA NATURE avec Gordon Robertson de HO Rites de passage\n\nUne initiation puissante au rituel dans l’esprit du mouvement « Earth Consciousness ». 3 jours pour honorer notre lien à la terre et au ciel\, à travers des cérémonies et des danses ancestrales et l’initiation à la roue de médecine.  Si la température nous le permet\, nous y construirons également une hutte de sudation à la façon des anciens\, sorte d’utérus duquel nous sortirons renouvelés.\n\n\nTarif : 395 $ + tx\nHébergement et nourriture en sus.\n\nLes activités de la journée communauté sont offertes avec l’atelier (du 1er juillet 16h au 2 juillet 14 h).\n\n\n\nContact: info@horites.com – 514.990.0319
URL:https://kio-o.ca/evenement/rites-de-terre-et-spiritualite-de-la-nature-avec-gordon-robertson-de-ho-rites-de-passage/
LOCATION:Kio-o\, 1905 Chemin du rang 6\, Sainte-Lucie\, Québec\, J0T 2J0\, Canada
CATEGORIES:Rituel
ATTACH;FMTTYPE=image/jpeg:https://kio-o.ca/wp-content/uploads/2024/03/unnamed-2.jpg
ORGANIZER;CN="Ho Rites de passage":MAILTO:info@horites.com
GEO:46.132966;-74.1940374
X-APPLE-STRUCTURED-LOCATION;VALUE=URI;X-ADDRESS=Kio-o 1905 Chemin du rang 6 Sainte-Lucie Québec J0T 2J0 Canada;X-APPLE-RADIUS=500;X-TITLE=1905 Chemin du rang 6:geo:-74.1940374,46.132966
END:VEVENT
BEGIN:VEVENT
DTSTART;VALUE=DATE:20240701
DTEND;VALUE=DATE:20240703
DTSTAMP:20260419T202853
CREATED:20240311T201140Z
LAST-MODIFIED:20240311T201140Z
UID:10006170-1719792000-1719964799@kio-o.ca
SUMMARY:JOURNÉE COMMUNAUTÉ DE HO RITES DE PASSAGE
DESCRIPTION:JOURNÉE COMMUNAUTÉ DE HO RITES DE PASSAGE\n\nDu lundi 1er juillet\, 15h au 2 juillet\, 15h\n\nAu programme: Danses de paix universelles avec Helga Schleeh et Création d’un bâton de parole avec Isabelle Woolgar\n\nSoirée de danse\, de mouvement et de sacré : les Danses de la Paix Universelle prennent racine dans de nombreuses traditions spirituelles de la terre\, et mêlent chant\, musique live et mouvements évocateurs dans une expérience vivante d’unité\, de paix et d’intégration.\nMardi\, après la méditation matinale et un temps en communauté\, il vous sera proposé d’explorer la création de votre propre bâton de parole. Le processus créatif est soutenu par une approche individuelle et collective.\n\n\n\n\nTarif: 50 $ + tx\nHébergement et nourriture en sus\n\nLes activités de la journée communauté sont offertes avec l’atelier (du 1er juillet 16h au 2 juillet 14 h).\n \nContact: info@horites.com – 514.990.0319
URL:https://kio-o.ca/evenement/journee-communaute-de-ho-rites-de-passage/
LOCATION:Kio-o\, 1905 Chemin du rang 6\, Sainte-Lucie\, Québec\, J0T 2J0\, Canada
CATEGORIES:Rituel
ATTACH;FMTTYPE=image/png:https://kio-o.ca/wp-content/uploads/2024/03/unnamed.png
ORGANIZER;CN="Ho Rites de passage":MAILTO:info@horites.com
GEO:46.132966;-74.1940374
X-APPLE-STRUCTURED-LOCATION;VALUE=URI;X-ADDRESS=Kio-o 1905 Chemin du rang 6 Sainte-Lucie Québec J0T 2J0 Canada;X-APPLE-RADIUS=500;X-TITLE=1905 Chemin du rang 6:geo:-74.1940374,46.132966
END:VEVENT
BEGIN:VEVENT
DTSTART;VALUE=DATE:20240702
DTEND;VALUE=DATE:20240706
DTSTAMP:20260419T202853
CREATED:20240311T200721Z
LAST-MODIFIED:20240311T200721Z
UID:10006169-1719878400-1720223999@kio-o.ca
SUMMARY:ATELIER LA SPIRALE EN MOUVEMENT HO Rites de passage
DESCRIPTION:ATELIER LA SPIRALE EN MOUVEMENT HO Rites de passage\ndu 2 juillet  (15h) au 5  juillet (15h)\n\nAu travers de pratiques d’écologie profonde inspirées du Travail Qui Relie © de Joanna Macy\, ce stage expérientiel nous offre l’opportunité de renouveler notre engagement et notre désir de contribution en contactant notre amour féroce pour la Terre et notre capacité d’agir en son nom. Un mélange d’activisme sacré\, de poésie\, de pratiques rituelles\, chants et danses dans un lieu de nature magnifique ausein d’une communauté bienveillante.\n\n\n\n\nTarif: 395 $ + tx\nHébergement et nourriture en sus\n\nLes activités de la journée communauté sont offertes avec l’atelier (du 1er juillet 16h au 2 juillet 14 h).\n \nContact: info@horites.com – 514.990.0319
URL:https://kio-o.ca/evenement/atelier-la-spirale-en-mouvement-ho-rites-de-passage/
LOCATION:Kio-o\, 1905 Chemin du rang 6\, Sainte-Lucie\, Québec\, J0T 2J0\, Canada
CATEGORIES:Rituel
ATTACH;FMTTYPE=image/png:https://kio-o.ca/wp-content/uploads/2024/03/Spirale.png
ORGANIZER;CN="Ho Rites de passage":MAILTO:info@horites.com
GEO:46.132966;-74.1940374
X-APPLE-STRUCTURED-LOCATION;VALUE=URI;X-ADDRESS=Kio-o 1905 Chemin du rang 6 Sainte-Lucie Québec J0T 2J0 Canada;X-APPLE-RADIUS=500;X-TITLE=1905 Chemin du rang 6:geo:-74.1940374,46.132966
END:VEVENT
BEGIN:VEVENT
DTSTART;VALUE=DATE:20240719
DTEND;VALUE=DATE:20240722
DTSTAMP:20260419T202853
CREATED:20240324T152301Z
LAST-MODIFIED:20240324T152410Z
UID:10006185-1721347200-1721606399@kio-o.ca
SUMMARY:Stage avec l'École Essentia - Écoformation avec Catherine Dajczman - Complet
DESCRIPTION:Mission\n\nAccompagner les individus et les collectivités dans leurs différents passages de vie par le biais de pratiques rituelles\, de pratiques de présence et de pratiques méditatives\nSoutenir et participer à l’expression du plein potentiel de chacun\nCréer des conditions qui permettent à chacun de retourner à l’essence de ce qu’il est\nPartager des expériences\, des savoirs et des compréhensions du monde afin d’enrichir la conscience individuelle et collective\n\nVision\nEssentia est un lieu pour retourner vers soi\, pour se poser dans notre intuition\, là où nous pouvons connaître notre part d’action juste et notre véritable service au monde. Nous observons que lorsqu’il provient d’une inspiration juste\, tout service devient un fil réparateur pour le tissu collectif.
URL:https://kio-o.ca/evenement/stage-avec-lecole-essentia-ecoformation-avec-catherine-dajczman-complet/
LOCATION:Kio-o\, 1905 Chemin du rang 6\, Sainte-Lucie\, Québec\, J0T 2J0\, Canada
CATEGORIES:Rituel
ATTACH;FMTTYPE=image/png:https://kio-o.ca/wp-content/uploads/2024/03/essentia-logo-haut-slogan-source-pro-2-1-1024x685-1.png
ORGANIZER;CN="Catherine Dajczman":MAILTO:info@ecole-essentia.com
GEO:46.132966;-74.1940374
X-APPLE-STRUCTURED-LOCATION;VALUE=URI;X-ADDRESS=Kio-o 1905 Chemin du rang 6 Sainte-Lucie Québec J0T 2J0 Canada;X-APPLE-RADIUS=500;X-TITLE=1905 Chemin du rang 6:geo:-74.1940374,46.132966
END:VEVENT
END:VCALENDAR