BEGIN:VCALENDAR
VERSION:2.0
PRODID:-//Kio-o - ECPv6.15.12.2//NONSGML v1.0//EN
CALSCALE:GREGORIAN
METHOD:PUBLISH
X-ORIGINAL-URL:https://kio-o.ca
X-WR-CALDESC:Évènements pour Kio-o
REFRESH-INTERVAL;VALUE=DURATION:PT1H
X-Robots-Tag:noindex
X-PUBLISHED-TTL:PT1H
BEGIN:VTIMEZONE
TZID:America/New_York
BEGIN:DAYLIGHT
TZOFFSETFROM:-0500
TZOFFSETTO:-0400
TZNAME:EDT
DTSTART:20220313T070000
END:DAYLIGHT
BEGIN:STANDARD
TZOFFSETFROM:-0400
TZOFFSETTO:-0500
TZNAME:EST
DTSTART:20221106T060000
END:STANDARD
BEGIN:DAYLIGHT
TZOFFSETFROM:-0500
TZOFFSETTO:-0400
TZNAME:EDT
DTSTART:20230312T070000
END:DAYLIGHT
BEGIN:STANDARD
TZOFFSETFROM:-0400
TZOFFSETTO:-0500
TZNAME:EST
DTSTART:20231105T060000
END:STANDARD
BEGIN:DAYLIGHT
TZOFFSETFROM:-0500
TZOFFSETTO:-0400
TZNAME:EDT
DTSTART:20240310T070000
END:DAYLIGHT
BEGIN:STANDARD
TZOFFSETFROM:-0400
TZOFFSETTO:-0500
TZNAME:EST
DTSTART:20241103T060000
END:STANDARD
END:VTIMEZONE
BEGIN:VEVENT
DTSTART;VALUE=DATE:20230414
DTEND;VALUE=DATE:20230417
DTSTAMP:20260421T015815
CREATED:20221211T011626Z
LAST-MODIFIED:20221211T011626Z
UID:10006041-1681430400-1681689599@kio-o.ca
SUMMARY:Le soin à l'âme - avec Cécile Purusha Hontoy
DESCRIPTION:On s’accorde pour dire que le soin à l’âme est essentiel. Mais comment s’y prendre pour devenir son propre maître ? Quelle méthode choisir ? Comment comprendre nos guides\, nos rêves\, et le monde de l’invisible qui nous veut heureux et joyeux. Les paramètres de l’éco-chamanisme sont clairs.  Dans notre incarnation terrestre nous avons 5 corps. Ces 5 dimensions de l’être ont besoin de nos soins. \nTu verras comment te choisir un totem  en accord avec ton essence et comment te référer à lui au quotidien. Tu le mettras en évidence au centre du coeur. Et dans le chant de ton tambour\, tu lui donneras Vie. Le\, la chamane en toi se réveillera alors.
URL:https://kio-o.ca/evenement/le-soin-a-lame-avec-cecile-purusha-hontoy/
LOCATION:Kio-o\, 1905 Chemin du rang 6\, Sainte-Lucie\, Québec\, J0T 2J0\, Canada
CATEGORIES:Développement personnel,Méditation,Rituel
ATTACH;FMTTYPE=image/webp:https://kio-o.ca/wp-content/uploads/2022/07/purusha-meditation-yoga2.webp
ORGANIZER;CN="C%C3%A9cile-Purusha Hontoy ( swami Purusha )":MAILTO:purushahontoy@hotmail.com
GEO:46.132966;-74.1940374
X-APPLE-STRUCTURED-LOCATION;VALUE=URI;X-ADDRESS=Kio-o 1905 Chemin du rang 6 Sainte-Lucie Québec J0T 2J0 Canada;X-APPLE-RADIUS=500;X-TITLE=1905 Chemin du rang 6:geo:-74.1940374,46.132966
END:VEVENT
END:VCALENDAR