BEGIN:VCALENDAR
VERSION:2.0
PRODID:-//Kio-o - ECPv6.15.12.2//NONSGML v1.0//EN
CALSCALE:GREGORIAN
METHOD:PUBLISH
X-WR-CALNAME:Kio-o
X-ORIGINAL-URL:https://kio-o.ca
X-WR-CALDESC:Évènements pour Kio-o
REFRESH-INTERVAL;VALUE=DURATION:PT1H
X-Robots-Tag:noindex
X-PUBLISHED-TTL:PT1H
BEGIN:VTIMEZONE
TZID:America/New_York
BEGIN:DAYLIGHT
TZOFFSETFROM:-0500
TZOFFSETTO:-0400
TZNAME:EDT
DTSTART:20230312T070000
END:DAYLIGHT
BEGIN:STANDARD
TZOFFSETFROM:-0400
TZOFFSETTO:-0500
TZNAME:EST
DTSTART:20231105T060000
END:STANDARD
BEGIN:DAYLIGHT
TZOFFSETFROM:-0500
TZOFFSETTO:-0400
TZNAME:EDT
DTSTART:20240310T070000
END:DAYLIGHT
BEGIN:STANDARD
TZOFFSETFROM:-0400
TZOFFSETTO:-0500
TZNAME:EST
DTSTART:20241103T060000
END:STANDARD
BEGIN:DAYLIGHT
TZOFFSETFROM:-0500
TZOFFSETTO:-0400
TZNAME:EDT
DTSTART:20250309T070000
END:DAYLIGHT
BEGIN:STANDARD
TZOFFSETFROM:-0400
TZOFFSETTO:-0500
TZNAME:EST
DTSTART:20251102T060000
END:STANDARD
END:VTIMEZONE
BEGIN:VEVENT
DTSTART;VALUE=DATE:20241101
DTEND;VALUE=DATE:20241104
DTSTAMP:20260419T221726
CREATED:20240311T202846Z
LAST-MODIFIED:20240718T154928Z
UID:10006176-1730419200-1730678399@kio-o.ca
SUMMARY:Cours en miracles – Luce Bertrand
DESCRIPTION:Définition :\nUn miracle\, c’est la correction d’un système de pensées basé sur la peur pour l’adoption d’un système de pensées basé sur l’Amour. \nUn Cours en Miracles fait une distinction très nette entre : \nle réel et l’irréel\nla vérité et l’illusion\nla connaissance et la perception\nl’amour et la peur \nNous vivons majoritairement dans l’illusion agissant tous comme des êtres séparés les uns des autres. Or quand on est pris dans ce monde de la perception\, on est pris dans un rêve qui ressemble souvent plus à un cauchemar. \nNos 50\,000 à 60\,000 pensées par jour sont en majorité inspirées de l’ego :\nfaites de critiques\, jugements\, culpabilité\, inquiétudes\, contrôle\, etc. \nEt ce sont ces pensées qui font notre quotidien! Comment donc être heureux? \nUn Cours en Miracles enseigne le moyen pour échapper du rêve et revenir à la vérité de Ce Que Nous Sommes vraiment. \nCe monde du rêve nous amène surtout à vivre dans un sentiment de manque\, d’isolation et de privation\, ce qui nous amène à aimer autrui pour tout ce qu’il peut nous apporter\, et à ne donner que pour obtenir. \nLe Cours nous montre au contraire que notre Soi véritable n’a aucun besoin puisque nous avons été créés complets\, aimés et aimants. Mais dans ce monde\, on aime dans la peur et non dans l’Amour. \nUn Cours en Miracles apporte le message de la Véritable Aide\, la Réponse\, la Seule Issue\, le chemin pour l’Autre Voie. \nIl nous montre comment échapper au monde du rêve en nous enseignant comment renverser notre façon de penser actuelle et désapprendre nos erreurs. \nC’est le chemin du retour à l’Amour et la façon de mettre fin à la séparation et à la souffrance.\nC’est la voie du pardon et de la guérison finale. \nUn Cours en Miracles nous dit qu’il y a une limite à la fausse création. \nC’est ce moment que chacun atteint un jour ou l’autre de façons différentes. Ce moment porte l’essence d’une telle souffrance qu’on en plie les genoux de douleur et qu’on supplie une puissance supérieure de nous montrer l’Autre Voie.\nLa voici en ce Cours!
URL:https://kio-o.ca/evenement/cours-en-miracles-luce-bertrand-12/
LOCATION:Kio-o\, 1905 Chemin du rang 6\, Sainte-Lucie\, Québec\, J0T 2J0\, Canada
CATEGORIES:Développement personnel,Santé globale
ATTACH;FMTTYPE=image/jpeg:https://kio-o.ca/wp-content/uploads/2016/05/luce.jpg
ORGANIZER;CN="Luce Bertrand":MAILTO:coursenmiracles@lucebertrand.com
GEO:46.132966;-74.1940374
X-APPLE-STRUCTURED-LOCATION;VALUE=URI;X-ADDRESS=Kio-o 1905 Chemin du rang 6 Sainte-Lucie Québec J0T 2J0 Canada;X-APPLE-RADIUS=500;X-TITLE=1905 Chemin du rang 6:geo:-74.1940374,46.132966
END:VEVENT
BEGIN:VEVENT
DTSTART;VALUE=DATE:20241115
DTEND;VALUE=DATE:20241118
DTSTAMP:20260419T221726
CREATED:20240414T140536Z
LAST-MODIFIED:20240415T163350Z
UID:10006188-1731628800-1731887999@kio-o.ca
SUMMARY:Soigner par le regard avec Louise Côté - Institut de coaching holistique
DESCRIPTION:Cette retraite est réservée aux personnes qui suivent la formation \nPRATICIEN(NE) EN SOINS PAR LE REGARD \n  \nPlongez dans l’univers fascinant de la thérapie par le regard\, une approche novatrice et \nprofondément holistique conçue pour les professionnels de la santé\, du mieux-être\, de \nla relation d’aide et du coaching comme vous\, qui veulent soigner\, apaiser autrement \nles maux physiques et psychologiques et apporter du réconfort aux autres\, tout en étant \nau service de la Source! \n  \nCE QUE VOUS RÉSERVE CE PROGRAMME \n  \nCette méthode thérapeutique unique en son genre\, puise ses racines dans la connexion \nentre le spirituel et le soin.  En combinant les synergies entre la glande pinéale\, le 8ième \nchakra (l’étoile de l’âme)\, le pouvoir sublime de la douceur sous toutes ses formes et la \nspiritualité\, vous ouvrirez la porte à une compréhension nouvelle et profonde du \npotentiel incroyable de l’énergie curative du regard applicable dans de multiples \ndomaines reliés à la santé. \n  \nLoin d’un travail motivé par l’ego\, vous serez invité(e) à ouvrir le canal de votre propre \ndimension spirituelle\, en vous connectant à la Source Divine et Lumineuse en vous car\, \ncomme vous vous en doutez\, l’acte de soigner dépasse largement nos capacités \nhumaines personnelles. \n  \nAu cours de ce merveilleux parcours initiatique de 9 semaines\, l’accent est mis sur le \ndéploiement de vos capacités curatives et la reconnexion avec vos forces divines qui \nsont essentielles pour soigner par le regard. \n  \nVous découvrirez . . . \n\nLes assises théoriques du soin avec le regard\nComment utiliser la Flamme Violette dans vos interventions\nLe rituel pour l’ouverture du 8ième chakra (étoile de l’âme)\n\n  \n\nLa glande pinéale et comment l’activer\nDes pratiques pour éveiller le pouvoir de votre douceur\net susciter l’harmonie dans votre être\nL’importance de la pleine présence et du parrainage\nLe toucher de l’ange (massage métamorphique)\nLe protocole complet du soin par le regard\n\nRencontrez votre maître enseignante holistique \n  \nDATE DU DÉBUT DE LA FORMATION: DIMANCHE\, 15 SEPTEMBRE 2024 \n  \nHEURE : De 10 h à 12 h (heure du Québec) \nToutes les dates de la formation sont disponibles sur le site \nLIEU : 8 SEMAINES EN VIRTUEL MAIS EN DIRECT VIA LA PLATEFORME ZOOM \n  \nUNE FIN DE SEMAINE EN PRÉSENTIEL AU CENTRE KIO-O \nLes 15\, 16 et 17 novembre 2024 \n  \nCOÛT : \n997 $ / 997 $ Euros jusqu’au 1 er août 2024 \n1247 $ / 1247 Euros du 2 août au 14 septembre 2024 \nLes coûts pour l’hébergement et les repas sont en sus \n  \nPOUR EN SAVOIR PLUS ET POUR RÉSERVER VOTRE PLACE : \n  \nhttps://www.soignerparleregard.com/
URL:https://kio-o.ca/evenement/soigner-par-le-regard-avec-louise-cote-institut-de-coaching-holistique/
LOCATION:Kio-o\, 1905 Chemin du rang 6\, Sainte-Lucie\, Québec\, J0T 2J0\, Canada
CATEGORIES:Développement personnel,Santé globale
ATTACH;FMTTYPE=image/jpeg:https://kio-o.ca/wp-content/uploads/2024/04/Louise-Cote.jpg
ORGANIZER;CN="Louise Cot%C3%A9":MAILTO:louise@institutdecoachingholistique.com
GEO:46.132966;-74.1940374
X-APPLE-STRUCTURED-LOCATION;VALUE=URI;X-ADDRESS=Kio-o 1905 Chemin du rang 6 Sainte-Lucie Québec J0T 2J0 Canada;X-APPLE-RADIUS=500;X-TITLE=1905 Chemin du rang 6:geo:-74.1940374,46.132966
END:VEVENT
BEGIN:VEVENT
DTSTART;VALUE=DATE:20241129
DTEND;VALUE=DATE:20241202
DTSTAMP:20260419T221726
CREATED:20240311T202940Z
LAST-MODIFIED:20240720T125929Z
UID:10006177-1732838400-1733097599@kio-o.ca
SUMMARY:Cours en miracles – Luce Bertrand
DESCRIPTION:Définition :\nUn miracle\, c’est la correction d’un système de pensées basé sur la peur pour l’adoption d’un système de pensées basé sur l’Amour. \nUn Cours en Miracles fait une distinction très nette entre : \nle réel et l’irréel\nla vérité et l’illusion\nla connaissance et la perception\nl’amour et la peur \nNous vivons majoritairement dans l’illusion agissant tous comme des êtres séparés les uns des autres. Or quand on est pris dans ce monde de la perception\, on est pris dans un rêve qui ressemble souvent plus à un cauchemar. \nNos 50\,000 à 60\,000 pensées par jour sont en majorité inspirées de l’ego :\nfaites de critiques\, jugements\, culpabilité\, inquiétudes\, contrôle\, etc. \nEt ce sont ces pensées qui font notre quotidien! Comment donc être heureux ? \nUn Cours en Miracles enseigne le moyen pour échapper du rêve et revenir à la vérité de Ce Que Nous Sommes vraiment. \nCe monde du rêve nous amène surtout à vivre dans un sentiment de manque\, d’isolation et de privation\, ce qui nous amène à aimer autrui pour tout ce qu’il peut nous apporter\, et à ne donner que pour obtenir. \nLe Cours nous montre au contraire que notre Soi véritable n’a aucun besoin puisque nous avons été créés complets\, aimés et aimants. Mais dans ce monde\, on aime dans la peur et non dans l’Amour. \nUn Cours en Miracles apporte le message de la Véritable Aide\, la Réponse\, la Seule Issue\, le chemin pour l’Autre Voie. \nIl nous montre comment échapper au monde du rêve en nous enseignant comment renverser notre façon de penser actuelle et désapprendre nos erreurs. \nC’est le chemin du retour à l’Amour et la façon de mettre fin à la séparation et à la souffrance.\nC’est la voie du pardon et de la guérison finale. \nUn Cours en Miracles nous dit qu’il y a une limite à la fausse création. \nC’est ce moment que chacun atteint un jour ou l’autre de façons différentes. Ce moment porte l’essence d’une telle souffrance qu’on en plie les genoux de douleur et qu’on supplie une puissance supérieure de nous montrer l’Autre Voie.\nLa voici en ce Cours!
URL:https://kio-o.ca/evenement/cours-en-miracles-luce-bertrand-13/
LOCATION:Kio-o\, 1905 Chemin du rang 6\, Sainte-Lucie\, Québec\, J0T 2J0\, Canada
CATEGORIES:Développement personnel,Santé globale
ATTACH;FMTTYPE=image/jpeg:https://kio-o.ca/wp-content/uploads/2016/05/luce.jpg
ORGANIZER;CN="Luce Bertrand":MAILTO:coursenmiracles@lucebertrand.com
GEO:46.132966;-74.1940374
X-APPLE-STRUCTURED-LOCATION;VALUE=URI;X-ADDRESS=Kio-o 1905 Chemin du rang 6 Sainte-Lucie Québec J0T 2J0 Canada;X-APPLE-RADIUS=500;X-TITLE=1905 Chemin du rang 6:geo:-74.1940374,46.132966
END:VEVENT
END:VCALENDAR