BEGIN:VCALENDAR
VERSION:2.0
PRODID:-//Kio-o - ECPv6.15.12.2//NONSGML v1.0//EN
CALSCALE:GREGORIAN
METHOD:PUBLISH
X-WR-CALNAME:Kio-o
X-ORIGINAL-URL:https://kio-o.ca
X-WR-CALDESC:Évènements pour Kio-o
REFRESH-INTERVAL;VALUE=DURATION:PT1H
X-Robots-Tag:noindex
X-PUBLISHED-TTL:PT1H
BEGIN:VTIMEZONE
TZID:America/New_York
BEGIN:DAYLIGHT
TZOFFSETFROM:-0500
TZOFFSETTO:-0400
TZNAME:EDT
DTSTART:20210314T070000
END:DAYLIGHT
BEGIN:STANDARD
TZOFFSETFROM:-0400
TZOFFSETTO:-0500
TZNAME:EST
DTSTART:20211107T060000
END:STANDARD
BEGIN:DAYLIGHT
TZOFFSETFROM:-0500
TZOFFSETTO:-0400
TZNAME:EDT
DTSTART:20220313T070000
END:DAYLIGHT
BEGIN:STANDARD
TZOFFSETFROM:-0400
TZOFFSETTO:-0500
TZNAME:EST
DTSTART:20221106T060000
END:STANDARD
BEGIN:DAYLIGHT
TZOFFSETFROM:-0500
TZOFFSETTO:-0400
TZNAME:EDT
DTSTART:20230312T070000
END:DAYLIGHT
BEGIN:STANDARD
TZOFFSETFROM:-0400
TZOFFSETTO:-0500
TZNAME:EST
DTSTART:20231105T060000
END:STANDARD
END:VTIMEZONE
BEGIN:VEVENT
DTSTART;VALUE=DATE:20220408
DTEND;VALUE=DATE:20220411
DTSTAMP:20260422T183429
CREATED:20220211T184714Z
LAST-MODIFIED:20220213T213511Z
UID:10005992-1649376000-1649635199@kio-o.ca
SUMMARY:La plante médicinale\, sa beauté sauvage et cultivée  avec Audray Pépin et Marie-Lyne Lavallée
DESCRIPTION:La plante médicinale\, sa beauté sauvage et cultivée \n Tisane et jardin\, en collaboration avec Audray Pépin et Marie-Lyne Lavallée\, propose une retraite qui mélange Yoga\, méditations\, connaissances et expériences traditionnelles\, laquelle a pour fil conducteur la plante médicinale\, son symbolisme\, sa beauté et sa culture. \n  \nAudray (herboriste) et Marie-Lyne (prof de yoga) vous offre cette occasion unique\, en présentiel\, de faire le lien entre la tradition et la technologie de tisane et jardin\, afin de vous initier au merveilleux monde des plantes médicinales. \n  \n\nCette retraite fait appel au sens de la vue\, du touché\, de l’odorat\, du goût et de l’ouï;\nCette retrait implique le mouvement\, le chant\, l’arrêt et le silence;\nCette retraite parle à l’intellectuel\, à l’imaginaire et aux ressentis;\nCette retraite tisse des liens avec le vivant monde des plantes de façon à nourrir l’interdépendance qui nous unit et qui est porteur de vie;\nCette retraite offre des pistes pour continuer ce chemin de découverte de la glorieuse plante médicinale.\n\nÀ NOTER \nLe jour de votre arrivé\, le vendredi 8 avril \n\nNous vous attendons à la réception\, entre 16 h et 18 h.\nLe souper du premier soir sera servi à 18 h 30\, salle à manger au Gros Bonheur\nLa méditation d’ouverture aura lieu à 20 h\, dans la salle au Gong.\n\n  \nLe coût est 115 $ – taxes en sus – pour tous les enseignements : \n\n2 séances de yoga\n3 ateliers de relaxations et méditations\n4 ateliers d’enseignements tisane et jardin\n\n* Tarif étudiant disponible sur demande \n* Payable à Tisane et Jardin \n  \nPour toutes informations : \n514 409-4087 \nmarie-lyne.lavallee@outlook.com \nhttps://tisane-et-jardin.com/ \n  \nVotre hébergement : \n\nChambre en occupation partagée : deux ou trois lits simples par chambre :\n238 $ plus taxes par personne (inclus deux nuitées et six repas végétariens).\nChambre en occupation simple : 336 $ plus taxes (inclus deux nuitées et six repas végétariens)\nLe volet hébergement est payable en entier à Kio-o le jour de votre arrivé le 8 avril\n\n 
URL:https://kio-o.ca/evenement/la-plante-medicinale-sa-beaute-sauvage-et-cultivee-avec-audray-pepin-et-marie-lyne-lavallee/
LOCATION:Kio-o\, 1905 Chemin du rang 6\, Sainte-Lucie\, Québec\, J0T 2J0\, Canada
CATEGORIES:Méditation,Santé globale,Yoga
ATTACH;FMTTYPE=image/png:https://kio-o.ca/wp-content/uploads/2022/02/Tisane-et-jardin.png
GEO:46.132966;-74.1940374
X-APPLE-STRUCTURED-LOCATION;VALUE=URI;X-ADDRESS=Kio-o 1905 Chemin du rang 6 Sainte-Lucie Québec J0T 2J0 Canada;X-APPLE-RADIUS=500;X-TITLE=1905 Chemin du rang 6:geo:-74.1940374,46.132966
END:VEVENT
END:VCALENDAR