BEGIN:VCALENDAR
VERSION:2.0
PRODID:-//Kio-o - ECPv6.15.12.2//NONSGML v1.0//EN
CALSCALE:GREGORIAN
METHOD:PUBLISH
X-ORIGINAL-URL:https://kio-o.ca
X-WR-CALDESC:Évènements pour Kio-o
REFRESH-INTERVAL;VALUE=DURATION:PT1H
X-Robots-Tag:noindex
X-PUBLISHED-TTL:PT1H
BEGIN:VTIMEZONE
TZID:America/New_York
BEGIN:DAYLIGHT
TZOFFSETFROM:-0500
TZOFFSETTO:-0400
TZNAME:EDT
DTSTART:20180311T070000
END:DAYLIGHT
BEGIN:STANDARD
TZOFFSETFROM:-0400
TZOFFSETTO:-0500
TZNAME:EST
DTSTART:20181104T060000
END:STANDARD
BEGIN:DAYLIGHT
TZOFFSETFROM:-0500
TZOFFSETTO:-0400
TZNAME:EDT
DTSTART:20190310T070000
END:DAYLIGHT
BEGIN:STANDARD
TZOFFSETFROM:-0400
TZOFFSETTO:-0500
TZNAME:EST
DTSTART:20191103T060000
END:STANDARD
BEGIN:DAYLIGHT
TZOFFSETFROM:-0500
TZOFFSETTO:-0400
TZNAME:EDT
DTSTART:20200308T070000
END:DAYLIGHT
BEGIN:STANDARD
TZOFFSETFROM:-0400
TZOFFSETTO:-0500
TZNAME:EST
DTSTART:20201101T060000
END:STANDARD
END:VTIMEZONE
BEGIN:VEVENT
DTSTART;VALUE=DATE:20190510
DTEND;VALUE=DATE:20190513
DTSTAMP:20260424T215153
CREATED:20190120T220454Z
LAST-MODIFIED:20190129T181041Z
UID:10005641-1557446400-1557705599@kio-o.ca
SUMMARY:Reconnecter avec son essence divine - Retraite de yoga avec Sara Caron
DESCRIPTION:Reconnecter avec son essence divine  \nBesoin d’un moment pour décrocher du quotidien ? Vous ressourcer ? Calmer votre mental ? Dénouer des tensions physiques ? Passer un moment paisible en pleine nature ? Connecter avec des gens extras ? Prendre un moment JUSTE pour vous ? Peu importe la/les raison(s) qui vous incitent à vouloir participer à cette retraite\, elles seront comblées. Cette fds de bien-être et de ressourcement est pour VOUS ♥ \nQue vous fassiez déjà du yoga ou que vous soyez appelé à découvrir cette pratique extraordinaire et ce\, peu importe votre âge\, votre condition physique (si vous avez des douleurs ou des restrictions) ou votre flexibilité\, vous êtes tous les bienvenus dans cet espace de reconnexion intérieure\, là où chacun va à son rythme\, dans l’amour\, la joie\, le non jugement et l’écoute de soi ♥ \nMon désir le plus profond est de contribuer activement à votre bien-être en vous guidant au mieux de mes connaissances\, d’âme à âme\, et ce\, dans la plus grande authenticité\, simplicité et ouverture de coeur qui soit. J’ai la certitude irrévocable\, de part ma propre expérience\, que le yoga est une pratique extrêmement puissante qui emmène des changements positifs insoupçonnés à divers niveaux et ça sera un grand bonheur pour moi de vous accompagner durant ces deux jours pour vivre cette magnifique aventure ensemble ♥ \nAu plaisir de partager ces moments magiques avec vous ♥ \nLE FORFAIT INCLUS : \n– 2 nuitées en occupation double ou triple\n– 6 repas végétariens santés servis sous forme de buffet à volonté\n– 6 cours de yoga : 3 Kundalini yoga\, 2 yin yoga ( Dont 1 qui sera suivi d’une relaxation guidée) et 1 Tantra yoga\n– 1 Sadhana avec chants de mantras\n– 2 cercles de paroles\n– Un accès à tous les services offerts sur place :\n♥ 2\,5 kilomètres de sentiers de randonnée\n♥ Petit lac privé baignable\n♥ Promenade éclairée autour du lac\n♥ Site de feu de camp\n♥ Deux grands terrains pour activités extérieures\n♥ Canot\n♥ Quai\n♥ Chaises suspendues\n♥ 8 tables de pique-nique avec parasol\n♥ Tous les accessoires (tapis\, blocs et cie) sont fournis sur place \nPour le plan détaillé de la retraite\, le coût et autres informations pertinentes\, veuillez simplement cliquer sur le lien de l’évènement au bas de cette page dans la section  » Animateur – Site Web  »  \nAu plaisir de vous y voir belles âmes ♥ \nSara
URL:https://kio-o.ca/evenement/retraite-de-yoga-avec-sara-caron/
LOCATION:Kio-o\, 1905 Chemin du rang 6\, Sainte-Lucie\, Québec\, J0T 2J0\, Canada
CATEGORIES:Yoga
ATTACH;FMTTYPE=image/jpeg:https://kio-o.ca/wp-content/uploads/2019/01/sara-caron-teachers-7659.jpg
ORGANIZER;CN="Sara Caron":MAILTO:sara.caron@outlook.com
GEO:46.132966;-74.1940374
X-APPLE-STRUCTURED-LOCATION;VALUE=URI;X-ADDRESS=Kio-o 1905 Chemin du rang 6 Sainte-Lucie Québec J0T 2J0 Canada;X-APPLE-RADIUS=500;X-TITLE=1905 Chemin du rang 6:geo:-74.1940374,46.132966
END:VEVENT
BEGIN:VEVENT
DTSTART;VALUE=DATE:20190517
DTEND;VALUE=DATE:20190521
DTSTAMP:20260424T215153
CREATED:20171029T192428Z
LAST-MODIFIED:20190517T201902Z
UID:10005578-1558051200-1558396799@kio-o.ca
SUMMARY:Retrouvailles des sannyassins
DESCRIPTION:  \nHORAIRE EN CONSTRUCTION DES RETROUVAILLES SANNYAS 2019 \n  \nVendredi 17 – Soirée \n15 h 30 à 18. 30 : Accueil \n18 h 30  : Souper \n20 h : Love méditation avec Ati \n  \nSamedi 18 \n7 h 30-8 h 30  \n– Méditation dynamique  Tushar \n– Yoga \n8 h 30 : Déjeuner \n11  h – 12 h 30 : Méditation du cœur – Deva Michelle \n12 h 30 : Diner \n15 h 30 – 17 h : Rayonnez vos couleurs / Shine your colors Pour en apprendre plus sur nous et sur les autres \nPrem Jasmine Passionnée de l’humain – Profil Nova \n17 h 30 – 18 h 30 : Méditation Kundalini \n18 h 30 : Souper \n*Soirée :  Kirtans avec Parijata et Annie-Claude \n  \nDimanche 19 \n7 h 30-8 h 30 : – Yoga Shivani \n8 h 30 : Déjeuner \n9 h 30 à 11 h 15 : Projet d’embellissement des lieux – en équipe – \n11 h 30– 12 h 30 : Vipassana – Yogi \n12 h 30 : Diner \n14 h  à 15 h 30 : Randonnée en silence – Deva Prem\n \n16 h  – 17 h : La fin de vie – Supana \n17 h 30 – 18 h 30 : Méditation Chakras Breathing \n18 h 30 :   Souper \n*Soirée : 5 Rythmes animé par Shanti Park \n  \nLundi 20 \n7 h 30-8 h 30 : \n– Méditation dynamique Salle du Soleil Levant – Tushar \n– Yoga Shivani \n10 h : White robe – Kairava \n12 h : Brunch \n  \nCoût : \n299 $ chambre partagée \n419 $ chambre simple \n  \nLe coût inclut l’hébergement et la nourriture\, avant taxes. \nPour vous inscrire \nUn dépôt de 75 $ confirmera votre inscription. \n[caldera_form_modal id= »CF588f6476160d1″ type= »button » width= »700″]Cliquez ici pour vous inscrire[/caldera_form_modal] \n  \n  \n 
URL:https://kio-o.ca/evenement/retrouvailles-des-sannyassins-2019-05-17/
LOCATION:Kio-o\, 1905 Chemin du rang 6\, Sainte-Lucie\, Québec\, J0T 2J0\, Canada
CATEGORIES:Expression créative,Méditation,Mouvement,Yoga
ATTACH;FMTTYPE=image/jpeg:https://kio-o.ca/wp-content/uploads/2017/10/IMG_1690.jpg
ORGANIZER;CN="Kio-o":MAILTO:info@kio-o.ca
GEO:46.132966;-74.1940374
X-APPLE-STRUCTURED-LOCATION;VALUE=URI;X-ADDRESS=Kio-o 1905 Chemin du rang 6 Sainte-Lucie Québec J0T 2J0 Canada;X-APPLE-RADIUS=500;X-TITLE=1905 Chemin du rang 6:geo:-74.1940374,46.132966
END:VEVENT
BEGIN:VEVENT
DTSTART;VALUE=DATE:20190523
DTEND;VALUE=DATE:20190528
DTSTAMP:20260424T215153
CREATED:20190122T210455Z
LAST-MODIFIED:20190122T210455Z
UID:10005649-1558569600-1559001599@kio-o.ca
SUMMARY:Retraite privée - Cécile Purusha Hontoy
DESCRIPTION:Cette retraite est sur invitation privée seulement.
URL:https://kio-o.ca/evenement/retraite-privee-cecile-purusha-hontoy/
LOCATION:Kio-o\, 1905 Chemin du rang 6\, Sainte-Lucie\, Québec\, J0T 2J0\, Canada
CATEGORIES:Développement personnel,Yoga
ATTACH;FMTTYPE=image/jpeg:https://kio-o.ca/wp-content/uploads/2017/09/Purusha-photo.jpg
ORGANIZER;CN="C%C3%A9cile-Purusha Hontoy ( swami Purusha )":MAILTO:purushahontoy@hotmail.com
GEO:46.132966;-74.1940374
X-APPLE-STRUCTURED-LOCATION;VALUE=URI;X-ADDRESS=Kio-o 1905 Chemin du rang 6 Sainte-Lucie Québec J0T 2J0 Canada;X-APPLE-RADIUS=500;X-TITLE=1905 Chemin du rang 6:geo:-74.1940374,46.132966
END:VEVENT
END:VCALENDAR