BEGIN:VCALENDAR
VERSION:2.0
PRODID:-//Kio-o - ECPv6.15.12.2//NONSGML v1.0//EN
CALSCALE:GREGORIAN
METHOD:PUBLISH
X-ORIGINAL-URL:https://kio-o.ca
X-WR-CALDESC:Évènements pour Kio-o
REFRESH-INTERVAL;VALUE=DURATION:PT1H
X-Robots-Tag:noindex
X-PUBLISHED-TTL:PT1H
BEGIN:VTIMEZONE
TZID:America/New_York
BEGIN:DAYLIGHT
TZOFFSETFROM:-0500
TZOFFSETTO:-0400
TZNAME:EDT
DTSTART:20200308T070000
END:DAYLIGHT
BEGIN:STANDARD
TZOFFSETFROM:-0400
TZOFFSETTO:-0500
TZNAME:EST
DTSTART:20201101T060000
END:STANDARD
BEGIN:DAYLIGHT
TZOFFSETFROM:-0500
TZOFFSETTO:-0400
TZNAME:EDT
DTSTART:20210314T070000
END:DAYLIGHT
BEGIN:STANDARD
TZOFFSETFROM:-0400
TZOFFSETTO:-0500
TZNAME:EST
DTSTART:20211107T060000
END:STANDARD
BEGIN:DAYLIGHT
TZOFFSETFROM:-0500
TZOFFSETTO:-0400
TZNAME:EDT
DTSTART:20220313T070000
END:DAYLIGHT
BEGIN:STANDARD
TZOFFSETFROM:-0400
TZOFFSETTO:-0500
TZNAME:EST
DTSTART:20221106T060000
END:STANDARD
END:VTIMEZONE
BEGIN:VEVENT
DTSTART;VALUE=DATE:20210930
DTEND;VALUE=DATE:20211004
DTSTAMP:20260422T111013
CREATED:20200901T211253Z
LAST-MODIFIED:20200901T211253Z
UID:10005931-1632960000-1633305599@kio-o.ca
SUMMARY:Back to Balance yoga retreat - with Cat Doyle
DESCRIPTION:Back to Balance\n\n\n\n\n\n\n\n\n\n \n\n\n\n\n\n\n\n\n\n\n \n\n\n\n\n\n\n\n\n\n\n \n\n\n\n\n\n\n\n\n\n\n\nTake a break from the ordinary to experience the magic and peacefulness of the Laurentian Mountains in Quebec.\nKio-o Retreat Centre is situated on a private lake with 125 acres of surrounding forest and boasts trails that lead to stunning views. \nAutumn is the ideal season to reflect\, nourish and bring yourself back to balance. Yoga practices will include energizing flows and restorative yins. During the extended weekend\, you will experience grounding meditations\, connecting group activities and time in nature\, all curated to leave you feeling more balanced.\n \n\n\n\n\n\n\n\n\nIncludes: vegetarian meals (gluten-free and vegan options available) | 3 nights accommodation | yoga | meditation | essential oil aromatherapy | curated group activities | social bonfire \nNot Included: transportation | alcohol (you’re welcome to bring your own) | purchases from the gift shop \nInvestment: $600 shared room / $750 single room | non-refundable deposit of $250 upon registration for yoga to Cat | Balance due via cash\, cheque or credit card to Kio-o for accommodation \n\n\n\n\n\n\n  \nTentative Itinerary: \nThursday \n5pm onwards – arrive and check-in \n6:30pm – dinner \n8pm – opening circle + restorative yoga \n\n\n\n\n\n\n\nFriday \n7:30am – meditation + yoga \n9am – breakfast \n10am – group hike \n12pm – lunch \n5pm – yin/restorative yoga \n7pm – dinner \n\n\n\n\n\n\n\nSaturday \n6:30am – sunrise yoga + meditation \n8:30am – breakfast \n10am -group activity \n12pm – lunch \n3pm – yoga workshop \n5pm – YogAroma with essential oils \n7pm – dinner + bonfire \n\n\n\n\n\n\n\nSunday \n8:30am – breakfast \n10am – yoga + closing circle \n12pm – lunch \n\n\n\n\n\n\n\n“We always love the events that Cat organizes. Her passion for yoga and attention to every detail of the experience is noticed. This was an amazing retreat that was accessible to all skill levels and held at a facility that was well-equipped for such an event Thank you so much. ”— Larry M.
URL:https://kio-o.ca/evenement/back-to-balance-yoga-retreat-with-cat-doyle/
LOCATION:Kio-o\, 1905 Chemin du rang 6\, Sainte-Lucie\, Québec\, J0T 2J0\, Canada
CATEGORIES:Yoga
ATTACH;FMTTYPE=image/jpeg:https://kio-o.ca/wp-content/uploads/2020/09/CatDoyleYogaretreatOttawa.jpg
ORGANIZER;CN="Cat Doyle":MAILTO:info@unrollthemat.ca
GEO:46.132966;-74.1940374
X-APPLE-STRUCTURED-LOCATION;VALUE=URI;X-ADDRESS=Kio-o 1905 Chemin du rang 6 Sainte-Lucie Québec J0T 2J0 Canada;X-APPLE-RADIUS=500;X-TITLE=1905 Chemin du rang 6:geo:-74.1940374,46.132966
END:VEVENT
BEGIN:VEVENT
DTSTART;VALUE=DATE:20211010
DTEND;VALUE=DATE:20211013
DTSTAMP:20260422T111013
CREATED:20210809T204936Z
LAST-MODIFIED:20211011T180637Z
UID:10005969-1633824000-1634083199@kio-o.ca
SUMMARY:Revivez et refaites le plein grâce à la retraite!   Méditation Mudra\, Mouvements joyeux sacrés\, Mantra avec Amrita Choudhury - Annulé
DESCRIPTION:Une retraite spéciale de 3 jours au cœur de la forêt Laurentienne et des montagnes au centre Kio-o. Ateliers apaisants et paisibles dans la méditation Mudra\, relaxation profonde Respiration (pranayam) Mouvement joyeux sacré (Nrityoga®)\, Mantra de guérison par le son\, & Yoga Nidra (yoga du sommeil ). \n  \nKIO-O est un centre de retraite situé au cœur de la paisible forêt Laurentienne. L’atmosphère calme\, le lac privé\, la vue splendide depuis la falaise\, la montagne et les délicieux sentiers de la nature offrent un cadre qui favorise la sérénité et la détente profonde. Le silence\, l’air pur de la montagne et le contact direct de la nature sont des sources d’inspiration continues.\nplus d’informations sur la retraite :  https://www.nrityayogadance.com/retreats
URL:https://kio-o.ca/evenement/revivez-et-refaites-le-plein-grace-a-la-retraite-meditation-mudra-mouvements-joyeux-sacres-mantra/
LOCATION:Kio-o\, 1905 Chemin du rang 6\, Sainte-Lucie\, Québec\, J0T 2J0\, Canada
CATEGORIES:Expression créative,Méditation,Mouvement,Yoga
ATTACH;FMTTYPE=image/jpeg:https://kio-o.ca/wp-content/uploads/2021/08/0-1.jpg
ORGANIZER;CN="Amrita Choudhury":MAILTO:a_choud@hotmail.com
GEO:46.132966;-74.1940374
X-APPLE-STRUCTURED-LOCATION;VALUE=URI;X-ADDRESS=Kio-o 1905 Chemin du rang 6 Sainte-Lucie Québec J0T 2J0 Canada;X-APPLE-RADIUS=500;X-TITLE=1905 Chemin du rang 6:geo:-74.1940374,46.132966
END:VEVENT
BEGIN:VEVENT
DTSTART;VALUE=DATE:20211029
DTEND;VALUE=DATE:20211101
DTSTAMP:20260422T111013
CREATED:20210724T154607Z
LAST-MODIFIED:20210724T154607Z
UID:10005962-1635465600-1635724799@kio-o.ca
SUMMARY:RÉCONCILIATION AVEC SOI animée par Cécile Hontoy
DESCRIPTION:RÉCONCILIATION AVEC SOI\n\nCécile Hontoy ( swami Purushanandaji) est une initiatrice internationale. Elle enseigne la voie de la réconciliation avec soi-même depuis 1982. Elle forme des enseignants et des coachs psycho-spirituels en méditation\, yoga ( FFY) et des formateurs de groupe en croissance personnelle et spiritualité.\n\nÀ propos de l’événement\n\n\n\n\n Tu cherches à te reconnaître et à retrouver ta valeur essentielle. Tu veux reconstruire ta confiance en toi. Tu veux l’utiliser pour répondre davantage à un défi qui te fait peur mais que tu désires relever.\nTu veux Lâcher-prise sur les choix du  passé et les fausses croyances limitantes qui les soutiennent parfois encore.\n Tu désires te reconnecter avec Toi-même et ton désir légitime de vivre une vie pleine\, entière\, d’abondance.\nTu veux te ressourcer comme coach ou personne aidante en apprenant des outils autres\, différents et efficaces permettant des  transformations profondes et concrètes par la reconnection essentielle avec l’être!.\n Tu penses à élaborer un plan de reconnection personnel pour créer un pont vers ton futur positif\, agréable. Mais tu ne sais pas par quoi commencer.\n Tu  entends l’appel de ton âme pour retrouver le monde sacré\, le monde du coeur sensible\, le monde de  l’âme.\nTu tiens à  reformuler l’alliance avec le monde spirituel qui te veut libre\, compatissant\, abondant\, aidant et heureux !\n Tu cherches à  rencontrer des humains partageant les mêmes croyances et les mêmes valeurs pacifiques de Beau\, de Bien\, de Communion sacrée.\n\nVous êtes un coach\, un enseignant personnel\, un coach sportif\, un coach de vie\, un coach en nutrition\, un coach de l’execllence\, un coach-enseignant \,  un enseignant du primaire\, du secondaire et universitaire\, un aidant naturel\, un aidant relationnel\, un passeur d’âmes\, un professionnel en relation humaines\, un chercheur de sens\, une personne voulant apprendre à mieux communiquer\, mieux aider\, mieux choisir\,  un jeune en recherche \, une personne du troisième âge  désireuses de faire le point sur sa vie pour un meilleur vivre\, l’école l’art de vivre  Purusha vous invite à considérer sérieusement son offre de formations spirituelles continues! L’expérience de Madame Cécile Hontoy            ( Swami Purushananda) offre un lieu de partage \, de libération\, d’ouverture et  de reconsidération et d’éveil spirituel incontournable pour préparer les années futures ! Vous y retrouverez un art très spécial et spécifique de prendre soin\, d’écouter\, d’aider\, vous-mêmes et les autres. Vous ajouterez à vos formations professionnelles un regard nouveau\, une pensée et un coeur plus ouverts \, plus éveillés encore et plus originaux\, libérés des formes traditionnelles en relation d’aide à la personne ! \nTÉLÉPHONE : 450-601-4169 \nCOURRIEL : info@ecolepurusha.com
URL:https://kio-o.ca/evenement/reconciliation-avec-soi-animee-par-cecile-hontoy/
LOCATION:Québec
CATEGORIES:Développement personnel,Mouvement,Yoga
ATTACH;FMTTYPE=image/jpeg:https://kio-o.ca/wp-content/uploads/2021/07/Purusha.jpg
ORGANIZER;CN="C%C3%A9cile-Purusha Hontoy ( swami Purusha )":MAILTO:purushahontoy@hotmail.com
END:VEVENT
END:VCALENDAR