BEGIN:VCALENDAR
VERSION:2.0
PRODID:-//Kio-o - ECPv6.15.12.2//NONSGML v1.0//EN
CALSCALE:GREGORIAN
METHOD:PUBLISH
X-ORIGINAL-URL:https://kio-o.ca
X-WR-CALDESC:Évènements pour Kio-o
REFRESH-INTERVAL;VALUE=DURATION:PT1H
X-Robots-Tag:noindex
X-PUBLISHED-TTL:PT1H
BEGIN:VTIMEZONE
TZID:America/New_York
BEGIN:DAYLIGHT
TZOFFSETFROM:-0500
TZOFFSETTO:-0400
TZNAME:EDT
DTSTART:20210314T070000
END:DAYLIGHT
BEGIN:STANDARD
TZOFFSETFROM:-0400
TZOFFSETTO:-0500
TZNAME:EST
DTSTART:20211107T060000
END:STANDARD
BEGIN:DAYLIGHT
TZOFFSETFROM:-0500
TZOFFSETTO:-0400
TZNAME:EDT
DTSTART:20220313T070000
END:DAYLIGHT
BEGIN:STANDARD
TZOFFSETFROM:-0400
TZOFFSETTO:-0500
TZNAME:EST
DTSTART:20221106T060000
END:STANDARD
BEGIN:DAYLIGHT
TZOFFSETFROM:-0500
TZOFFSETTO:-0400
TZNAME:EDT
DTSTART:20230312T070000
END:DAYLIGHT
BEGIN:STANDARD
TZOFFSETFROM:-0400
TZOFFSETTO:-0500
TZNAME:EST
DTSTART:20231105T060000
END:STANDARD
END:VTIMEZONE
BEGIN:VEVENT
DTSTART;VALUE=DATE:20220107
DTEND;VALUE=DATE:20220111
DTSTAMP:20260422T062948
CREATED:20210812T183259Z
LAST-MODIFIED:20211011T184704Z
UID:10005971-1641513600-1641859199@kio-o.ca
SUMMARY:Retraite d’hiver Yoga en douceur avec Radhasri de Hatha Yoga Shala - ANNULÉE
DESCRIPTION:Yoga en douceur \n3 jours dans les magnifiques montagnes des Laurentides en retraite à KIO-O centre de ressourcement et de créativité. \nL’atmosphère calme\, le lac privé\, la vue splendide de la falaise\, la montagne et les sentiers font de l’endroit un lieu d’une beauté exceptionnelle qui incite au calme et à la détente profonde. \nHébergement\, 3 repas végétariens\, enseignements et taxes sont inclus dans les prix. \nOuvert à tous. Places limitées. \nArrivée à partir de 16 h\nDépart à 15 h \nCoûts : \n* le montant de 410 $ sera divisé également entre les participants pour couvrir les frais d’hébergement de Radhasri\, à payer le 5 janvier\, 2022. 10 participants minimum. \nChambre en occupation partagée = 685 $ \nChambre en occupation simple = 855 $ \n(les salles de bain sont partagées) \n 
URL:https://kio-o.ca/evenement/retraite-dhiver-yoga-en-douceur-avec-radhasri-de-hatha-yoga-shala/
LOCATION:Kio-o\, 1905 Chemin du rang 6\, Sainte-Lucie\, Québec\, J0T 2J0\, Canada
CATEGORIES:Yoga
ATTACH;FMTTYPE=image/jpeg:https://kio-o.ca/wp-content/uploads/2021/08/Radhasri.jpg
GEO:46.132966;-74.1940374
X-APPLE-STRUCTURED-LOCATION;VALUE=URI;X-ADDRESS=Kio-o 1905 Chemin du rang 6 Sainte-Lucie Québec J0T 2J0 Canada;X-APPLE-RADIUS=500;X-TITLE=1905 Chemin du rang 6:geo:-74.1940374,46.132966
END:VEVENT
BEGIN:VEVENT
DTSTART;VALUE=DATE:20220114
DTEND;VALUE=DATE:20220117
DTSTAMP:20260422T062948
CREATED:20211207T141927Z
LAST-MODIFIED:20211207T142737Z
UID:10005982-1642118400-1642377599@kio-o.ca
SUMMARY:Retraite de yoga SAK JA\, le pouvoir de l’eau avec Teresa Gongora et Valérie Filion
DESCRIPTION:Teresa & Valérie\, \nVous accueil dans un espace de retraite de yoga SAK JA\, le pouvoir de l’eau. \nNourrir le chemin vers la lumière et éveiller le pouvoir de l’intention pour l’année qui commence avec les énergies de l’eau (Jalam) \nUne fin de semaine pour plonger pleinement dans le merveilleux monde du yoga et ainsi avoir l’opportunité d’éveiller le flot d’énergie d’ancrage\, de guérison et de vitalité.\nEn accord avec les rythmes de la nature\, nos pratiques de yoga nourrissent des séquences spécifiques pour l’hiver et elles sont reliées aux centres énergétiques de notre corps.\nCette expérience vous fera incarner une revitalisation de tout votre être pour accueillir la nouvelle année avec fluidité et lâcher prise! Les pratiques seront accompagnées de musiques\, des pranayamas (respirations conscientes)\, de méditations\, de mudras (gestes des mains) et de mantras (chants sacrées) pour aller chercher vitalité et énergie pour l’hiver! \nVendredi\, Arrivée en fin de journée \n\nSouper\nSéance de méditation et/ou pratique de yoga lunaire en fin de soirée\n\nSamedi \n\nMéditation au levée du soleil (optionnelle)\nDéjeuner\nMéditation et pratique de yoga solaire\nDiner\nPratique spécial du samedi\nSouper\nYoga Nidra\n\nDimanche \n\nDéjeuner\nMéditation\nPratique de yoga solaire\nDiner\nDépart\n\n  \nÀ partir de 458 $ +taxes \nCoûts détaillés : \nVolet yoga :  \n220 $+taxes (252\,95 $) Payable à Teresa \nVolet Hébergement :\n• Chambre en occupation partagée : deux ou trois lits simples par chambre : 238$ plus taxes\n• Chambre en occupation simple : 336$ plus taxes\nLes tarifs d’hébergement incluent les deux nuitées et six repas végétariens. \n  \n❖ Le tarif pour l’hébergement est payable directement chez Kio-o à votre arrivé le 14 janvier \nMerci beaucoup de vivre le yoga avec nous\, nous avons déjà très hâte de vous voir\, \n  \nTeresa et Valérie \n514 691.1167
URL:https://kio-o.ca/evenement/retraite-de-yoga-sak-ja-le-pouvoir-de-leau-avec-teresa-et-valerie/
LOCATION:Kio-o\, 1905 Chemin du rang 6\, Sainte-Lucie\, Québec\, J0T 2J0\, Canada
CATEGORIES:Méditation,Yoga
ATTACH;FMTTYPE=image/png:https://kio-o.ca/wp-content/uploads/2021/12/Yoga-Teresa-et-Valerie.png
ORGANIZER;CN="Teresa Gongora":MAILTO:gongoratere@gmail.com
GEO:46.132966;-74.1940374
X-APPLE-STRUCTURED-LOCATION;VALUE=URI;X-ADDRESS=Kio-o 1905 Chemin du rang 6 Sainte-Lucie Québec J0T 2J0 Canada;X-APPLE-RADIUS=500;X-TITLE=1905 Chemin du rang 6:geo:-74.1940374,46.132966
END:VEVENT
END:VCALENDAR