BEGIN:VCALENDAR
VERSION:2.0
PRODID:-//Kio-o - ECPv6.15.12.2//NONSGML v1.0//EN
CALSCALE:GREGORIAN
METHOD:PUBLISH
X-WR-CALNAME:Kio-o
X-ORIGINAL-URL:https://kio-o.ca
X-WR-CALDESC:Évènements pour Kio-o
REFRESH-INTERVAL;VALUE=DURATION:PT1H
X-Robots-Tag:noindex
X-PUBLISHED-TTL:PT1H
BEGIN:VTIMEZONE
TZID:America/New_York
BEGIN:DAYLIGHT
TZOFFSETFROM:-0500
TZOFFSETTO:-0400
TZNAME:EDT
DTSTART:20230312T070000
END:DAYLIGHT
BEGIN:STANDARD
TZOFFSETFROM:-0400
TZOFFSETTO:-0500
TZNAME:EST
DTSTART:20231105T060000
END:STANDARD
BEGIN:DAYLIGHT
TZOFFSETFROM:-0500
TZOFFSETTO:-0400
TZNAME:EDT
DTSTART:20240310T070000
END:DAYLIGHT
BEGIN:STANDARD
TZOFFSETFROM:-0400
TZOFFSETTO:-0500
TZNAME:EST
DTSTART:20241103T060000
END:STANDARD
BEGIN:DAYLIGHT
TZOFFSETFROM:-0500
TZOFFSETTO:-0400
TZNAME:EDT
DTSTART:20250309T070000
END:DAYLIGHT
BEGIN:STANDARD
TZOFFSETFROM:-0400
TZOFFSETTO:-0500
TZNAME:EST
DTSTART:20251102T060000
END:STANDARD
END:VTIMEZONE
BEGIN:VEVENT
DTSTART;VALUE=DATE:20240405
DTEND;VALUE=DATE:20240408
DTSTAMP:20260420T091022
CREATED:20240211T193524Z
LAST-MODIFIED:20240212T185306Z
UID:10006151-1712275200-1712534399@kio-o.ca
SUMMARY:Retraite Kundalini Shakti avec Teresa Gongora et Valérie Filion
DESCRIPTION:Kundalini Shakti\n\nNous avons très hâte de vous accueillir ce printemps. Un espace\, un moment que l’on prend pour soi\, pour se faire du bien\, une célébration intérieure à travers l’éveil de la Kundalini Shakti (mot sanskrit qui veut dire littéralement le ~Pouvoir du Serpent~\, l’éveil énergétique). Dans cette retraite de yoga\, on fait grandir notre soleil intérieur\, on éveil la force du feu\, le Feu qui est la force active et consciente. Cette conscience solaire éveille notre véritable nature et nous offre la possibilité d’éveiller une puissance particulière à l’intérieur de nous.\n\nÀ travers des pratiques de yoga et méditation enrichissantes où l’accent est mis sur la force d’action\, nous aurons l’opportunité d’éveiller notre pouvoir de transformation\, notre capacité de voir en toute chose sa raison d’être\, sa source\, son évolution et son pouvoir. Des sadhanas (pratiques de yoga) énergisantes seront très présentes pour éveiller la vitalité\, le courage et la force intérieure. Un complément parfait pour le printemps. C’est à ce moment que nous commençons à plonger dans les joies de l’été\, on se prépare pour les changements de saisons qui nous amènent vers l’expansion de la lumière.\n\nNotre sampkalpa (intention): « Que notre pouvoir de « digérer » notre vie\, transforme les obstacles sur notre chemin et fasse circuler notre lumière ».\n\nTarifs À partir de 593 $ + taxes\n\nVolet yoga : Préinscription jusqu’au 14 février: 245 $ + taxes ( 281\,69 $ ). Tarif régulier : 285 $ +taxes ( 327\,68 $ ) à partir du 15 février.\n\nPayable à Teresa\, par virement Interac : gongoratere@gmail.com.\nQuestion : Retraite\nRéponse : Yoga\n\nVolet hébergement : -Chambre en occupation partagée : deux ou trois lits simples par chambre : 318 $ plus taxes -Chambre en occupation simple : 418$  plus taxes. Les tarifs d’hébergement incluent les deux nuitées et six repas végétariens.\nPayable directement chez Kio-o à votre arrivée.\n\nMerci beaucoup de vivre le yoga avec nous\, Valérie et moi\, avons déjà très hâte de vous voir.\nOm Suryaye Namaha\n\n\n\nInformation :\nMon numéro 450 822-1645\nMon adresse courriel: gongoratere@gmail.com
URL:https://kio-o.ca/evenement/retraite-kundalini-shakti-avec-teresa-gongora-et-valerie-filion/
LOCATION:Kio-o\, 1905 Chemin du rang 6\, Sainte-Lucie\, Québec\, J0T 2J0\, Canada
CATEGORIES:Méditation,Yoga
ATTACH;FMTTYPE=image/jpeg:https://kio-o.ca/wp-content/uploads/2024/02/Teresa.jpg
ORGANIZER;CN="Teresa Gongora":MAILTO:gongoratere@gmail.com
GEO:46.132966;-74.1940374
X-APPLE-STRUCTURED-LOCATION;VALUE=URI;X-ADDRESS=Kio-o 1905 Chemin du rang 6 Sainte-Lucie Québec J0T 2J0 Canada;X-APPLE-RADIUS=500;X-TITLE=1905 Chemin du rang 6:geo:-74.1940374,46.132966
END:VEVENT
BEGIN:VEVENT
DTSTART;VALUE=DATE:20240412
DTEND;VALUE=DATE:20240415
DTSTAMP:20260420T091022
CREATED:20240305T173318Z
LAST-MODIFIED:20240305T173318Z
UID:10006158-1712880000-1713139199@kio-o.ca
SUMMARY:YOG 2 – SWAROPA : YOGA NIDRA et AUTO-GUÉRISON DES CHAKRAS avec Manjunath Kamath
DESCRIPTION:YOG 2 – SWAROPA : YOGA NIDRA et AUTO-GUÉRISON DES CHAKRAS \nVous souhaitez renouer avec votre corps et votre esprit ? La méditation Yog est l’introduction parfaite aux pratiques traditionnelles indiennes adaptées aux besoins des\ngens du monde occidental. \nL’atelier Yog 2- Swaropa porte sur le thème de l’auto-guérison. Développer une relation harmonieuse entre le corps et l’esprit. Découvrir les vertus de la détente profonde et du yoga nidra. \nEnseigné en anglais par Manjunath Kamath\, prêtre hindou retraité et spécialiste de la méditation. Vous aurez la chance d’intégrer de nouvelles techniques variées portant à dénouer et améliorer votre énergie. \nLe cours inclus également de légères asanas de yoga et des exercices de respiration. \nYog 2 – Swaropa fait partie d’une série de 4 ateliers menant à la certification en méditation Yog pour ceux et celles qui le souhaitent. Joignez-vous à nous! \nPour plus d’information : https://www.institutreiki.com/meditationyog \nYOG 2 – SWAROPA: YOGA NIDRA & SELF-HEALING OF CHAKRAS \nYou wish to reconnect with your body and mind? Yog Meditation is the perfect introduction to the authentic traditional Indian teachings adapted to the rhythm of the Western world. Yog 2- Swaropa means Self-healing and the ability to power the body and spirit to support us. Discover the virtues of deep relaxation and yoga nidra. Taught in English by Manjunath Kamath\, retired Hindu priest and meditation specialist. You will gain knowledge and experience new meditation techniques powering up your life force. \nThe course also includes light asanas and breathing techniques. Yog 2- Swaropa is part of a series of 4 workshops leading to a certification in Yog Meditation for those interested. Join us! \nFor more information: https://www.institutreiki.com/yogmeditation
URL:https://kio-o.ca/evenement/yog-2-swaropa-yoga-nidra-et-auto-guerison-des-chakras-avec-manjunath-kamath/
LOCATION:Kio-o\, 1905 Chemin du rang 6\, Sainte-Lucie\, Québec\, J0T 2J0\, Canada
CATEGORIES:Méditation,Yoga
ATTACH;FMTTYPE=image/jpeg:https://kio-o.ca/wp-content/uploads/2023/02/Manjunath-Kamath-e1677599013766.jpg
ORGANIZER;CN="Manjunath Kamath":MAILTO:kamathyogi@yahoo.com
GEO:46.132966;-74.1940374
X-APPLE-STRUCTURED-LOCATION;VALUE=URI;X-ADDRESS=Kio-o 1905 Chemin du rang 6 Sainte-Lucie Québec J0T 2J0 Canada;X-APPLE-RADIUS=500;X-TITLE=1905 Chemin du rang 6:geo:-74.1940374,46.132966
END:VEVENT
BEGIN:VEVENT
DTSTART;VALUE=DATE:20240426
DTEND;VALUE=DATE:20240429
DTSTAMP:20260420T091022
CREATED:20240304T144055Z
LAST-MODIFIED:20240306T134100Z
UID:10006157-1714089600-1714348799@kio-o.ca
SUMMARY:Accueillir le printemps Week-end de yoga et méditation avec Parijata
DESCRIPTION:La méditation est l’art de se familiariser avec notre propre esprit\, nos pensées\, nos états d’âme. Le but est de développer un regard lucide et aimant\, en toute intimité avec l’expérience de notre propre vie. Sans cette familiarisation consciente\, nous sommes étranger à nous-même\, ainsi l’anxiété et le mal-aise s’installent chassant cette joie tranquille qui est la fabrique même de notre être. \nParijata E. Charbonneau étudie l’approche méditative avec passion depuis plus de 40 ans. Passant ainsi plusieurs années guidée par des maîtres de renommés en Inde et au État-Unis. \nCoût :  \nEnseignements : 250 $ ( taxes incluses )\nHébergement :\nChambre partagée: 365\,52 $ ( taxes incluses )\nChambre privée : 480\,60 $ ( taxes incluses )
URL:https://kio-o.ca/evenement/accueillir-le-printemps-week-end-de-yoga-et-meditation-avec-parijata/
LOCATION:Kio-o\, 1905 Chemin du rang 6\, Sainte-Lucie\, Québec\, J0T 2J0\, Canada
CATEGORIES:Méditation,Yoga
ATTACH;FMTTYPE=image/png:https://kio-o.ca/wp-content/uploads/2024/03/Capture-decran-le-2024-03-04-a-09.39.51.png
ORGANIZER;CN="Parijata":MAILTO:infoparijatayoga@gmail.com
GEO:46.132966;-74.1940374
X-APPLE-STRUCTURED-LOCATION;VALUE=URI;X-ADDRESS=Kio-o 1905 Chemin du rang 6 Sainte-Lucie Québec J0T 2J0 Canada;X-APPLE-RADIUS=500;X-TITLE=1905 Chemin du rang 6:geo:-74.1940374,46.132966
END:VEVENT
END:VCALENDAR