BEGIN:VCALENDAR
VERSION:2.0
PRODID:-//Kio-o - ECPv6.15.12.2//NONSGML v1.0//EN
CALSCALE:GREGORIAN
METHOD:PUBLISH
X-WR-CALNAME:Kio-o
X-ORIGINAL-URL:https://kio-o.ca
X-WR-CALDESC:Évènements pour Kio-o
REFRESH-INTERVAL;VALUE=DURATION:PT1H
X-Robots-Tag:noindex
X-PUBLISHED-TTL:PT1H
BEGIN:VTIMEZONE
TZID:America/New_York
BEGIN:DAYLIGHT
TZOFFSETFROM:-0500
TZOFFSETTO:-0400
TZNAME:EDT
DTSTART:20230312T070000
END:DAYLIGHT
BEGIN:STANDARD
TZOFFSETFROM:-0400
TZOFFSETTO:-0500
TZNAME:EST
DTSTART:20231105T060000
END:STANDARD
BEGIN:DAYLIGHT
TZOFFSETFROM:-0500
TZOFFSETTO:-0400
TZNAME:EDT
DTSTART:20240310T070000
END:DAYLIGHT
BEGIN:STANDARD
TZOFFSETFROM:-0400
TZOFFSETTO:-0500
TZNAME:EST
DTSTART:20241103T060000
END:STANDARD
BEGIN:DAYLIGHT
TZOFFSETFROM:-0500
TZOFFSETTO:-0400
TZNAME:EDT
DTSTART:20250309T070000
END:DAYLIGHT
BEGIN:STANDARD
TZOFFSETFROM:-0400
TZOFFSETTO:-0500
TZNAME:EST
DTSTART:20251102T060000
END:STANDARD
END:VTIMEZONE
BEGIN:VEVENT
DTSTART;VALUE=DATE:20240726
DTEND;VALUE=DATE:20240802
DTSTAMP:20260420T004630
CREATED:20240107T213740Z
LAST-MODIFIED:20240107T213740Z
UID:10006143-1721952000-1722556799@kio-o.ca
SUMMARY:Retraite initiatique chamanique animée par Cécile Purusha Hontoy
DESCRIPTION:As-tu le goût de rejoindre l’être ange qui t’habite ?  \nDésires tu retrouver ta nature sauvage et ta nature ange ?  \nVeux -tu éclore dans la lumière ? \nÀ propos de l’événement\n\n\nLe processus initiatique de la semaine visera à ce que tu comprennes vraiment l’enseignement qui suit.  Comprendre signifie : prendre avec. Prendre avec signifie : intégrer. Intégrer signifie ensemencer de la lumièere sacrée toutes tes cellules afin que en accord avec tes dons personnels tu puisses te révéler au travers d’une mission de vie puissante et ouverte à l’abondance. \n  \nTout procède d’un seul point Tiré du livre à venir : les enseignements de Swami Purushananda \nLe cercle est toujours basé sur un carré. C’est ce qui le soutient. Au dessus du cercle vous pouvez placer un triangle. Ce sont donc des formes géométriques que nous vous proposons comme méditation. Elles sont extrêmement intéressantes. \nChacune de ces formes  est un monde\, révèle un monde. Le carré révèle le monde de la terre. Le cercle celui de la réalisation entière de l’être et le triangle transmet le monde du Seigneur et du ciel. Ces trois formes procèdent toutes les trois d’un même support et dessin : le point. \nEnlevez le point qui leur sert de support\, les formes s’écroulent. \nNotre langage mathématique fait résonner un sens intérieur. Dans un certain espace\, dans une certaine conscience\, il est nécessaire d’imager par la voie symbolique. La langue mêle les mots. Les formes\, tant qu’à elles\, stabilisent le sens. \nLe carré représente également le corps. Ce corps matière portant la lumière. Le cercle représente le cœur. Ce cœur désignant la possibilité d’amour et de compassion. Le triangle image l’esprit\, dans son essence vacuité et transmission. \nCes trois formes ensemble sont donc symboliquement le corps humain dans le cœur et dans l’esprit. Mais le point quel est-il? N’est-il pas la conscience d’être! \nSans la conscience d’être\, le corps ne peut être que masse ignorante d’elle-même\, le cœur non conscientisé un abîme sans nom et l’esprit le néant lui-même. \nMais conscientisé`le corps devient un arc\, le cœur le fil\, l’esprit l’élan. \nConnus de l’intérieur le corps devient la maison\, le cœur le foyer\, l’esprit l’ambiance d’accueil éthique. \nSus dans et par l’expérience\, le corps devient le véhicule\, le cœur celui qui conduit et l’esprit la pure volonté et détermination bienveillante. \nCes formes donc\, superposées\, apposées ou dansantes les unes avec les autres sont supportées par la vie consciente. La vie consciente étant ce point\, ce moment\, cet ultime au centre de l’être\, le définissant comme unique\, particulier et précieux. \n 
URL:https://kio-o.ca/evenement/retraite-initiatique-chamanique-animee-par-cecile-purusha-hontoy/
LOCATION:Kio-o\, 1905 Chemin du rang 6\, Sainte-Lucie\, Québec\, J0T 2J0\, Canada
CATEGORIES:Développement personnel,Expression créative,Yoga
ATTACH;FMTTYPE=image/webp:https://kio-o.ca/wp-content/uploads/2022/07/purusha-meditation-yoga2.webp
ORGANIZER;CN="C%C3%A9cile-Purusha Hontoy ( swami Purusha )":MAILTO:purushahontoy@hotmail.com
GEO:46.132966;-74.1940374
X-APPLE-STRUCTURED-LOCATION;VALUE=URI;X-ADDRESS=Kio-o 1905 Chemin du rang 6 Sainte-Lucie Québec J0T 2J0 Canada;X-APPLE-RADIUS=500;X-TITLE=1905 Chemin du rang 6:geo:-74.1940374,46.132966
END:VEVENT
BEGIN:VEVENT
DTSTART;VALUE=DATE:20240812
DTEND;VALUE=DATE:20240816
DTSTAMP:20260420T004630
CREATED:20231011T200854Z
LAST-MODIFIED:20231011T200854Z
UID:10006118-1723420800-1723766399@kio-o.ca
SUMMARY:Être tout simplement heureux !  Yoga avec Stéphanie Kitembo
DESCRIPTION:Être tout simplement heureux ! \n\n\nUne retraite en nature qui débuterait le lundi ! Allez\, nos lundis ne seront plus jamais vécus de la même façon ! Du lundi au jeudi\, offrez vous un temps de pause sacrée.\n\nL’univers ne souhaite pas que nous travaillons plus dur\, il veut simplement que nous respirions\, que nous lâchions prise et que nous nous ouvrons à l’idée que les choses très simples peuvent être magiques ! La nature et le lac baignable du domaine de Kio\, les repas si bons\, les pratiques de yoga et de méditation tous les jours nous emmèneront à lâcher ce besoin humain de contrôler. Nous allons laisser la magie entrer dans nos vies ! Trois nuits dans ce lieu si joli nous permettront de déposer nos valises et de bien profiter.\n\nLors de ce weekend vous apprécierez :\n•l’accessibilité avec le professeur de yoga Stéphanie Kitembo et la convivialité du groupe\n•le confort et la beauté des lieux\n•les moments libres entre amis ou bien seul\n•la simplicité et l’ambiance convivia\n•les 6 classes de yoga et méditation\n•les marches en nature et la baignade directement sur le site\n•les succulents repas végétariens\n•café et tisane à volonté\n•la possibilité de se faire masser sur place sur rendez-vous\n•le wifi gratuit\n•Temps libre pour se reposer\, lire\, marcher\, jaser !\n\n Information : kitembo31@gmail.com
URL:https://kio-o.ca/evenement/etre-tout-simplement-heureux-yoga-avec-stephanie-kitembo/
LOCATION:Kio-o\, 1905 Chemin du rang 6\, Sainte-Lucie\, Québec\, J0T 2J0\, Canada
CATEGORIES:Méditation,Yoga
ATTACH;FMTTYPE=image/jpeg:https://kio-o.ca/wp-content/uploads/2021/05/Stéphanie-Kitembo.jpg
ORGANIZER;CN="St%C3%A9phanie Kitembo":MAILTO:kitembo31@gmail.com
GEO:46.132966;-74.1940374
X-APPLE-STRUCTURED-LOCATION;VALUE=URI;X-ADDRESS=Kio-o 1905 Chemin du rang 6 Sainte-Lucie Québec J0T 2J0 Canada;X-APPLE-RADIUS=500;X-TITLE=1905 Chemin du rang 6:geo:-74.1940374,46.132966
END:VEVENT
END:VCALENDAR