BEGIN:VCALENDAR
VERSION:2.0
PRODID:-//Kio-o - ECPv6.15.12.2//NONSGML v1.0//EN
CALSCALE:GREGORIAN
METHOD:PUBLISH
X-ORIGINAL-URL:https://kio-o.ca
X-WR-CALDESC:Évènements pour Kio-o
REFRESH-INTERVAL;VALUE=DURATION:PT1H
X-Robots-Tag:noindex
X-PUBLISHED-TTL:PT1H
BEGIN:VTIMEZONE
TZID:America/New_York
BEGIN:DAYLIGHT
TZOFFSETFROM:-0500
TZOFFSETTO:-0400
TZNAME:EDT
DTSTART:20230312T070000
END:DAYLIGHT
BEGIN:STANDARD
TZOFFSETFROM:-0400
TZOFFSETTO:-0500
TZNAME:EST
DTSTART:20231105T060000
END:STANDARD
BEGIN:DAYLIGHT
TZOFFSETFROM:-0500
TZOFFSETTO:-0400
TZNAME:EDT
DTSTART:20240310T070000
END:DAYLIGHT
BEGIN:STANDARD
TZOFFSETFROM:-0400
TZOFFSETTO:-0500
TZNAME:EST
DTSTART:20241103T060000
END:STANDARD
BEGIN:DAYLIGHT
TZOFFSETFROM:-0500
TZOFFSETTO:-0400
TZNAME:EDT
DTSTART:20250309T070000
END:DAYLIGHT
BEGIN:STANDARD
TZOFFSETFROM:-0400
TZOFFSETTO:-0500
TZNAME:EST
DTSTART:20251102T060000
END:STANDARD
END:VTIMEZONE
BEGIN:VEVENT
DTSTART;VALUE=DATE:20241004
DTEND;VALUE=DATE:20241007
DTSTAMP:20260419T212423
CREATED:20240531T163338Z
LAST-MODIFIED:20240531T195826Z
UID:10006196-1728000000-1728259199@kio-o.ca
SUMMARY:Retraite sacrée en pleine nature  avec Gabrielle Cloutier
DESCRIPTION:Places limitées à 12 participants \n________\nLa retraite Incarnons les 5 éléments! \, c’est un espace sacré et équilibrant dédié au ressourcement et à la connexion à ta/la nature. C’est un moment pour (ré)apprendre qui tu es grâce à l’ayurvéda (médecine indienne)\, te comprendre\, être toi-même\, faire un avec la nature\, écouter ton cœur et ton intuition\, partager et te prioriser. Tu connaitras les éléments dominants en toi afin de te (re)balancer et de retrouver l’harmonie. Toutes les activités seront autour des éléments. Tu appliqueras ensuite l’expérience et les ressources dans ton quotidien. \n________\nCe qui t’attend dans cette aventure d’une fin de semaine:\n•Cercles de partage \n•Yoga Nidra \n•Quizz ayurvédique – dessin intuitif – théorie 5 éléments\n•Danse Fitness Latine \n•Rituel autour d’un feu de camp \n•Cérémonie de cacao \n•Promenade méditative dans la forêt \n•Yin Yoga Nidra \n•ZY Qi Gong \n•Bienveillance\, joie et authenticité \n•Moments libres \n________\nNotre séjour se déroulera à Kio-o\, LE centre de ressourcement et de créativité au Québec\, niché dans les magnifiques montagnes laurentiennes. La beauté et l’atmosphère des lieux\, dont le lac privé\, favoriseront le silence\, le calme et l’inspiration. \nDans notre hébergement\, la maison du Soleil levant\, il y a 4 salles de bain\, un chaleureux salon et un joli studio. \nTu auras un lit confortable dans cet endroit accueillant. Des chambres privées et semi-privées sont disponibles. \n\n________\nTous les repas seront préparés avec amour par le centre Kio-o. Les repas seront exquis\, sains et végétariens\, avec des options végétaliennes\, sans gluten et/ou adaptées à tes intolérances alimentaires sur demande. \nDes tisanes et du café seront à ta disposition. \n________\nInscription par personne \nCONTRIBUTION EARLY BIRD : 50 $ de rabais additionnel sur toutes les contributions jusqu’au 27 juin 2024 minuit.\n• Chambre semi-privée avec 3 lits simples : 549 $ tout inclus\n• Chambre semi-privée avec 2 lits simples: 599 $ tout inclus\n• Chambre privée : 699 $ tout inclus\n\nCela inclus :\n• Tous les repas de vendredi à dimanche (2 déjeuners\, 2 diners\, 2 soupers végétariens ou végétaliens)\n• L’accès à toutes les activités (ateliers\, cérémonie et rituel) pendant les 3 jours\n• L’accès aux infrastructures intérieures et extérieures de Kio-o\n• Tout le matériel pour les activités\, le cacao\, les tisanes et le café\n• L’emprunt de tapis de yoga\, de chaisières au sol\, de blocs de liège\, de courroies de coton et de coussins en écorce de sarrasin zabutons et zafus\n\nPOUR RÉSERVER TA PLACE :\n• Envoie un virement bancaire à mouvementsconnexionnature@gmail.com en précisant quelle option tu souhaites pour l’hébergement. Tu recevras un courriel de confirmation.\n• Ce n’est pas remboursable\, mais transférable à une personne.\n•Tu peux payer en 2 versements\, le 2e étant envoyé avant le 6 septembre.\n• Si tu as la contribution early bird et que tu payes en 2 versements\, la différence devra être envoyée par virement bancaire à la même adresse avant le 25 juillet.\n________\nPour toute question\, n’hésite pas à m’écrire sur Facebook.\nAu plaisir de se réunir\, de se ressourcer et de s’équilibrer ensemble!\nGabrielle 
URL:https://kio-o.ca/evenement/retraite-sacree-en-pleine-nature-avec-gabrielle-cloutier/
LOCATION:Kio-o\, 1905 Chemin du rang 6\, Sainte-Lucie\, Québec\, J0T 2J0\, Canada
CATEGORIES:Rituel,Yoga
ATTACH;FMTTYPE=image/jpeg:https://kio-o.ca/wp-content/uploads/2024/05/Retraite-Kio-o-04-06-octobre-2024.jpg
ORGANIZER;CN="Gabrielle Cloutier":MAILTO:mouvementsconnexionnature@gmail.com
GEO:46.132966;-74.1940374
X-APPLE-STRUCTURED-LOCATION;VALUE=URI;X-ADDRESS=Kio-o 1905 Chemin du rang 6 Sainte-Lucie Québec J0T 2J0 Canada;X-APPLE-RADIUS=500;X-TITLE=1905 Chemin du rang 6:geo:-74.1940374,46.132966
END:VEVENT
BEGIN:VEVENT
DTSTART;VALUE=DATE:20241020
DTEND;VALUE=DATE:20241023
DTSTAMP:20260419T212423
CREATED:20240903T134736Z
LAST-MODIFIED:20240903T141139Z
UID:10006208-1729382400-1729641599@kio-o.ca
SUMMARY:Récolte et abondance automnale ! avec Julie Fournier
DESCRIPTION:Récolte et abondance automnale ! \n\nVenez admirer la splendeur des couleurs automnales lors de ce séjour exceptionnel ! L’automne est un moment précieux pour savourer les fruits de l’année\, trouver équilibre et harmonie\, et lâcher prise sur ce qui n’a plus sa place.  \nJe vous invite à partager avec moi cette beauté saisonnière\, à célébrer ensemble l’abondance\, et à nous préparer doucement pour la prochaine saison. \n\n\n\nThème du séjour :\n\nAU PROGRAMME DURANT VOTRE SÉJOUR :\n\nRandonnée libre pour admirer le colori automnal de ce magnifique espace\nConnexion et partage autour du feu\n Méditation « Abondance du cœur »\n Expérience thérapeutique par le rire\n\n3 cours de yoga défi « SENS »\nÀ l’aveugle\nSans audition\nSans paroles\n\n Randonnée sous les étoiles et plénitude nocturne\nTechniques de respiration\n Connexion silencieuse\n️Mantra collectif\n Rituel  de clôture et intention automnale\n\nDATES :\nDu 20 au 22 octobre 2024\n(Arrivée le dimanche après-midi\, départ le mardi après-midi.)\n\nCOÛT DU PROGRAMME : À payer maintenant pour réserver votre place.\n220 $ + taxes : 252\,95 $\n\nCOÛT DE L’HÉBERGEMENT :(à régler sur place lors de votre arrivée au centre)\n*( Prix par personne )*\n\n– Chambre en occupation partagée : 159 $ + taxes par nuit (TOTAL : 365\,62 $ pour le séjour)\n– Chambre en occupation simple : 209 $ + taxes par nuit (TOTAL : 480\,60 $ pour le séjour)\n\nCE PRIX COMPREND :\n– Votre hébergement pour 2 nuits\n– 6 repas\n– L’accès à l’ensemble du site\n– Tous les accessoires de pratique (tapis de yoga\, chaises\, coussins\, ceintures)\n– WIFI\n\n\n Un lieu où le temps s’arrête\, où la nature vous enveloppe des éléments de la terre. Même vos papilles seront comblées par des repas délicieux\, savoureux et préparés avec amour ! \n\nVous n’avez qu’à apporter vos vêtements et effets personnels\, tout le reste est en formule **TOUT INCLUS** ! \n\n**Pour réserver votre place\, contactez-moi directement par courriel et je vous donnerai les instructions d’inscriptions :\n\nJuliefournier.omni@gmail.com\n\nJ’ai hâte de partager avec vous ce paradis automnal !
URL:https://kio-o.ca/evenement/recolte-et-abondance-automnale-avec-julie-fournier/
LOCATION:Kio-o\, 1905 Chemin du rang 6\, Sainte-Lucie\, Québec\, J0T 2J0\, Canada
CATEGORIES:Développement personnel,Mouvement,Yoga
ATTACH;FMTTYPE=image/jpeg:https://kio-o.ca/wp-content/uploads/2024/09/julie-fournier-24.jpg
ORGANIZER;CN="Julie Fournier":MAILTO:juliefournier.omni@gmail.com
GEO:46.132966;-74.1940374
X-APPLE-STRUCTURED-LOCATION;VALUE=URI;X-ADDRESS=Kio-o 1905 Chemin du rang 6 Sainte-Lucie Québec J0T 2J0 Canada;X-APPLE-RADIUS=500;X-TITLE=1905 Chemin du rang 6:geo:-74.1940374,46.132966
END:VEVENT
BEGIN:VEVENT
DTSTART;TZID=America/New_York:20241031T080000
DTEND;TZID=America/New_York:20241031T170000
DTSTAMP:20260419T212423
CREATED:20241031T143210Z
LAST-MODIFIED:20241031T143210Z
UID:10006217-1730361600-1730394000@kio-o.ca
SUMMARY:Atelier de Yoga Iyengar avec Claudie et Marie-Chantal
DESCRIPTION:
URL:https://kio-o.ca/evenement/atelier-de-yoga-iyengar-avec-claudie-et-marie-chantal-3/
LOCATION:Kio-o\, 1905 Chemin du rang 6\, Sainte-Lucie\, Québec\, J0T 2J0\, Canada
CATEGORIES:Yoga
ATTACH;FMTTYPE=image/jpeg:https://kio-o.ca/wp-content/uploads/2024/10/Ressourcement-dans-la-foret-hiver-2025.jpg
ORGANIZER;CN="Iyengar Yoga Montr%C3%A9al":MAILTO:info@iyengaryogamontreal.com
GEO:46.132966;-74.1940374
X-APPLE-STRUCTURED-LOCATION;VALUE=URI;X-ADDRESS=Kio-o 1905 Chemin du rang 6 Sainte-Lucie Québec J0T 2J0 Canada;X-APPLE-RADIUS=500;X-TITLE=1905 Chemin du rang 6:geo:-74.1940374,46.132966
END:VEVENT
END:VCALENDAR