BEGIN:VCALENDAR
VERSION:2.0
PRODID:-//Kio-o - ECPv6.15.12.2//NONSGML v1.0//EN
CALSCALE:GREGORIAN
METHOD:PUBLISH
X-ORIGINAL-URL:https://kio-o.ca
X-WR-CALDESC:Évènements pour Kio-o
REFRESH-INTERVAL;VALUE=DURATION:PT1H
X-Robots-Tag:noindex
X-PUBLISHED-TTL:PT1H
BEGIN:VTIMEZONE
TZID:America/New_York
BEGIN:DAYLIGHT
TZOFFSETFROM:-0500
TZOFFSETTO:-0400
TZNAME:EDT
DTSTART:20190310T070000
END:DAYLIGHT
BEGIN:STANDARD
TZOFFSETFROM:-0400
TZOFFSETTO:-0500
TZNAME:EST
DTSTART:20191103T060000
END:STANDARD
BEGIN:DAYLIGHT
TZOFFSETFROM:-0500
TZOFFSETTO:-0400
TZNAME:EDT
DTSTART:20200308T070000
END:DAYLIGHT
BEGIN:STANDARD
TZOFFSETFROM:-0400
TZOFFSETTO:-0500
TZNAME:EST
DTSTART:20201101T060000
END:STANDARD
BEGIN:DAYLIGHT
TZOFFSETFROM:-0500
TZOFFSETTO:-0400
TZNAME:EDT
DTSTART:20210314T070000
END:DAYLIGHT
BEGIN:STANDARD
TZOFFSETFROM:-0400
TZOFFSETTO:-0500
TZNAME:EST
DTSTART:20211107T060000
END:STANDARD
END:VTIMEZONE
BEGIN:VEVENT
DTSTART;VALUE=DATE:20200410
DTEND;VALUE=DATE:20200413
DTSTAMP:20260424T060824
CREATED:20190422T210349Z
LAST-MODIFIED:20200410T132019Z
UID:10005868-1586476800-1586735999@kio-o.ca
SUMMARY:Retraite personnelle de yoga - Luciemay et méditations actives - Tushar - Retraite annulée  reporté à Pâques 2021
DESCRIPTION:En cette fin de semaine de PÂQUES\, vous avez besoin d’un temps à la campagne pour vous retrouver – vous reposer – faire le plein d’énergie – bien manger ?  Cette retraite est pour vous. \nLes activités proposées sont accessibles\, les participants en retirent beaucoup de détente.  Aucune expérience requise. \nHoraire \nVendredi \n18 h 30 – Souper \n20 h  Mot de bienvenue – Classe de yoga et méditation Gourishankar STUDIO DU GONG \n  \nSamedi \n7 h 15 :   Classe de yoga STUDIO DU GONG \n8 h 30 –  Déjeuner en silence \n11 h 15 :   Méditation Chakra Breathing STUDIO DU GONG \n12 h 30 – Dîner en silence \n17 h 15 :  Classe de yoga GONG ou méditation Kundalini SOLEIL LEVANT \n18 h 30 : Souper en silence \n20 h :  Kirtan GONG \n  \nDimanche \n7 h 15 :  Classe de yoga Gong \n8 h 30 –  Déjeuner en silence \n11 h 15 : Méditation Vipassana au GONG \n12 h 30 – Dîner \nLe forfait inclut:  deux nuitées en occupation simple\, six activités d’une heure\, six repas végétariens (du souper à l’arrivée au dîner du jour du départ). \nLes repas seront servis en silence\, sauf le premier soir et le dernier midi. \n  \nUn dépôt de 75 $ confirmera votre inscription. \n[caldera_form_modal id= »CF588f6476160d1″ type= »button » width= »700″]Cliquez ici pour vous inscrire[/caldera_form_modal]
URL:https://kio-o.ca/evenement/5528/
LOCATION:Kio-o\, 1905 Chemin du rang 6\, Sainte-Lucie\, Québec\, J0T 2J0\, Canada
CATEGORIES:Méditation,Yoga
ATTACH;FMTTYPE=image/jpeg:https://kio-o.ca/wp-content/uploads/2019/04/Salle-gong-double.jpg
ORGANIZER;CN="Luciemay":MAILTO:info@kio-o.ca
GEO:46.132966;-74.1940374
X-APPLE-STRUCTURED-LOCATION;VALUE=URI;X-ADDRESS=Kio-o 1905 Chemin du rang 6 Sainte-Lucie Québec J0T 2J0 Canada;X-APPLE-RADIUS=500;X-TITLE=1905 Chemin du rang 6:geo:-74.1940374,46.132966
END:VEVENT
END:VCALENDAR