BEGIN:VCALENDAR
VERSION:2.0
PRODID:-//Kio-o - ECPv6.15.12.2//NONSGML v1.0//EN
CALSCALE:GREGORIAN
METHOD:PUBLISH
X-ORIGINAL-URL:https://kio-o.ca
X-WR-CALDESC:Évènements pour Kio-o
REFRESH-INTERVAL;VALUE=DURATION:PT1H
X-Robots-Tag:noindex
X-PUBLISHED-TTL:PT1H
BEGIN:VTIMEZONE
TZID:America/New_York
BEGIN:DAYLIGHT
TZOFFSETFROM:-0500
TZOFFSETTO:-0400
TZNAME:EDT
DTSTART:20220313T070000
END:DAYLIGHT
BEGIN:STANDARD
TZOFFSETFROM:-0400
TZOFFSETTO:-0500
TZNAME:EST
DTSTART:20221106T060000
END:STANDARD
BEGIN:DAYLIGHT
TZOFFSETFROM:-0500
TZOFFSETTO:-0400
TZNAME:EDT
DTSTART:20230312T070000
END:DAYLIGHT
BEGIN:STANDARD
TZOFFSETFROM:-0400
TZOFFSETTO:-0500
TZNAME:EST
DTSTART:20231105T060000
END:STANDARD
BEGIN:DAYLIGHT
TZOFFSETFROM:-0500
TZOFFSETTO:-0400
TZNAME:EDT
DTSTART:20240310T070000
END:DAYLIGHT
BEGIN:STANDARD
TZOFFSETFROM:-0400
TZOFFSETTO:-0500
TZNAME:EST
DTSTART:20241103T060000
END:STANDARD
END:VTIMEZONE
BEGIN:VEVENT
DTSTART;VALUE=DATE:20230704
DTEND;VALUE=DATE:20230707
DTSTAMP:20260421T021000
CREATED:20230216T154531Z
LAST-MODIFIED:20230217T163235Z
UID:10006055-1688428800-1688687999@kio-o.ca
SUMMARY:Retraite de médiation et de yoga holistique avec Parijata
DESCRIPTION:La méditation est une pratique de retour à soi. En tibétain\, on la nomme « Gom »\, ce qui veut dire se familiariser…se familiariser avec notre propre esprit\, nos pensées\, nos états d’âme.  Le but est de faire grandir en nous un regard lucide et aimant face à l’expérience de notre propre vie en toute intimité.  Ce processus tout simple et naturel transforme le mal-aise en joie tranquille\, le retour à ce que l’on nomme notre vraie nature.\n\nLe yoga holistique permet d’ancrer graduellement cette accoutumance à la présence à soi avec patience en profondeur et quiétude.\n\nPrérequis : avoir la capacité de garder le noble silence pendant deux jours.\n\n\n\n\nCoût: Hébergement pour deux nuitées : \n\n\n246 $ plus taxes\, par personne\, pour une chambre en occupation partagée\n\n\n344 $ plus taxes en occupation simple\n\nCe montant inclut les six repas.\n\nÀ payer à votre arrivée à la réception du Centre.\n\n\n\n Coût pour la retraite : 250 $\n\n\nDépôt de 125 $ avant le  15 avril.\nEt le solde une semaine avant le début de la retraite.\nLe dépôt est non remboursable.\n\n\n450 660.4053 \n  infoparijatayoga@gmail.com \n\n\nAu plaisir de vous retrouver à Sainte-Lucie
URL:https://kio-o.ca/evenement/retraite-de-mediation-et-de-yoga-holistique-avec-parijata/
LOCATION:Kio-o\, 1905 Chemin du rang 6\, Sainte-Lucie\, Québec\, J0T 2J0\, Canada
CATEGORIES:Méditation,Yoga
ATTACH;FMTTYPE=image/jpeg:https://kio-o.ca/wp-content/uploads/2023/02/unnamed.jpg
ORGANIZER;CN="Parijata":MAILTO:infoparijatayoga@gmail.com
GEO:46.132966;-74.1940374
X-APPLE-STRUCTURED-LOCATION;VALUE=URI;X-ADDRESS=Kio-o 1905 Chemin du rang 6 Sainte-Lucie Québec J0T 2J0 Canada;X-APPLE-RADIUS=500;X-TITLE=1905 Chemin du rang 6:geo:-74.1940374,46.132966
END:VEVENT
BEGIN:VEVENT
DTSTART;VALUE=DATE:20230704
DTEND;VALUE=DATE:20230707
DTSTAMP:20260421T021000
CREATED:20230510T114837Z
LAST-MODIFIED:20230510T114838Z
UID:10006088-1688428800-1688687999@kio-o.ca
SUMMARY:
DESCRIPTION:
URL:https://kio-o.ca/evenement/11985/
LOCATION:Kio-o\, 1905 Chemin du rang 6\, Sainte-Lucie\, Québec\, J0T 2J0\, Canada
CATEGORIES:Yoga
ATTACH;FMTTYPE=image/jpeg:https://kio-o.ca/wp-content/uploads/2023/05/IMG_3129.jpeg
ORGANIZER;CN="Elsa Mongeau":MAILTO:elsamongeau@gmail.com
GEO:46.132966;-74.1940374
X-APPLE-STRUCTURED-LOCATION;VALUE=URI;X-ADDRESS=Kio-o 1905 Chemin du rang 6 Sainte-Lucie Québec J0T 2J0 Canada;X-APPLE-RADIUS=500;X-TITLE=1905 Chemin du rang 6:geo:-74.1940374,46.132966
END:VEVENT
END:VCALENDAR