BEGIN:VCALENDAR
VERSION:2.0
PRODID:-//Kio-o - ECPv6.15.12.2//NONSGML v1.0//EN
CALSCALE:GREGORIAN
METHOD:PUBLISH
X-ORIGINAL-URL:https://kio-o.ca
X-WR-CALDESC:Évènements pour Kio-o
REFRESH-INTERVAL;VALUE=DURATION:PT1H
X-Robots-Tag:noindex
X-PUBLISHED-TTL:PT1H
BEGIN:VTIMEZONE
TZID:America/New_York
BEGIN:DAYLIGHT
TZOFFSETFROM:-0500
TZOFFSETTO:-0400
TZNAME:EDT
DTSTART:20180311T070000
END:DAYLIGHT
BEGIN:STANDARD
TZOFFSETFROM:-0400
TZOFFSETTO:-0500
TZNAME:EST
DTSTART:20181104T060000
END:STANDARD
BEGIN:DAYLIGHT
TZOFFSETFROM:-0500
TZOFFSETTO:-0400
TZNAME:EDT
DTSTART:20190310T070000
END:DAYLIGHT
BEGIN:STANDARD
TZOFFSETFROM:-0400
TZOFFSETTO:-0500
TZNAME:EST
DTSTART:20191103T060000
END:STANDARD
BEGIN:DAYLIGHT
TZOFFSETFROM:-0500
TZOFFSETTO:-0400
TZNAME:EDT
DTSTART:20200308T070000
END:DAYLIGHT
BEGIN:STANDARD
TZOFFSETFROM:-0400
TZOFFSETTO:-0500
TZNAME:EST
DTSTART:20201101T060000
END:STANDARD
END:VTIMEZONE
BEGIN:VEVENT
DTSTART;VALUE=DATE:20191108
DTEND;VALUE=DATE:20191111
DTSTAMP:20260425T084919
CREATED:20190128T152250Z
LAST-MODIFIED:20190808T163531Z
UID:10005853-1573171200-1573430399@kio-o.ca
SUMMARY:INSPIRE... Expire  - Une retraite de yoga\, pilates et méditation pour femmes - Brigitte Robitaille et Jodie Duplisea
DESCRIPTION:Inspire…Expire \nReposez votre esprit\, votre corps et votre âme lors d’une retraite silencieuse pour femmes. Reconnectez-vous à votre vitalité interne où votre bien-être est votre seule préoccupation. Imaginez-vous plongée dans la beauté des Laurentides\, dans le silence et la tranquillité? Cette retraite comprend du yoga quotidien\, du pilates\, de la méditation\, des promenades dans la nature et une délicieuse cuisine végétarienne. Nous nous concentrerons sur notre respiration\, le yoga et le pilates doux et énergisant\, et des méditations guidées afin de renouveler avec votre énergie profonde. \nQue vous soyez mère entourée d’enfants bruyants\, en douleur chronique\, vivant un deuil ou vous êtes directrice d’une grosse entreprise – Tout le monde mérite un moment de répit.  Imaginez les bienfaits de 3 jours de silence!  Osez vous reposer\, osez prendre un moment pour vous…parce que votre bien-être c’est important. Au retour\, vous vous sentirez mieux reposée\, plus présente et plus énergétique. \nDéconnectez pour reconnecter avec vous-même. \n« Le silence est la langue de Dieu\, tout le reste est une mauvaise traduction » Rumi \nHORAIRE :  \n8-10 novembre\, 2019 \n  \nVendredi :  arrivée entre 15 h 30-16 h \n17 h  :  Introduction / instructions \n18 h  :  souper \n19 h 30 :  yoga doux et yoga nidra/méditation \n  \nSamedi :  \n8 h  :  petit déjeuner \n9 h 30 :  méditation guidée \n10 h  :  pilates \n11 h  :  yoga doux \n12 h  :  dîner \n13 h  :  temps libre \n15 h 30 :  Pilates \n16 h 30 :  méditation guidée \n18 h  :  dîner \n19 h  30 :  yoga \n20 h 30 :  yoga nidra \n21 h  :  temps libre / couché \n  \nDimanche :  \n8 h :  petit déjeuner \n9 h 30 :  Pilates \n10 h 30 :  méditation guidée et yoga \n12 h  :  diner \n  \n395 $ taxes Incluses (chambre partagée) \n495 $taxes incluses (chambre privée) \nInclut l’hébergement\, 3 repas par jour\, yoga\, pilates\, méditation \n  \nTARIF SPÉCIAL :  350 $ – réservation avant le 31 août \n  \nInhale…Exhale \nRest your mind\, body\, and soul at a guided silent women’s retreat.  Reconnect to your inner vitally where your well-being is your only concern. Imagine doing this immersed in the beauty of the Laurentians\, in silence and tranquility?  This retreat includes daily yoga\, pilates\, meditation\, walks in nature and delicious vegetarian food. We will focus on breathing\, gentle and energizing yoga and pilates and grounding meditations to help you reconnect to our deepest core. \n  \nWhether you’re a mom\, dealing with grief\, living with pain or have a demanding job\, everyone needs a break at some point.  Imagine the benefits of 3 days of silence! \nDare to pause and take care of YOU because YOU matter.  Return from this weekend feeling more present\, more rested and more energized. \nDisconnect to reconnect with yourself. \n“Silence is the language of God\, all else is poor translation” Rumi \nSchedule: \nNovember 8-10\, 2019 \nFriday: Arrival between 3:30-4pm \n5pm: Introduction/instructions \n6pm: Dinner \n7:30pm: gentle yoga and yoga nidra \nSaturday: \n8am: Breakfast \n9:30am: guided meditation \n10am: pilates \n11am: gentle yoga \n12pm: lunch \n1-3pm: free time \n3:30: pilates \n4:30: guided meditation \n6pm: dinner \n7:30: yoga \n8:30: yoga nidra/meditation \n9pm: Free time/bed \nSunday: \n8am: breakfast \n9:30am: pilates \n10:30: guided meditation and yoga \n12pm: lunch \n1pm: closing discussion \n  \n$395 taxes included (shared room) \n$495 taxes included (private room) \nIncludes accommodation\, 3 meals per day\, yoga\, pilates\, meditation \nEARLY BIRD DISCOUNT! $350 – book before August 31 \n  \nBrigitte:\nwww.inspiremouvement.com\nBrigitte.bodywork@gmail.com\n\nJodie:\nwww.letempledo.com\nletempledo@gmail.com
URL:https://kio-o.ca/evenement/inspire-une-retraite-de-yoga-pilates-et-meditation-pour-femmes/
LOCATION:Kio-o\, 1905 Chemin du rang 6\, Sainte-Lucie\, Québec\, J0T 2J0\, Canada
CATEGORIES:Méditation,Mouvement,Yoga
ATTACH;FMTTYPE=image/jpeg:https://kio-o.ca/wp-content/uploads/2019/01/Inspire...Expire.jpg
ORGANIZER;CN="Brigitte Robitaille":MAILTO:Brigitte.bodywork@gmail.com
GEO:46.132966;-74.1940374
X-APPLE-STRUCTURED-LOCATION;VALUE=URI;X-ADDRESS=Kio-o 1905 Chemin du rang 6 Sainte-Lucie Québec J0T 2J0 Canada;X-APPLE-RADIUS=500;X-TITLE=1905 Chemin du rang 6:geo:-74.1940374,46.132966
END:VEVENT
END:VCALENDAR