BEGIN:VCALENDAR
VERSION:2.0
PRODID:-//Kio-o - ECPv6.15.12.2//NONSGML v1.0//EN
CALSCALE:GREGORIAN
METHOD:PUBLISH
X-ORIGINAL-URL:https://kio-o.ca
X-WR-CALDESC:Évènements pour Kio-o
REFRESH-INTERVAL;VALUE=DURATION:PT1H
X-Robots-Tag:noindex
X-PUBLISHED-TTL:PT1H
BEGIN:VTIMEZONE
TZID:America/New_York
BEGIN:DAYLIGHT
TZOFFSETFROM:-0500
TZOFFSETTO:-0400
TZNAME:EDT
DTSTART:20200308T070000
END:DAYLIGHT
BEGIN:STANDARD
TZOFFSETFROM:-0400
TZOFFSETTO:-0500
TZNAME:EST
DTSTART:20201101T060000
END:STANDARD
BEGIN:DAYLIGHT
TZOFFSETFROM:-0500
TZOFFSETTO:-0400
TZNAME:EDT
DTSTART:20210314T070000
END:DAYLIGHT
BEGIN:STANDARD
TZOFFSETFROM:-0400
TZOFFSETTO:-0500
TZNAME:EST
DTSTART:20211107T060000
END:STANDARD
BEGIN:DAYLIGHT
TZOFFSETFROM:-0500
TZOFFSETTO:-0400
TZNAME:EDT
DTSTART:20220313T070000
END:DAYLIGHT
BEGIN:STANDARD
TZOFFSETFROM:-0400
TZOFFSETTO:-0500
TZNAME:EST
DTSTART:20221106T060000
END:STANDARD
END:VTIMEZONE
BEGIN:VEVENT
DTSTART;VALUE=DATE:20210726
DTEND;VALUE=DATE:20210731
DTSTAMP:20260422T175324
CREATED:20210529T134225Z
LAST-MODIFIED:20210813T115833Z
UID:10005755-1627257600-1627689599@kio-o.ca
SUMMARY:Retraite holistique et cure de jus verts avec Nancy Bilodeau - Annulée
DESCRIPTION:Retraite holistique et cure de jus verts \nJoignez une expérience ressourçante et régénératrice dans un cadre apaisant et bienfaiteur au cœur des Laurentides. Le centre de ressourcement Kio-o vous accueille pour une retraite de 5 jours de cure de jus verts\, de détente\, de calme\, de repos et d’apprentissage. Au programme : yoga doux\, méditation\, pranayama\, cohérence cardiaque\, mudra et conférences\, réflexions et exercices en santé holistique. \nLa retraite sera guidée par Nancy Bilodeau\, consultante\, conférencière et coach en santé holistique.
URL:https://kio-o.ca/evenement/retraite-holistique-et-cure-de-jus-verts-avec-nancy-bilodeau/2021-07-26/
LOCATION:Kio-o\, 1905 Chemin du rang 6\, Sainte-Lucie\, Québec\, J0T 2J0\, Canada
CATEGORIES:Santé globale,Yoga
ATTACH;FMTTYPE=image/jpeg:https://kio-o.ca/wp-content/uploads/2021/05/jus-vert.jpg
ORGANIZER;CN="Nancy Bilodeau":MAILTO:cecile.bellissard@thinkincentive.com
GEO:46.132966;-74.1940374
X-APPLE-STRUCTURED-LOCATION;VALUE=URI;X-ADDRESS=Kio-o 1905 Chemin du rang 6 Sainte-Lucie Québec J0T 2J0 Canada;X-APPLE-RADIUS=500;X-TITLE=1905 Chemin du rang 6:geo:-74.1940374,46.132966
END:VEVENT
BEGIN:VEVENT
DTSTART;VALUE=DATE:20210730
DTEND;VALUE=DATE:20210802
DTSTAMP:20260422T175324
CREATED:20210408T142203Z
LAST-MODIFIED:20210408T142718Z
UID:10005958-1627603200-1627862399@kio-o.ca
SUMMARY:Tout sur la respiration avec Lily Champagne
DESCRIPTION:« On ne fabrique pas le souffle\, on le reçoit. »  \n Frère Odilon Cassidy \nLe merveilleux monde du souffle est à la portée de tous\, jeune ou vieux\, en pleine santé ou dans les moments où le corps est plus fragile\, seul ou en groupe\, riche ou pauvre\, peu importe la condition dans laquelle on se trouve le souffle est toujours là\, fidèle\, ne nous laissant jamais tomber. De la première inspiration au début de notre vie jusqu’à notre dernière expiration lors de notre grand départ. \nEt ce qui est merveilleux\, est que tout cela se fait sur un mode naturel…. Comme sur un pilote automatique à partir de notre première respiration. Extraordinaire non? Et pourtant ce pilote automatique nous joue des tours car on ne sait pas tout le pouvoir que le souffle peut nous offrir. \nC’est cela que nous allons découvrir tout au long de cet atelier en regardant chacun de ces éléments. \n*Le souffle: la qualité\, la régularité et le lieu. \n  \n*Le mouvement: l’expiration\, l’inspiration\, les rétentions poumons pleins et poumons vides et le mouvement de prâna et d’apâna. \n  \n*Les effets: Brhimana\, Langhana\, Samâna \n  \n*La notion de lieu:  Desha \n  \n*La notion de temps et de rythme: Kâla ( longueur\, durée et rythme) \n  \n*La notion de nombre: Samkhyâ  \n  \n« Respirer consciemment c’est maîtriser sa respiration mais c’est aussi entrer en symbiose avec le mouvement de l’infiniment grand et de l’infiniment petit qui est à l’intérieur de nous. Respirer consciemment\, c’est la possibilité de se relier à ce qu’il y a de plus grand en Nous. »  \n  \nLa posture s’intéresse plus au corps alors que le souffle s’intéresse davantage à l’esprit. Voici un mot important qui va nous accompagner tout au long de cet atelier pour approfondir le souffle.
URL:https://kio-o.ca/evenement/tout-sur-la-respiration-avec-lily-champagne/
LOCATION:Kio-o\, 1905 Chemin du rang 6\, Sainte-Lucie\, Québec\, J0T 2J0\, Canada
CATEGORIES:Méditation,Yoga
ATTACH;FMTTYPE=image/png:https://kio-o.ca/wp-content/uploads/2021/04/Capture-décran-le-2021-04-08-à-10.11.27.png
ORGANIZER;CN="Lily Champagne":MAILTO:viniyoga@lilychampagne.com
GEO:46.132966;-74.1940374
X-APPLE-STRUCTURED-LOCATION;VALUE=URI;X-ADDRESS=Kio-o 1905 Chemin du rang 6 Sainte-Lucie Québec J0T 2J0 Canada;X-APPLE-RADIUS=500;X-TITLE=1905 Chemin du rang 6:geo:-74.1940374,46.132966
END:VEVENT
BEGIN:VEVENT
DTSTART;VALUE=DATE:20210730
DTEND;VALUE=DATE:20210802
DTSTAMP:20260422T175324
CREATED:20210526T160750Z
LAST-MODIFIED:20210528T140934Z
UID:10005749-1627603200-1627862399@kio-o.ca
SUMMARY:Yoga et Méditation - Stéphanie Kitembo
DESCRIPTION:Retraite de yoga\n\nNous vous bichonnerons à l’aide de plusieurs classes de yoga à partir du vendredi soir jusqu’au dimanche début d’après-midi. Vous aurez aussi du temps juste pour être dans la merveilleuse nature des Laurentides\, ou pour lire\, ou dessiner\, ou écrire. Ce que vous mangerez sera succulent et végétarien. Croyez moi\, les cuisiniers du centre sont extras !\n\nSans oublier de mettre en lumière\, que Lise prend toutes les précautions nécessaires pour respecter les normes sanitaires.\n\nAtmosphère très très agréable assurée \nPrix et horaires Informations / sur demande.\nPlaces limitées. \nMerci de votre confiance.
URL:https://kio-o.ca/evenement/yoga-et-meditation-stephanie-kitembo/2021-07-30/
LOCATION:Kio-o\, 1905 Chemin du rang 6\, Sainte-Lucie\, Québec\, J0T 2J0\, Canada
CATEGORIES:Méditation,Mouvement,Yoga
ATTACH;FMTTYPE=image/jpeg:https://kio-o.ca/wp-content/uploads/2021/05/Stéphanie-Kitembo.jpg
ORGANIZER;CN="St%C3%A9phanie Kitembo":MAILTO:kitembo31@gmail.com
GEO:46.132966;-74.1940374
X-APPLE-STRUCTURED-LOCATION;VALUE=URI;X-ADDRESS=Kio-o 1905 Chemin du rang 6 Sainte-Lucie Québec J0T 2J0 Canada;X-APPLE-RADIUS=500;X-TITLE=1905 Chemin du rang 6:geo:-74.1940374,46.132966
END:VEVENT
BEGIN:VEVENT
DTSTART;VALUE=DATE:20210801
DTEND;VALUE=DATE:20210807
DTSTAMP:20260422T175324
CREATED:20210228T204955Z
LAST-MODIFIED:20210228T204955Z
UID:10005942-1627776000-1628294399@kio-o.ca
SUMMARY:Renaissance avec Martin Bilodeau
DESCRIPTION:Renaissance\nDécouvrez une toute nouvelle retraite inspirée de la psychologie sacrée et des rites sacrés du monde entier !\n\n\nUn voyage intensif sur cinq jours\nqui offre à la fois un apprentissage intellectuel et expérientiel\n\n\n\nUn parcours d’empowerment\npour devenir des leaders conscients dans toutes les sphères de votre vie \n\n\nUne exploration des bases\nd’une nouvelle psychologie des profondeurs \n\n\n\nUne communauté éphémère de chercheurs\nqui désirent retrouver et célébrer le sens sacré de leur existence\n\n\n\n\nMon invitation\n\n\n\n\nL’angle puissant de la psychologie sacrée fécondera et inspirera nos pratiques. L’esprit de toute ma démarche personnelle s’inscrit dans ce qu’on appelle aujourd’hui le « Dharma Gaïa »\, la rencontre du bouddhisme et du chamanisme. Plus généralement\, je crois qu’en cette période de bouleversement\, un métissage est essentiel pour ouvrir de nouveaux espaces de sagesse et se réapproprier notre évolution autant au niveau personnel et collectif. \nJe vous offre\, à travers ce parcours\, de la rigueur\, de l’ouverture et de l’intégrité\, mais aussi de l’aventure et de l’audace!\nVous voulez découvrir le parcours qui m’inspire dans la transmission de cette retraite? Lisez ceci.
URL:https://kio-o.ca/evenement/renaissance-avec-martin-bilodeau/
LOCATION:Kio-o\, 1905 Chemin du rang 6\, Sainte-Lucie\, Québec\, J0T 2J0\, Canada
CATEGORIES:-,Développement personnel,Expression créative,Méditation,Rituel,Yoga
ATTACH;FMTTYPE=image/jpeg:https://kio-o.ca/wp-content/uploads/2021/02/AdobeStock_281404760-scaled-1.jpeg
ORGANIZER;CN="Martin Bilodeau Auteur%2C auteur%2C conf%C3%A9rencier et enseignant":MAILTO:info@martinbilodeau.com
GEO:46.132966;-74.1940374
X-APPLE-STRUCTURED-LOCATION;VALUE=URI;X-ADDRESS=Kio-o 1905 Chemin du rang 6 Sainte-Lucie Québec J0T 2J0 Canada;X-APPLE-RADIUS=500;X-TITLE=1905 Chemin du rang 6:geo:-74.1940374,46.132966
END:VEVENT
END:VCALENDAR