BEGIN:VCALENDAR
VERSION:2.0
PRODID:-//Kio-o - ECPv6.15.12.2//NONSGML v1.0//EN
CALSCALE:GREGORIAN
METHOD:PUBLISH
X-WR-CALNAME:Kio-o
X-ORIGINAL-URL:https://kio-o.ca
X-WR-CALDESC:Évènements pour Kio-o
REFRESH-INTERVAL;VALUE=DURATION:PT1H
X-Robots-Tag:noindex
X-PUBLISHED-TTL:PT1H
BEGIN:VTIMEZONE
TZID:America/New_York
BEGIN:DAYLIGHT
TZOFFSETFROM:-0500
TZOFFSETTO:-0400
TZNAME:EDT
DTSTART:20220313T070000
END:DAYLIGHT
BEGIN:STANDARD
TZOFFSETFROM:-0400
TZOFFSETTO:-0500
TZNAME:EST
DTSTART:20221106T060000
END:STANDARD
BEGIN:DAYLIGHT
TZOFFSETFROM:-0500
TZOFFSETTO:-0400
TZNAME:EDT
DTSTART:20230312T070000
END:DAYLIGHT
BEGIN:STANDARD
TZOFFSETFROM:-0400
TZOFFSETTO:-0500
TZNAME:EST
DTSTART:20231105T060000
END:STANDARD
BEGIN:DAYLIGHT
TZOFFSETFROM:-0500
TZOFFSETTO:-0400
TZNAME:EDT
DTSTART:20240310T070000
END:DAYLIGHT
BEGIN:STANDARD
TZOFFSETFROM:-0400
TZOFFSETTO:-0500
TZNAME:EST
DTSTART:20241103T060000
END:STANDARD
END:VTIMEZONE
BEGIN:VEVENT
DTSTART;VALUE=DATE:20230714
DTEND;VALUE=DATE:20230717
DTSTAMP:20260421T050535
CREATED:20230406T161037Z
LAST-MODIFIED:20230406T161126Z
UID:10006044-1689292800-1689551999@kio-o.ca
SUMMARY:Tantra en couple - avec Martin Bilodeau
DESCRIPTION:Tantra en couple\n\n\n\n\n\nMon invitation\n\n\n\n\nL’esprit de cette fin de semaine est la joie\, la légèreté\, la connexion et la douceur. \nCette retraite est un chemin pour libérer votre force d’aimer et pour choisir de vous abandonner aux vérités du cœur. Venez calmer le mental et l’ego pour faire vibrer VOTRE ÊTRE dans un océan d’amour qui vous permettra de retrouver le sens sacré à votre vie et de dévoiler la dimension spirituelle dans votre relation. \nCette retraite de ressourcement vous présente quelques-uns des plus précieux enseignements sur le tantrisme\, et ce\, sans nudité. \nDu point de vue pratique\, le tantra offre une vaste somme de connaissances et de moyens pratiques permettant aux hommes et aux femmes de reconnecter avec leur essence ultime et primordiale\, amour. Le tantra a comme but principal de permettre des transformations intérieures et libérer les êtres de la souffrance. \n\n\n\n\n\n\nCes transformations se vivront à travers les pratiques suivantes :\n\n\n\n\nMéditation sur le regard \n\n\n\nMéditation de l’étreinte \n\nRite d’éveil des sensPratique de contemplation dans la nature \n\nCréation d’un œuvre éphémère (mandala en nature) \n\nRite de pardon pour se libérer du passé \n\n\nMéditation sur le sens de l’amour dans sa vie \n\nRituel pour reconnaître et voir la beauté en l’autre \n\n\nExpérience d’harmonisation de la kundalini \n\n\nRespiration pranique et extase par le souffle \n\n\n\nEt plus encore! \nDes pratiques de chants sacrés\, de méditation active\, de danse et de yoga seront aussi au programme pour offrir des moments de transition entre les enseignements et les pratiques principales. Les couples de toutes orientations sexuelles et de tous âges sont bienvenus à vivre cette retraite de tantra pour couples.
URL:https://kio-o.ca/evenement/yoga-kundalini-avec-martin-bilodeau-2/
LOCATION:Kio-o\, 1905 Chemin du rang 6\, Sainte-Lucie\, Québec\, J0T 2J0\, Canada
CATEGORIES:Développement personnel,Méditation,Yoga
ATTACH;FMTTYPE=image/jpeg:https://kio-o.ca/wp-content/uploads/2021/02/MartinBilodeau_2020-7344_HR600px.jpg
ORGANIZER;CN="Martin Bilodeau Auteur%2C auteur%2C conf%C3%A9rencier et enseignant":MAILTO:info@martinbilodeau.com
GEO:46.132966;-74.1940374
X-APPLE-STRUCTURED-LOCATION;VALUE=URI;X-ADDRESS=Kio-o 1905 Chemin du rang 6 Sainte-Lucie Québec J0T 2J0 Canada;X-APPLE-RADIUS=500;X-TITLE=1905 Chemin du rang 6:geo:-74.1940374,46.132966
END:VEVENT
END:VCALENDAR