BEGIN:VCALENDAR
VERSION:2.0
PRODID:-//Kio-o - ECPv6.15.12.2//NONSGML v1.0//EN
CALSCALE:GREGORIAN
METHOD:PUBLISH
X-ORIGINAL-URL:https://kio-o.ca
X-WR-CALDESC:Évènements pour Kio-o
REFRESH-INTERVAL;VALUE=DURATION:PT1H
X-Robots-Tag:noindex
X-PUBLISHED-TTL:PT1H
BEGIN:VTIMEZONE
TZID:America/New_York
BEGIN:DAYLIGHT
TZOFFSETFROM:-0500
TZOFFSETTO:-0400
TZNAME:EDT
DTSTART:20230312T070000
END:DAYLIGHT
BEGIN:STANDARD
TZOFFSETFROM:-0400
TZOFFSETTO:-0500
TZNAME:EST
DTSTART:20231105T060000
END:STANDARD
BEGIN:DAYLIGHT
TZOFFSETFROM:-0500
TZOFFSETTO:-0400
TZNAME:EDT
DTSTART:20240310T070000
END:DAYLIGHT
BEGIN:STANDARD
TZOFFSETFROM:-0400
TZOFFSETTO:-0500
TZNAME:EST
DTSTART:20241103T060000
END:STANDARD
BEGIN:DAYLIGHT
TZOFFSETFROM:-0500
TZOFFSETTO:-0400
TZNAME:EDT
DTSTART:20250309T070000
END:DAYLIGHT
BEGIN:STANDARD
TZOFFSETFROM:-0400
TZOFFSETTO:-0500
TZNAME:EST
DTSTART:20251102T060000
END:STANDARD
END:VTIMEZONE
BEGIN:VEVENT
DTSTART;VALUE=DATE:20240503
DTEND;VALUE=DATE:20240506
DTSTAMP:20260420T124939
CREATED:20240107T212851Z
LAST-MODIFIED:20240107T212918Z
UID:10006142-1714694400-1714953599@kio-o.ca
SUMMARY:Nourrir ta vie profonde animé par Cécile Purusha Hontoy
DESCRIPTION:Tu es sacré. Ta vie intérieure est profonde. Nous apprendrons différentes techniques pour relier cette profondeur et le monde du quotidien pour que tu puisses encore mieux t’y épanouir. \nÀ propos de l’événement\n\n\nJe t’invite à te marier à toi même.  À entrer dans la résilience sacrée  et cela pour une pleine et entière confiance en toi\, aux autres\, à l’existence. \nDans toutes les traditions\,  être Initié  signifie  avoir fait mourir.    Avoir fait mourir signifie avoir traversé une étape de croissance. \nInitier au sens spirituel signifie  faire passer de l’état profane ( de la petite vie )  à l’état sacré ( au sens de la vie ). \nMais qu’est-ce l’état profane et qu’est-ce que l’état sacré ? \nL’état profane : c’est la vie ordinaire avec les sentiments ordinaires et toutes les tâches dites ordinaire cependant restant nécessaires à cette vie terrestre. \nL’état sacré : c’est l’état de la conscience : la capacité de conscientiser pour cela de s’arrêter et de comprendre le monde intérieur et le monde extérieur comme un tout non séparé. \nInitier en termes spirituels\, c’est faire prendre conscience\, oser la conscience\, passer de l’état inconscience à l’état conscience. \nÊtre\, devenir initiateur c’est être et devenir guérisseur et passeur. \n  \nExtrait : le maître de l’Amour. ( livre E.B.) \nQuelqu’un vient vers moi et souffre! C’est la Lumière qui souffre en lui! Je le prends dans mes bras\, je reçois la souffrance! Puis\, je ne vois que la joie dans les yeux de celui que j’ai embrassé! Alors\, je sais que la Lumière lui a laissé la Joie parce qu’il a abandonné  sa souffrance. \nChacun porte en lui un temple\, une cathédrale de Lumière. À partir de ce temple\, du haut de cette cathédrale\, vous pouvez voir le Chemin sacré accompli par le maître de l’Amour. Par son propre accomplissement\, le voici qui entraîne la Terreentière! C’est parfois difficile à croire? Mais l’humanité va\, grâce au Maître de l’Amour vers sa propre rédemption! Tout cela peut être compris métaphysiquement\, au-delà des paramètres simplistes d’explications de la vie trop étroites! Le maître de l’Amour émet des rayons lumineux d’une grande amplitude. Ces rayons lumineux agissent comme des aimants pour les âmes et les entraînent à vibrer de plus en plus selon sur les mêmes fréquences que le Maître de l’Amour. \nSi vous pouvez concevoir cela\, vous comprenez que chaque douleur si petite ou si grande soit-elle\, chaque pleur si petit ou vaste soit-il\, ne peuvent plus se percevoir comme des déchirures. Par le miracle du Maître de l’Amour\, ils deviennent  davantage comme des ouvertures pour accueillir cette Bonté immense en Œuvre dans le Monde. \nSwami Purushananda \n 
URL:https://kio-o.ca/evenement/nourrir-ta-vie-profonde-anime-par-cecile-hontoy-ecole-purusha/
LOCATION:Kio-o\, 1905 Chemin du rang 6\, Sainte-Lucie\, Québec\, J0T 2J0\, Canada
CATEGORIES:Développement personnel,Yoga
ATTACH;FMTTYPE=image/webp:https://kio-o.ca/wp-content/uploads/2022/07/purusha-meditation-yoga2.webp
ORGANIZER;CN="C%C3%A9cile-Purusha Hontoy ( swami Purusha )":MAILTO:purushahontoy@hotmail.com
GEO:46.132966;-74.1940374
X-APPLE-STRUCTURED-LOCATION;VALUE=URI;X-ADDRESS=Kio-o 1905 Chemin du rang 6 Sainte-Lucie Québec J0T 2J0 Canada;X-APPLE-RADIUS=500;X-TITLE=1905 Chemin du rang 6:geo:-74.1940374,46.132966
END:VEVENT
BEGIN:VEVENT
DTSTART;VALUE=DATE:20240503
DTEND;VALUE=DATE:20240506
DTSTAMP:20260420T124939
CREATED:20240112T210308Z
LAST-MODIFIED:20240112T210308Z
UID:10006147-1714694400-1714953599@kio-o.ca
SUMMARY:Retraite printanière - Éclosion de vitalité :  avec Mylène Martin
DESCRIPTION:Une invitation à : FAIRE LE PLEIN D’UNE ÉNERGIE RENOUVELÉE\nPendant 3 jours et 2 nuits\, tout sera pensé et organisé avec soin pour te permettre de revitaliser ton esprit\, nourrir ton corps et te connecter profondément à la nature qui est autour de toi et.. en toi!\nInspiré.e par l’énergie printanière\, tu seras guidé.e dans l’éveil de tes sens\, l’ouverture de tout ton être et le rayonnement de ta douce lumière intérieure.\nViens vivre une expérience ressourçante d’ancrage\, de connexion et de joie.\nLa retraite parfaite pour :\n\n\nCÉLÉBRER le retour du printemps\, de la chaleur et du beau temps\n\n\n\n\nFAIRE LE POINT sur les derniers mois\, laisser aller ce qui ne sert plus\, alléger corps et esprit pour avancer avec confiance et enthousiasme\n\n\n\n\nRECHARGER NOS BATTERIES en se connectant à ses propres racines et en s’inspirant de la nature environnante qui se réveille\n\n\nVoici un aperçu des activités proposées :\n      - Méditation matinale\n– Yoga parfois doux\, parfois dynamique\n– Entraînement ludique en plein air\n– Yoga à deux\n– Identification des plantes sauvages printanières\n– Bain de forêt : marche en nature avec stations de connexion\n– Respirations revitalisantes\n– Méditation au bord du feu\n– Cérémonie de cacao sacré\n– Mandala printanier avec éléments de la nature\n\nInclus :\n– 2 nuits d’hébergement\n– 6 repas végétariens savoureux concoctés avec des produits locaux\n– Une programmation d’activités variées\, stimulantes et           ressourcantes\n– Le site : 125 acres de terrain montagneux et boisé\, 2\,5 kilomètres de sentiers de randonnée\, petit lac privé\, quai\, chaises suspendues\,\nsite de feu de camp\n– Tout le matériel nécessaire pour les cours de yoga et méditation (tapis\, blocs\, sangles\, coussins)\n\nTarifs (taxes en sus) :\nLÈVE-TÔT : jusqu’au 18 février :\n558 $ occ. partagé (2-3 pers.)\n658 $ occ. simple\nRÉGULIER : à partir du 19 février :\n588 $ occ. partagé (2-3 personnes)\n688 $ occ. simple\n\nSi tu as besoin de payer en 2 versements\, écris-moi. Il me fera plaisir de t’accommoder avec un versement de 50% lors de ton inscription et 50% au plus tard le 3 avril.\n\nProcédure d’inscription :\nUne fois sur la plateforme Go Rendez-vous\, cliques sur  »Voir les cours »\, défiles jusqu’au 3 mai\, sélectionnes la retraite (option régulière (occ. partagée) ou option privé (occ. simple)) et suis les consignes.\nLien d’inscription :  https://naturaktive.com/événements\nL’horaire exact te sera dévoilé sur place. Je t’invite\, dès ton inscription\, à lâcher prise et te laisser guider avec confiance.\nFaçons d’économiser sur la retraite :\n\n\nRabais référencement de 5%\n\n\n\n\nOffrir ton temps et tes compétences lors de la retraite ou en amont de celle-ci (animation d’ateliers\, photographe\, etc.)\n\nPour profiter du rabais référencement ou proposer ton aide\, tu peux communiquer avec moi via Messenger (Naturaktive) ou par courriel au naturaktive@outlook.com\n\nEs-tu prêt.e à retrouver ta vitalité?\nAu plaisir de connecter avec toi !
URL:https://kio-o.ca/evenement/retraite-printaniere-eclosion-de-vitalite-avec-mylene-martin/
LOCATION:Kio-o\, 1905 Chemin du rang 6\, Sainte-Lucie\, Québec\, J0T 2J0\, Canada
CATEGORIES:Méditation,Mouvement,Yoga
ATTACH;FMTTYPE=image/png:https://kio-o.ca/wp-content/uploads/2024/01/Retraite-printaniere-vertical.png
ORGANIZER;CN="Myl%C3%A8ne Martin":MAILTO:naturaktive@outlook.com
GEO:46.132966;-74.1940374
X-APPLE-STRUCTURED-LOCATION;VALUE=URI;X-ADDRESS=Kio-o 1905 Chemin du rang 6 Sainte-Lucie Québec J0T 2J0 Canada;X-APPLE-RADIUS=500;X-TITLE=1905 Chemin du rang 6:geo:-74.1940374,46.132966
END:VEVENT
END:VCALENDAR