BEGIN:VCALENDAR
VERSION:2.0
PRODID:-//Kio-o - ECPv6.15.12.2//NONSGML v1.0//EN
CALSCALE:GREGORIAN
METHOD:PUBLISH
X-WR-CALNAME:Kio-o
X-ORIGINAL-URL:https://kio-o.ca
X-WR-CALDESC:Évènements pour Kio-o
REFRESH-INTERVAL;VALUE=DURATION:PT1H
X-Robots-Tag:noindex
X-PUBLISHED-TTL:PT1H
BEGIN:VTIMEZONE
TZID:America/New_York
BEGIN:DAYLIGHT
TZOFFSETFROM:-0500
TZOFFSETTO:-0400
TZNAME:EDT
DTSTART:20180311T070000
END:DAYLIGHT
BEGIN:STANDARD
TZOFFSETFROM:-0400
TZOFFSETTO:-0500
TZNAME:EST
DTSTART:20181104T060000
END:STANDARD
BEGIN:DAYLIGHT
TZOFFSETFROM:-0500
TZOFFSETTO:-0400
TZNAME:EDT
DTSTART:20190310T070000
END:DAYLIGHT
BEGIN:STANDARD
TZOFFSETFROM:-0400
TZOFFSETTO:-0500
TZNAME:EST
DTSTART:20191103T060000
END:STANDARD
BEGIN:DAYLIGHT
TZOFFSETFROM:-0500
TZOFFSETTO:-0400
TZNAME:EDT
DTSTART:20200308T070000
END:DAYLIGHT
BEGIN:STANDARD
TZOFFSETFROM:-0400
TZOFFSETTO:-0500
TZNAME:EST
DTSTART:20201101T060000
END:STANDARD
END:VTIMEZONE
BEGIN:VEVENT
DTSTART;VALUE=DATE:20190627
DTEND;VALUE=DATE:20190702
DTSTAMP:20260424T020519
CREATED:20181026T220331Z
LAST-MODIFIED:20210614T143826Z
UID:10005821-1561593600-1562025599@kio-o.ca
SUMMARY:École d'été - Ho! Rites de passages
DESCRIPTION:École d’Été en travail rituel\nUn grand rassemblement franco-québécois pour s’initier à la puissance du travail rituel\n\n\nL’École d’Été en travail rituel est un événement de formation offert au Québec sur une base annuelle\, un joyeux rassemblement de créatifs culturels\, d’anciens et de nouveaux étudiants de notre communauté ainsi que d’amoureux des rituels qui se côtoient dans un vaste laboratoire de recherche et d’expérimentation. L’École d’Été de HO réunit des étudiants du Québec et de l’Europe francophone\, toutes années confondues\, pour réfléchir\, pratiquer et traduire d’anciennes pratiques rituelles en termes contemporains. Les classes sont offertes par des pionniers du travail rituel au Québec venant de milieux divers. \nTenant à la fois du festival et de l’apprentissage intensif\, cette École d’Été est soutenue par des méditations quotidiennes\, baignades\, conférences\, films\, soirées de danse et moments collectifs de silence. \n\nSpirale en mouvement : 27 juin au 30 juin (dans le cadre de l’École d’Été)\nInitiation au chamanisme: 28 au 30 juin (dans le cadre de l’École d’Été)\nRites de terre et de spiritualité: 1er au 4 juillet (dans le cadre de l’École d’Été)\nLa légende des Faiseurs de paix: 1er au 4 juillet (dans le cadre de l’École d’Été)
URL:https://kio-o.ca/evenement/ecole-dete-ho-rites-de-passages/
LOCATION:Kio-o\, 1905 Chemin du rang 6\, Sainte-Lucie\, Québec\, J0T 2J0\, Canada
CATEGORIES:Développement personnel,Expression créative,Méditation,Mouvement
ATTACH;FMTTYPE=image/png:https://kio-o.ca/wp-content/uploads/2018/10/Capture-d’écran-le-2019-04-02-à-17.40.15.png
ORGANIZER;CN="Ho Rites de passage":MAILTO:info@horites.com
GEO:46.132966;-74.1940374
X-APPLE-STRUCTURED-LOCATION;VALUE=URI;X-ADDRESS=Kio-o 1905 Chemin du rang 6 Sainte-Lucie Québec J0T 2J0 Canada;X-APPLE-RADIUS=500;X-TITLE=1905 Chemin du rang 6:geo:-74.1940374,46.132966
END:VEVENT
BEGIN:VEVENT
DTSTART;TZID=America/New_York:20190710T080000
DTEND;TZID=America/New_York:20190710T170000
DTSTAMP:20260424T020519
CREATED:20190710T195140Z
LAST-MODIFIED:20190710T195140Z
UID:10005873-1562745600-1562778000@kio-o.ca
SUMMARY:Massage polarité avec Sylvie Vadnais
DESCRIPTION:MASSAGE POLARITÉ \n  \nLe massage POLARITÉ et l’apprentissage des 5 éléments de la nature\, la terre\, l’eau\, le feu\, l’air et l’éther qui forment à chacun\, notre paysage. \n  \nAu Centre Sylvie Vadnais de Repentigny\, se donne la formation reconnue de 440 heures de cette belle technique de massage.  Durant cette formation\, nous ferons un séjour à l’automne au Centre de ressourcement KIO\, afin de venir expérimenter dans la nature ces 5 éléments que nous portons tous. \n  \nEn janvier de chaque année\, nous vous invitons à venir au Centre Sylvie Vadnais à Repentigny\, afin de faire une fin de semaine d’introduction au massage Polarité (sans obligation de suivre ladite formation). \n  \nLors de cette fin de semaine\, nous vous donnerons toute l’information nécessaire et  l’avantage de passer 5 jours au Centre de Ressourcement KIO à l’automne qui suivra dans l’année en cours. \n  \n  \n 
URL:https://kio-o.ca/evenement/massage-polarite-avec-sylvie-vadnais/
LOCATION:Kio-o\, 1905 Chemin du rang 6\, Sainte-Lucie\, Québec\, J0T 2J0\, Canada
CATEGORIES:Développement personnel,Santé globale
ATTACH;FMTTYPE=image/png:https://kio-o.ca/wp-content/uploads/2018/08/Capture-d’écran-2018-08-14-à-16.52.26.png
ORGANIZER;CN="Sylvie Vadnais":MAILTO:sylvievadnais@videotron.ca
GEO:46.132966;-74.1940374
X-APPLE-STRUCTURED-LOCATION;VALUE=URI;X-ADDRESS=Kio-o 1905 Chemin du rang 6 Sainte-Lucie Québec J0T 2J0 Canada;X-APPLE-RADIUS=500;X-TITLE=1905 Chemin du rang 6:geo:-74.1940374,46.132966
END:VEVENT
BEGIN:VEVENT
DTSTART;VALUE=DATE:20190712
DTEND;VALUE=DATE:20190715
DTSTAMP:20260424T020519
CREATED:20181102T181329Z
LAST-MODIFIED:20190630T204057Z
UID:10005825-1562889600-1563148799@kio-o.ca
SUMMARY:Qi Gong - Chandrakala
DESCRIPTION:Qi Gong et méditation\n \nNous apprendrons une des séries de la Grue – symbole de souplesse et d’apaisement; \naussi\, une série Ba Duan Jin – pratique en position assise.\n\nNous équilibrerons cette pratique en abordant différentes façons de méditer pour pouvoir trouver un accès à l’espace de détente et de silence en nous-mêmes. \n– pour se rassembler intérieurement \n– pour développer sa capacité d’attention \n– pour pouvoir être en action sans se stresser \n– pour une profonde détente du corps et de l‘esprit. \nPratique soutenue\, silence\, repos\, partage et enseignements. \n* Ouvert à toutes et tous – débutants ou ayant de l’expérience \n  \nHORAIRE \nArrivée : 15h et 18h30 \nSouper : 18h30 \n19h45 – 21h \nOuverture: \n– Présentation du groupe et du programme de la fin de semaine \n– Première pratique en mouvement et silence \nSamedi : 7h30 – 8h30 : Méditation active \n8h30 – 10h : Déjeuner \n10h – 13h : – Initiation à la série  des Cinq Éléments \n– Méditation \n13h – 15h30 : Repas et repos \n– Marche en nature facultative et selon la température \n15h30 – 18h30: Pratique de mouvements Qi Gong et méditation \n20h: Détente : Écoute de musique sacrée – Facultatif \nDimanche : Matin: Même horaire que samedi matin \n13h – 14h30 : Repas et repos \n14h30 – 16h : Dernière pratique et clôture \nLe coût inclut l’hébergement et la nourriture\, avant taxes. \nPour vous inscrire \nUn dépôt de 75 $ confirmera votre inscription. \n[caldera_form_modal id= »CF588f6476160d1″ type= »button » width= »700″]Cliquez ici pour vous inscrire[/caldera_form_modal]
URL:https://kio-o.ca/evenement/qi-gong-chandrakala/
LOCATION:Kio-o\, 1905 Chemin du rang 6\, Sainte-Lucie\, Québec\, J0T 2J0\, Canada
CATEGORIES:Méditation,Mouvement
ATTACH;FMTTYPE=image/jpeg:https://kio-o.ca/wp-content/uploads/2016/05/DSC_0086cc-e1596989490627.jpg
ORGANIZER;CN="Chandrakala - Qui suis-je ?":MAILTO:info@martinbilodeau.com
GEO:46.132966;-74.1940374
X-APPLE-STRUCTURED-LOCATION;VALUE=URI;X-ADDRESS=Kio-o 1905 Chemin du rang 6 Sainte-Lucie Québec J0T 2J0 Canada;X-APPLE-RADIUS=500;X-TITLE=1905 Chemin du rang 6:geo:-74.1940374,46.132966
END:VEVENT
BEGIN:VEVENT
DTSTART;VALUE=DATE:20190712
DTEND;VALUE=DATE:20190715
DTSTAMP:20260424T020519
CREATED:20190125T231731Z
LAST-MODIFIED:20200216T194023Z
UID:10005660-1562889600-1563148799@kio-o.ca
SUMMARY:Retraite de yoga avec Diane Durocher
DESCRIPTION:Détails à venir.
URL:https://kio-o.ca/evenement/retraite-de-yoga-avec-diane-durocher/2019-07-12/
LOCATION:Kio-o\, 1905 Chemin du rang 6\, Sainte-Lucie\, Québec\, J0T 2J0\, Canada
CATEGORIES:Yoga
ATTACH;FMTTYPE=image/jpeg:https://kio-o.ca/wp-content/uploads/2019/01/Diane-Durocher.jpg
GEO:46.132966;-74.1940374
X-APPLE-STRUCTURED-LOCATION;VALUE=URI;X-ADDRESS=Kio-o 1905 Chemin du rang 6 Sainte-Lucie Québec J0T 2J0 Canada;X-APPLE-RADIUS=500;X-TITLE=1905 Chemin du rang 6:geo:-74.1940374,46.132966
END:VEVENT
BEGIN:VEVENT
DTSTART;VALUE=DATE:20190717
DTEND;VALUE=DATE:20190720
DTSTAMP:20260424T020519
CREATED:20180503T191935Z
LAST-MODIFIED:20190222T211421Z
UID:10005603-1563321600-1563580799@kio-o.ca
SUMMARY:Retraite personnelle de méditations actives - Tushar
DESCRIPTION:Retraite personnelle de méditations actives\n \nQue vous connaissiez ou pas la méditation – vous avez besoin:  d’un temps à la campagne à bien manger – de vous retrouver – de vous reposer – ? Cette retraite est pour vous. \nLes méditations actives proposées sont des méditations créées par le maître spirituel Osho. \nVous serez invité à expérimenter différentes pratiques de méditation d’une heure chacune et serez en mesure d’apprécier leur effet sur vous.  Selon les commentaires des participants\, c’est un processus libérateur qui apporte un sentiment de paix\, une belle rencontre avec soi-même. \nHoraire \nJour d’arrivée \nEntre 16 h et 18 h 30  – Arrivée\n18 h 30                          – Souper\n20 h                               – Méditation active \nDeuxième journée\n7 h 15                             – Méditation active\n8 h 30                            – Déjeuner en silence\n12 h                                – Dîner en silence\n16 h 45                           – Méditation active\n18 h                                – Souper en silence \n19 h  30                          – Méditation active \nDernière journée\n7 h 15                              – Méditation active\n8 h 30                             – Déjeuner en silence \n11 h                                  – Méditation Vipassana\n12 h 30                            – Dîner \nLe forfait inclut : deux nuitées en occupation simple\, six méditations\, six repas végétariens. \nLes repas seront pris en silence. \n*** Un minimum de 6 inscriptions pour que cette retraite ait lieu. \nPour vous inscrire \nUn dépôt de 75 $ confirmera votre inscription. \n[caldera_form_modal id= »CF588f6476160d1″ type= »button » width= »700″]Cliquez ici pour vous inscrire[/caldera_form_modal]
URL:https://kio-o.ca/evenement/retraite-personnelle-de-meditations-actives-tushar-2018-10-14-2019-02-22-2-2019-07-17/
LOCATION:Kio-o\, 1905 Chemin du rang 6\, Sainte-Lucie\, Québec\, J0T 2J0\, Canada
CATEGORIES:Méditation
ATTACH;FMTTYPE=image/jpeg:https://kio-o.ca/wp-content/uploads/2018/02/bouddha.jpg
GEO:46.132966;-74.1940374
X-APPLE-STRUCTURED-LOCATION;VALUE=URI;X-ADDRESS=Kio-o 1905 Chemin du rang 6 Sainte-Lucie Québec J0T 2J0 Canada;X-APPLE-RADIUS=500;X-TITLE=1905 Chemin du rang 6:geo:-74.1940374,46.132966
END:VEVENT
BEGIN:VEVENT
DTSTART;VALUE=DATE:20190720
DTEND;VALUE=DATE:20190725
DTSTAMP:20260424T020519
CREATED:20180310T132914Z
LAST-MODIFIED:20190517T175656Z
UID:10005765-1563580800-1564012799@kio-o.ca
SUMMARY:Touch&Play Montréal 2019 Été
DESCRIPTION:Découvrez un nouveau monde de jeu et de plaisir\, inspiré du:\nContact Improvisation – Communication non-violente – Mouvement authentique – Tantra – BDSM –\nRituel – Conscience somatique… et plus ! \nIncarnez vos désirs\nExprimez vos limites\nDonnez-vous le droit de jouer! \nSoyez prêt à vous sentir plus audacieux\, plus sexy et radicalement vrai\, dans la nature au nord\nde Montréal. \nNous vous offrons la technologie de pointe en matière de corps\, de spiritualité\, de psychologie\net d’intelligence érotique. \nÀ travers des ateliers\, des rituels de l’improvisation et des espaces de jeu libre\, nous vous\noffrons les outils qui vous guideront vers une extase hors du commun. \nÉlargissons le champs de nos expériences\, ce que nous croyons permis\, et incarnons pleinement\nnos désirs\, ancrés dans nos propres passions inhérentes. \nSortons de notre zone de confort pour voir ce qui nous attend au-delà. \nNous vous invitons à rapporter ces outils à la maison\, à les partager avec vos partenaires\,\nafin de rendre votre vie aussi phénoménale que vous pouvez l’imaginer. \nAtelier entièrement bilingue\, français et anglais.
URL:https://kio-o.ca/evenement/touch-play-montreal-2018-2019-07-20/
LOCATION:Kio-o\, 1905 Chemin du rang 6\, Sainte-Lucie\, Québec\, J0T 2J0\, Canada
CATEGORIES:Développement personnel,Mouvement
ATTACH;FMTTYPE=image/jpeg:https://kio-o.ca/wp-content/uploads/2018/03/Postcards_TP_Mtl_2019_Ete-Recto_50.jpg
GEO:46.132966;-74.1940374
X-APPLE-STRUCTURED-LOCATION;VALUE=URI;X-ADDRESS=Kio-o 1905 Chemin du rang 6 Sainte-Lucie Québec J0T 2J0 Canada;X-APPLE-RADIUS=500;X-TITLE=1905 Chemin du rang 6:geo:-74.1940374,46.132966
END:VEVENT
BEGIN:VEVENT
DTSTART;VALUE=DATE:20190725
DTEND;VALUE=DATE:20190729
DTSTAMP:20260424T020519
CREATED:20181102T182000Z
LAST-MODIFIED:20181102T182000Z
UID:10005828-1564012800-1564358399@kio-o.ca
SUMMARY:Qi Gong - Luce Desgagné
DESCRIPTION:
URL:https://kio-o.ca/evenement/qi-gong-luce-desgagne/
LOCATION:Kio-o\, 1905 Chemin du rang 6\, Sainte-Lucie\, Québec\, J0T 2J0\, Canada
CATEGORIES:Méditation,Mouvement
ATTACH;FMTTYPE=image/jpeg:https://kio-o.ca/wp-content/uploads/2016/09/LuceDesgagne.jpg
ORGANIZER;CN="Luce Desgagn%C3%A9":MAILTO:luce.qigong@gmail.com
GEO:46.132966;-74.1940374
X-APPLE-STRUCTURED-LOCATION;VALUE=URI;X-ADDRESS=Kio-o 1905 Chemin du rang 6 Sainte-Lucie Québec J0T 2J0 Canada;X-APPLE-RADIUS=500;X-TITLE=1905 Chemin du rang 6:geo:-74.1940374,46.132966
END:VEVENT
BEGIN:VEVENT
DTSTART;VALUE=DATE:20190726
DTEND;VALUE=DATE:20190729
DTSTAMP:20260424T020519
CREATED:20181102T182145Z
LAST-MODIFIED:20181102T182145Z
UID:10005830-1564099200-1564358399@kio-o.ca
SUMMARY:Yoga Retreat - Ni Ying
DESCRIPTION:
URL:https://kio-o.ca/evenement/yoga-retreat-ni-ying/
LOCATION:Kio-o\, 1905 Chemin du rang 6\, Sainte-Lucie\, Québec\, J0T 2J0\, Canada
CATEGORIES:Yoga
ATTACH;FMTTYPE=image/png:https://kio-o.ca/wp-content/uploads/2017/04/Ni-Ying.png
ORGANIZER;CN="Ni Ying":MAILTO:ying.terrani@gmail.com
GEO:46.132966;-74.1940374
X-APPLE-STRUCTURED-LOCATION;VALUE=URI;X-ADDRESS=Kio-o 1905 Chemin du rang 6 Sainte-Lucie Québec J0T 2J0 Canada;X-APPLE-RADIUS=500;X-TITLE=1905 Chemin du rang 6:geo:-74.1940374,46.132966
END:VEVENT
END:VCALENDAR