BEGIN:VCALENDAR
VERSION:2.0
PRODID:-//Kio-o - ECPv6.15.12.2//NONSGML v1.0//EN
CALSCALE:GREGORIAN
METHOD:PUBLISH
X-WR-CALNAME:Kio-o
X-ORIGINAL-URL:https://kio-o.ca
X-WR-CALDESC:Évènements pour Kio-o
REFRESH-INTERVAL;VALUE=DURATION:PT1H
X-Robots-Tag:noindex
X-PUBLISHED-TTL:PT1H
BEGIN:VTIMEZONE
TZID:America/New_York
BEGIN:DAYLIGHT
TZOFFSETFROM:-0500
TZOFFSETTO:-0400
TZNAME:EDT
DTSTART:20180311T070000
END:DAYLIGHT
BEGIN:STANDARD
TZOFFSETFROM:-0400
TZOFFSETTO:-0500
TZNAME:EST
DTSTART:20181104T060000
END:STANDARD
BEGIN:DAYLIGHT
TZOFFSETFROM:-0500
TZOFFSETTO:-0400
TZNAME:EDT
DTSTART:20190310T070000
END:DAYLIGHT
BEGIN:STANDARD
TZOFFSETFROM:-0400
TZOFFSETTO:-0500
TZNAME:EST
DTSTART:20191103T060000
END:STANDARD
BEGIN:DAYLIGHT
TZOFFSETFROM:-0500
TZOFFSETTO:-0400
TZNAME:EDT
DTSTART:20200308T070000
END:DAYLIGHT
BEGIN:STANDARD
TZOFFSETFROM:-0400
TZOFFSETTO:-0500
TZNAME:EST
DTSTART:20201101T060000
END:STANDARD
END:VTIMEZONE
BEGIN:VEVENT
DTSTART;VALUE=DATE:20190830
DTEND;VALUE=DATE:20190902
DTSTAMP:20260423T230310
CREATED:20190523T195637Z
LAST-MODIFIED:20191110T194609Z
UID:10005869-1567123200-1567382399@kio-o.ca
SUMMARY:Rites pour femmes\, rites pour hommes
DESCRIPTION:avec Catherine Dacjzman et Stéphane Crête\nEmbrasser nos polarités\, embrasser l’unité\n\n\nCette retraite en nature se veut un lieu et un temps d’échange pour entrer dans de nouveaux paradigmes de relations hommes femmes.   \n Au-delà des stéréotypes et des polarités\, nous souhaitons offrir un espace rituel et créatif où la collaboration et l’union l’emportent sur la rivalité et la division. \nUn lieu sain pour célébrer le masculin et le féminin en soi. Un espace de vérité et de sécurité pour nous permettre de voir avec plus d’acuité ce qui demande à être transformé. Un terrain de pratique pour se solidariser et agir ensemble\, comme deux soleils sous une unique couronne.  \nUn temps de sororité\, un temps de fraternité\, un temps de collectivité.
URL:https://kio-o.ca/evenement/rites-pour-femmes-rites-pour-hommes/2019-08-30/
LOCATION:Kio-o\, 1905 Chemin du rang 6\, Sainte-Lucie\, Québec\, J0T 2J0\, Canada
CATEGORIES:Développement personnel,Expression créative
ATTACH;FMTTYPE=image/jpeg:https://kio-o.ca/wp-content/uploads/2019/05/Trefle_RitesHommesFemmes-uai-258x258.jpg
ORGANIZER;CN="Ho Rites de passage":MAILTO:info@horites.com
GEO:46.132966;-74.1940374
X-APPLE-STRUCTURED-LOCATION;VALUE=URI;X-ADDRESS=Kio-o 1905 Chemin du rang 6 Sainte-Lucie Québec J0T 2J0 Canada;X-APPLE-RADIUS=500;X-TITLE=1905 Chemin du rang 6:geo:-74.1940374,46.132966
END:VEVENT
BEGIN:VEVENT
DTSTART;VALUE=DATE:20190902
DTEND;VALUE=DATE:20190905
DTSTAMP:20260423T230310
CREATED:20190424T184916Z
LAST-MODIFIED:20190424T184916Z
UID:10005870-1567382400-1567641599@kio-o.ca
SUMMARY:Gathering of friends of the Path of Love
DESCRIPTION:Seules les personnes diplomées de l’atelier Path of love peuvent participer.
URL:https://kio-o.ca/evenement/gathering-of-friends-of-the-path-of-love/
LOCATION:Kio-o\, 1905 Chemin du rang 6\, Sainte-Lucie\, Québec\, J0T 2J0\, Canada
CATEGORIES:Développement personnel,Méditation
GEO:46.132966;-74.1940374
X-APPLE-STRUCTURED-LOCATION;VALUE=URI;X-ADDRESS=Kio-o 1905 Chemin du rang 6 Sainte-Lucie Québec J0T 2J0 Canada;X-APPLE-RADIUS=500;X-TITLE=1905 Chemin du rang 6:geo:-74.1940374,46.132966
END:VEVENT
BEGIN:VEVENT
DTSTART;VALUE=DATE:20190905
DTEND;VALUE=DATE:20190909
DTSTAMP:20260423T230310
CREATED:20160518T035654Z
LAST-MODIFIED:20210408T160950Z
UID:10005527-1567641600-1567983599@kio-o.ca
SUMMARY:Cours en miracles – Luce Bertrand
DESCRIPTION:Définition :\nUn miracle\, c’est la correction d’un système de pensées basé sur la peur pour l’adoption d’un système de pensées basé sur l’Amour. \nUn Cours en Miracles fait une distinction très nette entre : \nle réel et l’irréel\nla vérité et l’illusion\nla connaissance et la perception\nl’amour et la peur \nNous vivons majoritairement dans l’illusion agissant tous comme des êtres séparés les uns des autres. Or quand on est pris dans ce monde de la perception\, on est pris dans un rêve qui ressemble souvent plus à un cauchemar. \nNos 50\,000 à 60\,000 pensées par jour sont en majorité inspirées de l’ego :\nfaites de critiques\, jugements\, culpabilité\, inquiétudes\, contrôle\, etc. \nEt ce sont ces pensées qui font notre quotidien! Comment donc être heureux? \nUn Cours en Miracles enseigne le moyen pour échapper du rêve et revenir à la vérité de Ce Que Nous Sommes vraiment. \nCe monde du rêve nous amène surtout à vivre dans un sentiment de manque\, d’isolation et de privation\, ce qui nous amène à aimer autrui pour tout ce qu’il peut nous apporter\, et à ne donner que pour obtenir. \nLe Cours nous montre au contraire que notre Soi véritable n’a aucun besoin puisque nous avons été créés complets\, aimés et aimants. Mais dans ce monde\, on aime dans la peur et non dans l’Amour. \nUn Cours en Miracles apporte le message de la Véritable Aide\, la Réponse\, la Seule Issue\, le chemin pour l’Autre Voie. \nIl nous montre comment échapper au monde du rêve en nous enseignant comment renverser notre façon de penser actuelle et désapprendre nos erreurs. \nC’est le chemin du retour à l’Amour et la façon de mettre fin à la séparation et à la souffrance.\nC’est la voie du pardon et de la guérison finale. \nUn Cours en Miracles nous dit qu’il y a une limite à la fausse création. \nC’est ce moment que chacun atteint un jour ou l’autre de façons différentes. Ce moment porte l’essence d’une telle souffrance qu’on en plie les genoux de douleur et qu’on supplie une puissance supérieure de nous montrer l’Autre Voie.\nLa voici en ce Cours!
URL:https://kio-o.ca/evenement/cours-en-miracles-luce-bertrand-2018-05-24-2018-10-11-2020-03-05/2019-09-05/
LOCATION:Kio-o\, 1905 Chemin du rang 6\, Sainte-Lucie\, Québec\, J0T 2J0\, Canada
CATEGORIES:Développement personnel,Santé globale
ATTACH;FMTTYPE=image/jpeg:https://kio-o.ca/wp-content/uploads/2016/05/Source-Personnel-de-Lumière-Créateur-990x556.jpg
ORGANIZER;CN="Luce Bertrand":MAILTO:coursenmiracles@lucebertrand.com
GEO:46.132966;-74.1940374
X-APPLE-STRUCTURED-LOCATION;VALUE=URI;X-ADDRESS=Kio-o 1905 Chemin du rang 6 Sainte-Lucie Québec J0T 2J0 Canada;X-APPLE-RADIUS=500;X-TITLE=1905 Chemin du rang 6:geo:-74.1940374,46.132966
END:VEVENT
BEGIN:VEVENT
DTSTART;VALUE=DATE:20190920
DTEND;VALUE=DATE:20190923
DTSTAMP:20260423T230310
CREATED:20180905T140346Z
LAST-MODIFIED:20180905T140346Z
UID:10005797-1568937600-1569196799@kio-o.ca
SUMMARY:Dansez avec la sagesse des arbres - Dancing The Wisdom of the Trees  - Bobbi Bailin
DESCRIPTION:(English below) \nUn atelier bilingue de danse sacrée en cercle  \nVenez célébrer la gloire de l’automne en danse au son de la musique du monde afin de vous aligner au cycle des saisons\, tout en recherchant l’équilibre et la connexion. Grâce à des pas et des rythmes simples\, une belle musique et des gestes significatifs\, les danses  célèbrent ce qui est précieux et sain dans nos vies.  Dans la communauté du  cercle\, nous nous honorons tous et chacun et nous nous nourrissons mutuellement tout en ressentant la joie du mouvement. Nous combinerons des danses traditionnelles des temps anciens avec des danses nouvellement chorégraphiées provenant d’une variété de styles et de cultures.  Dans la beauté et la paix de la nature\, nous prendrons le temps de reconnaitre et d’incarner la façon dont les arbres transportent les énergies vitales\, donnent et reçoivent et nourrissent la vie sur Terre. Nous apportons ces énergies dans notre conscience et dans notre mouvement lorsque nous sommes profondément en accord avec la communauté que nous créons. \nDe l’immobilité au mouvement\, nous danserons et relierons notre expérience intérieure  à l’expression extérieure\, en prenant le temps de réfléchir et de partager avec des mots ou des images en écriture et en art. \nToutes les danses sont faciles à apprendre et enseignées avec patience en français et en anglais. Aucune expérience de danse n’est requise. Le programme comprend 5 séances de danse commençant par un petit rassemblement avant le souper vendredi soir et se terminant au dîner le dimanche. \n  \nPour plus d’information et pour vous inscrire : \nDiane Schreiner – diane.schreiner@bell.net – 819-455-9188 (cell) \nOr \nBobbi Bailin –   Bobbibysea@gmail.com  –  508 540 4043 \n \nDancing The Wisdom of the Trees   \nA Bilingual Fall Equinox Workshop in Sacred Circle Dance  \nLed by Bobbi Bailin \nCelebrate Autumn’s glory with World Music and Dance to align ourselves with the seasonal changes\, seeking balance and connection. With simple steps and rhythms\, beautiful music and meaningful gestures\, we celebrate what is precious and wholesome in our lives. In a circle we honour and nurture one another while we experience the joy of movement. We will combine traditional dances from ancient times with newly choreographed ones representing a variety of styles and cultures. In the beauty and peace of Nature\, we will take time to recognize and embody the way trees transport life energies\, give and receive and nourish all life on Earth. We bring these energies into our consciousness and into our movement as we deeply attune to the community we create. \nFrom stillness into motion\, we will dance and connect our inner experiences with outer expression\, taking time to reflect and share with words or images in writing and art. \nAll dances are easy to learn and patiently taught both in French and English. No experience or special ability is required. The program includes 5 sessions of dance beginning with a short gathering before dinner Friday night and ending with lunch on Sunday. \nDiane Schreiner – diane.schreiner@bell.net – 819-455-9188 (cell) \nOr \nBobbi Bailin –   Bobbibysea@gmail.com  –  508 540 4043
URL:https://kio-o.ca/evenement/dansez-avec-la-sagesse-des-arbres-dancing-the-wisdom-of-the-trees-bobbi-bailin/
LOCATION:Kio-o\, 1905 Chemin du rang 6\, Sainte-Lucie\, Québec\, J0T 2J0\, Canada
CATEGORIES:Expression créative,Mouvement
ATTACH;FMTTYPE=image/jpeg:https://kio-o.ca/wp-content/uploads/2018/09/Bobbi.jpeg
GEO:46.132966;-74.1940374
X-APPLE-STRUCTURED-LOCATION;VALUE=URI;X-ADDRESS=Kio-o 1905 Chemin du rang 6 Sainte-Lucie Québec J0T 2J0 Canada;X-APPLE-RADIUS=500;X-TITLE=1905 Chemin du rang 6:geo:-74.1940374,46.132966
END:VEVENT
BEGIN:VEVENT
DTSTART;VALUE=DATE:20190920
DTEND;VALUE=DATE:20190923
DTSTAMP:20260423T230310
CREATED:20190219T165911Z
LAST-MODIFIED:20190830T150806Z
UID:10005861-1568937600-1569196799@kio-o.ca
SUMMARY:Chanter\, une rencontre avec soi - Marie-Claire Séguin - COMPLET
DESCRIPTION:Chanter\, une rencontre avec soi \nSeulement 8 participants pourront assister à cet atelier.  Faites vite !! \nCoûts : Atelier : 399\,50 $ plus taxes \nHébergement et nourriture en sus \n 
URL:https://kio-o.ca/evenement/chanter-une-rencontre-avec-soi-marie-claire-seguin-2/
LOCATION:Kio-o\, 1905 Chemin du rang 6\, Sainte-Lucie\, Québec\, J0T 2J0\, Canada
CATEGORIES:Expression créative
ATTACH;FMTTYPE=image/png:https://kio-o.ca/wp-content/uploads/2019/02/Capture-d’écran-le-2019-02-19-à-08.57.21.png
ORGANIZER;CN="Marie-Claire S%C3%A9guin":MAILTO:info@kio-o.ca
GEO:46.132966;-74.1940374
X-APPLE-STRUCTURED-LOCATION;VALUE=URI;X-ADDRESS=Kio-o 1905 Chemin du rang 6 Sainte-Lucie Québec J0T 2J0 Canada;X-APPLE-RADIUS=500;X-TITLE=1905 Chemin du rang 6:geo:-74.1940374,46.132966
END:VEVENT
BEGIN:VEVENT
DTSTART;VALUE=DATE:20190922
DTEND;VALUE=DATE:20190926
DTSTAMP:20260423T230310
CREATED:20190713T175109Z
LAST-MODIFIED:20190713T175109Z
UID:10005876-1569110400-1569455999@kio-o.ca
SUMMARY:À la découverte de nos DRAGONS - Thierry Leoni
DESCRIPTION:Stages de 3 jours  \nà la decouverte de nos DRAGONS \npar THIERRY Leoni \nassisté d’ISABELLE Richard \n  \nVenez découvrir vos amis les dragons\, \nLors de ce stage de 3 jours organisé par l’association Mïhefû Poy \nen lien avec l’école de Yann Lipnick. \n3 journées qui resteront à jamais gravées dans vos mémoires. \n  \nIl vous est demande un  pré-requis de 2 Jours ICR (Initiation au Clair Ressenti) \n************************************************************************** \nInformations & Inscription : contacter   Christine Corbeil au 1 438 887 7888 \nOu \ncoachchristine@hotmail.com
URL:https://kio-o.ca/evenement/a-la-decouverte-de-nos-dragons-thierry-leoni/
LOCATION:Kio-o\, 1905 Chemin du rang 6\, Sainte-Lucie\, Québec\, J0T 2J0\, Canada
CATEGORIES:Développement personnel
ATTACH;FMTTYPE=image/png:https://kio-o.ca/wp-content/uploads/2019/07/Capture-d’écran-le-2019-07-13-à-13.49.12.png
ORGANIZER;CN="Thierry Leoni":MAILTO:coachchristine@hotmail.com
GEO:46.132966;-74.1940374
X-APPLE-STRUCTURED-LOCATION;VALUE=URI;X-ADDRESS=Kio-o 1905 Chemin du rang 6 Sainte-Lucie Québec J0T 2J0 Canada;X-APPLE-RADIUS=500;X-TITLE=1905 Chemin du rang 6:geo:-74.1940374,46.132966
END:VEVENT
BEGIN:VEVENT
DTSTART;VALUE=DATE:20190926
DTEND;VALUE=DATE:20190930
DTSTAMP:20260423T230310
CREATED:20190201T215328Z
LAST-MODIFIED:20191110T200053Z
UID:10005856-1569456000-1569801599@kio-o.ca
SUMMARY:Cercle des amis de Bruno Groening
DESCRIPTION:Détails à venir.
URL:https://kio-o.ca/evenement/cercle-des-amis-de-bruno-groening/2019-09-26/
LOCATION:Kio-o\, 1905 Chemin du rang 6\, Sainte-Lucie\, Québec\, J0T 2J0\, Canada
CATEGORIES:Méditation,Santé globale
ATTACH;FMTTYPE=image/jpeg:https://kio-o.ca/wp-content/uploads/2016/08/Kio-o-Automne-DP3.jpg
ORGANIZER;CN="Les amis de Bruno Gr%C3%B6ning":MAILTO:leblancfrance@hotmail.com
GEO:46.132966;-74.1940374
X-APPLE-STRUCTURED-LOCATION;VALUE=URI;X-ADDRESS=Kio-o 1905 Chemin du rang 6 Sainte-Lucie Québec J0T 2J0 Canada;X-APPLE-RADIUS=500;X-TITLE=1905 Chemin du rang 6:geo:-74.1940374,46.132966
END:VEVENT
BEGIN:VEVENT
DTSTART;VALUE=DATE:20190929
DTEND;VALUE=DATE:20191002
DTSTAMP:20260423T230310
CREATED:20190923T191957Z
LAST-MODIFIED:20190923T192920Z
UID:10005879-1569715200-1569974399@kio-o.ca
SUMMARY:Personal active meditation retreat - Tushar
DESCRIPTION:Personal active meditation retreat \nDo you feel like you need some time in the country eating good food\, reconnecting with yourself and resting? If so\, this retreat is for you\, whatever your level of familiarity with meditation. \nThe active meditations offered in this retreat are taken from meditations created by the spiritual leader Osho. \nThis retreat offers the opportunity to experience a number of different hour-long meditation practices\, allowing you to see and feel for yourself the impact they have on you. As previous participants attest\, experiencing these meditations is a liberating process\, generating a deep feeling of peace\, and are a meaningful way to meet with yourself. \nSchedule \nDay of arrival \nBetween 4 p.m. and 6:30 p.m. —Arrival\n6:30 p.m.                          —Supper\n8 p.m.                               —Active meditation \nSecond day\n7:15 a.m.                        —Active meditation\n8:30 a.m.                        —Breakfast in silence\n12 p.m.                           —Lunch in silence\n4:45 p.m.                        —Active meditation\n6 p.m.                             —Supper in silence \n7:30 p.m.                        —Active meditation \nFinal day\n7:15 a.m.                        —Active meditation\n8:30 a.m.                        —Breakfast in silence \n11 a.m.                           —Vipassana meditation\n12:30 p.m.                      —Lunch \nThe price includes two nights’ stay (single occupancy)\, six meditation sittings and six vegetarian meals. \nMeals will be eaten in silence. \n*** A minimum of six participants is required for this retreat to go ahead. \nA $75 deposit is required to confirm your registration. \n[caldera_form_modal id= »CF588f6476160d1″ type= »button » width= »700″]Cliquez ici pour vous inscrire[/caldera_form_modal]
URL:https://kio-o.ca/evenement/personal-active-meditation-retreat-tushar/2019-09-29/
LOCATION:Kio-o\, 1905 Chemin du rang 6\, Sainte-Lucie\, Québec\, J0T 2J0\, Canada
GEO:46.132966;-74.1940374
X-APPLE-STRUCTURED-LOCATION;VALUE=URI;X-ADDRESS=Kio-o 1905 Chemin du rang 6 Sainte-Lucie Québec J0T 2J0 Canada;X-APPLE-RADIUS=500;X-TITLE=1905 Chemin du rang 6:geo:-74.1940374,46.132966
END:VEVENT
BEGIN:VEVENT
DTSTART;VALUE=DATE:20190929
DTEND;VALUE=DATE:20191004
DTSTAMP:20260423T230310
CREATED:20190201T222219Z
LAST-MODIFIED:20190201T222219Z
UID:10005858-1569715200-1570147199@kio-o.ca
SUMMARY:Formation technique de massage polarité 1 - Sylvie Vadnais
DESCRIPTION:Séjour dans le cadre de la formation débutée en 2019.
URL:https://kio-o.ca/evenement/formation-technique-de-massage-polarite-1-sylvie-vadnais/
LOCATION:Kio-o\, 1905 Chemin du rang 6\, Sainte-Lucie\, Québec\, J0T 2J0\, Canada
CATEGORIES:Santé globale
ATTACH;FMTTYPE=image/jpeg:https://kio-o.ca/wp-content/uploads/2018/08/Sylvie-Vadnais-e1534343461779.jpg
ORGANIZER;CN="Sylvie Vadnais":MAILTO:sylvievadnais@videotron.ca
GEO:46.132966;-74.1940374
X-APPLE-STRUCTURED-LOCATION;VALUE=URI;X-ADDRESS=Kio-o 1905 Chemin du rang 6 Sainte-Lucie Québec J0T 2J0 Canada;X-APPLE-RADIUS=500;X-TITLE=1905 Chemin du rang 6:geo:-74.1940374,46.132966
END:VEVENT
END:VCALENDAR