BEGIN:VCALENDAR
VERSION:2.0
PRODID:-//Kio-o - ECPv6.15.12.2//NONSGML v1.0//EN
CALSCALE:GREGORIAN
METHOD:PUBLISH
X-WR-CALNAME:Kio-o
X-ORIGINAL-URL:https://kio-o.ca
X-WR-CALDESC:Évènements pour Kio-o
REFRESH-INTERVAL;VALUE=DURATION:PT1H
X-Robots-Tag:noindex
X-PUBLISHED-TTL:PT1H
BEGIN:VTIMEZONE
TZID:America/New_York
BEGIN:DAYLIGHT
TZOFFSETFROM:-0500
TZOFFSETTO:-0400
TZNAME:EDT
DTSTART:20190310T070000
END:DAYLIGHT
BEGIN:STANDARD
TZOFFSETFROM:-0400
TZOFFSETTO:-0500
TZNAME:EST
DTSTART:20191103T060000
END:STANDARD
BEGIN:DAYLIGHT
TZOFFSETFROM:-0500
TZOFFSETTO:-0400
TZNAME:EDT
DTSTART:20200308T070000
END:DAYLIGHT
BEGIN:STANDARD
TZOFFSETFROM:-0400
TZOFFSETTO:-0500
TZNAME:EST
DTSTART:20201101T060000
END:STANDARD
BEGIN:DAYLIGHT
TZOFFSETFROM:-0500
TZOFFSETTO:-0400
TZNAME:EDT
DTSTART:20210314T070000
END:DAYLIGHT
BEGIN:STANDARD
TZOFFSETFROM:-0400
TZOFFSETTO:-0500
TZNAME:EST
DTSTART:20211107T060000
END:STANDARD
END:VTIMEZONE
BEGIN:VEVENT
DTSTART;VALUE=DATE:20200730
DTEND;VALUE=DATE:20200803
DTSTAMP:20260423T013710
CREATED:20200216T200703Z
LAST-MODIFIED:20200703T204118Z
UID:10005705-1596067200-1596412799@kio-o.ca
SUMMARY:Univers-Cité Mikaël - ANNULÉ
DESCRIPTION:
URL:https://kio-o.ca/evenement/unives-cite-mikael/
LOCATION:Kio-o\, 1905 Chemin du rang 6\, Sainte-Lucie\, Québec\, J0T 2J0\, Canada
CATEGORIES:Développement personnel,Méditation
ATTACH;FMTTYPE=image/png:https://kio-o.ca/wp-content/uploads/2016/09/Capture-d’écran-2016-09-13-à-16.09.09.png
ORGANIZER;CN="UCM":MAILTO:info@ucm.ca 
GEO:46.132966;-74.1940374
X-APPLE-STRUCTURED-LOCATION;VALUE=URI;X-ADDRESS=Kio-o 1905 Chemin du rang 6 Sainte-Lucie Québec J0T 2J0 Canada;X-APPLE-RADIUS=500;X-TITLE=1905 Chemin du rang 6:geo:-74.1940374,46.132966
END:VEVENT
BEGIN:VEVENT
DTSTART;VALUE=DATE:20200802
DTEND;VALUE=DATE:20200808
DTSTAMP:20260423T013710
CREATED:20200306T215534Z
LAST-MODIFIED:20200703T204202Z
UID:10005918-1596326400-1596844799@kio-o.ca
SUMMARY:Pascale Dufresne - ANNULÉ
DESCRIPTION:Détails à venir.
URL:https://kio-o.ca/evenement/pascale-dufresne/
LOCATION:Kio-o\, 1905 Chemin du rang 6\, Sainte-Lucie\, Québec\, J0T 2J0\, Canada
CATEGORIES:Développement personnel
ATTACH;FMTTYPE=image/jpeg:https://kio-o.ca/wp-content/uploads/2020/03/Pascale-Dufresne-e1583534140942.jpg
GEO:46.132966;-74.1940374
X-APPLE-STRUCTURED-LOCATION;VALUE=URI;X-ADDRESS=Kio-o 1905 Chemin du rang 6 Sainte-Lucie Québec J0T 2J0 Canada;X-APPLE-RADIUS=500;X-TITLE=1905 Chemin du rang 6:geo:-74.1940374,46.132966
END:VEVENT
BEGIN:VEVENT
DTSTART;VALUE=DATE:20200806
DTEND;VALUE=DATE:20200812
DTSTAMP:20260423T013710
CREATED:20200207T233539Z
LAST-MODIFIED:20200703T203809Z
UID:10005909-1596672000-1597190399@kio-o.ca
SUMMARY:La Roue évolutive de l'âme - formation avec Jade Chabot - ANNULÉ
DESCRIPTION:
URL:https://kio-o.ca/evenement/la-roue-evolutive-de-lame-formation-avec-jade-chabot-2020-08-06/2020-08-06/
LOCATION:Kio-o\, 1905 Chemin du rang 6\, Sainte-Lucie\, Québec\, J0T 2J0\, Canada
CATEGORIES:Développement personnel
ATTACH;FMTTYPE=image/jpeg:https://kio-o.ca/wp-content/uploads/2020/02/Jade.jpg
ORGANIZER;CN="Jade Chabot":MAILTO:chakanaquebec@gmail.com
GEO:46.132966;-74.1940374
X-APPLE-STRUCTURED-LOCATION;VALUE=URI;X-ADDRESS=Kio-o 1905 Chemin du rang 6 Sainte-Lucie Québec J0T 2J0 Canada;X-APPLE-RADIUS=500;X-TITLE=1905 Chemin du rang 6:geo:-74.1940374,46.132966
END:VEVENT
BEGIN:VEVENT
DTSTART;VALUE=DATE:20200816
DTEND;VALUE=DATE:20200820
DTSTAMP:20260423T013710
CREATED:20200216T201221Z
LAST-MODIFIED:20200703T204440Z
UID:10005710-1597536000-1597881599@kio-o.ca
SUMMARY:Formation en yoga avec Jocelyne Aubry et Brigitte Girard
DESCRIPTION:Formation professorale de 300 heures \nCertifiée par l’Association francophone de yoga \navec Jocelyne Aubry et Brigitte Girard \nDe septembre 2019 à mars 2021 \nUne occasion unique de découvrir les outils de base nécessaires pour devenir un bon professeur de yoga\, \npour améliorer votre pratique personnelle ou pour entreprendre une démarche de transformation fructueuse \navec d’autres personnes qui partagent votre passion pour le yoga. \nComplet !
URL:https://kio-o.ca/evenement/formation-en-yoga-avec-shivani/
LOCATION:Kio-o\, 1905 Chemin du rang 6\, Sainte-Lucie\, Québec\, J0T 2J0\, Canada
CATEGORIES:Yoga
ORGANIZER;CN="Jocelyne Shivani Aubry":MAILTO:j.aubry@me.com
GEO:46.132966;-74.1940374
X-APPLE-STRUCTURED-LOCATION;VALUE=URI;X-ADDRESS=Kio-o 1905 Chemin du rang 6 Sainte-Lucie Québec J0T 2J0 Canada;X-APPLE-RADIUS=500;X-TITLE=1905 Chemin du rang 6:geo:-74.1940374,46.132966
END:VEVENT
BEGIN:VEVENT
DTSTART;VALUE=DATE:20200820
DTEND;VALUE=DATE:20200824
DTSTAMP:20260423T013710
CREATED:20200216T200954Z
LAST-MODIFIED:20200706T193202Z
UID:10005708-1597881600-1598227199@kio-o.ca
SUMMARY:Yoga Iyengar
DESCRIPTION:
URL:https://kio-o.ca/evenement/yoga-iyengar-2/
LOCATION:Kio-o\, 1905 Chemin du rang 6\, Sainte-Lucie\, Québec\, J0T 2J0\, Canada
CATEGORIES:Yoga
ATTACH;FMTTYPE=image/jpeg:https://kio-o.ca/wp-content/uploads/2020/02/0.jpg
ORGANIZER;CN="Iyengar Yoga Montr%C3%A9al":MAILTO:info@iyengaryogamontreal.com
GEO:46.132966;-74.1940374
X-APPLE-STRUCTURED-LOCATION;VALUE=URI;X-ADDRESS=Kio-o 1905 Chemin du rang 6 Sainte-Lucie Québec J0T 2J0 Canada;X-APPLE-RADIUS=500;X-TITLE=1905 Chemin du rang 6:geo:-74.1940374,46.132966
END:VEVENT
BEGIN:VEVENT
DTSTART;VALUE=DATE:20200828
DTEND;VALUE=DATE:20200831
DTSTAMP:20260423T013710
CREATED:20190308T215847Z
LAST-MODIFIED:20200811T140110Z
UID:10005865-1598572800-1598831999@kio-o.ca
SUMMARY:Tantra EN couple - Martin Bilodeau - COMPLET
DESCRIPTION:Retraite de découverte\nCette fin de semaine pour couples\, est une invitation à laisser l’amour s’exprimer à travers soi pour se manifester librement dans la rencontre avec l’autre. L’amour est votre essence ultime et une force infinie qui libère le meilleur de soi. Cette énergie s’exprime à travers notre regard\, nos paroles\, nos gestes pour diffuser tendresse et bienveillance autour de nous. L’esprit de cette fin de semaine est la joie\, la légèreté\, la connexion et la douceur. \nCette retraite est un chemin pour libérer votre force d’aimer et pour choisir de vous abandonner aux vérités du cœur. Venez calmer le mental et l’ego pour faire vibrer VOTRE ÊTRE dans un océan d’amour qui vous permettra de retrouver le sens sacré à votre vie et de dévoiler la dimension spirituelle dans votre relation. Cette retraite de ressourcement vous présente quelques-uns des plus précieux enseignements sur le tantrisme\, et ce\, sans nudité. Du point de vue pratique\, le tantra offre une vaste somme de connaissances et de moyens pratiques permettant aux hommes et aux femmes de reconnecter avec leur essence ultime et primordiale\, amour. Le tantra a comme but principal de permettre des transformations intérieures et libérer les êtres de la souffrance. \n\n\n\n\nCes transformations se vivront à travers les pratiques suivantes :\n\nMéditation sur le regard\nMéditation de l’étreinte\nRite d’éveil des sens\nPratique de contemplation dans la nature\nCréation d’un œuvre éphémère (mandala en nature)\nRite de pardon pour se libérer du passé\nMéditation sur le sens de l’amour dans sa vie\nRituel pour reconnaître et voir la beauté en l’autre\nExpérience d’harmonisation de la kundalini\nRespiration pranique et extase par le souffle\net plus encore
URL:https://kio-o.ca/evenement/retraite-terre-sacree/
LOCATION:Kio-o\, 1905 Chemin du rang 6\, Sainte-Lucie\, Québec\, J0T 2J0\, Canada
CATEGORIES:Méditation
ATTACH;FMTTYPE=image/jpeg:https://kio-o.ca/wp-content/uploads/2019/03/woman-1030920_1280-1.jpg
ORGANIZER;CN="Martin Bilodeau Auteur%2C auteur%2C conf%C3%A9rencier et enseignant":MAILTO:info@martinbilodeau.com
GEO:46.132966;-74.1940374
X-APPLE-STRUCTURED-LOCATION;VALUE=URI;X-ADDRESS=Kio-o 1905 Chemin du rang 6 Sainte-Lucie Québec J0T 2J0 Canada;X-APPLE-RADIUS=500;X-TITLE=1905 Chemin du rang 6:geo:-74.1940374,46.132966
END:VEVENT
BEGIN:VEVENT
DTSTART;VALUE=DATE:20200828
DTEND;VALUE=DATE:20200831
DTSTAMP:20260423T013711
CREATED:20200207T224740Z
LAST-MODIFIED:20200720T194258Z
UID:10005908-1598572800-1598831999@kio-o.ca
SUMMARY:Les soins d'Auré
DESCRIPTION:avec Aurélie Blanwalhin-Dupont \n  \n 
URL:https://kio-o.ca/evenement/les-soins-daure/2020-08-28/
LOCATION:Kio-o\, 1905 Chemin du rang 6\, Sainte-Lucie\, Québec\, J0T 2J0\, Canada
CATEGORIES:Développement personnel,Santé globale
ATTACH;FMTTYPE=image/jpeg:https://kio-o.ca/wp-content/uploads/2020/02/IMG_20191129_001827.jpg
ORGANIZER;CN="Aur%C3%A9lie Blanwalhin-Dupont":MAILTO:info@lessonsdaure.ca
GEO:46.132966;-74.1940374
X-APPLE-STRUCTURED-LOCATION;VALUE=URI;X-ADDRESS=Kio-o 1905 Chemin du rang 6 Sainte-Lucie Québec J0T 2J0 Canada;X-APPLE-RADIUS=500;X-TITLE=1905 Chemin du rang 6:geo:-74.1940374,46.132966
END:VEVENT
END:VCALENDAR