BEGIN:VCALENDAR
VERSION:2.0
PRODID:-//Kio-o - ECPv6.15.12.2//NONSGML v1.0//EN
CALSCALE:GREGORIAN
METHOD:PUBLISH
X-ORIGINAL-URL:https://kio-o.ca
X-WR-CALDESC:Évènements pour Kio-o
REFRESH-INTERVAL;VALUE=DURATION:PT1H
X-Robots-Tag:noindex
X-PUBLISHED-TTL:PT1H
BEGIN:VTIMEZONE
TZID:America/New_York
BEGIN:DAYLIGHT
TZOFFSETFROM:-0500
TZOFFSETTO:-0400
TZNAME:EDT
DTSTART:20230312T070000
END:DAYLIGHT
BEGIN:STANDARD
TZOFFSETFROM:-0400
TZOFFSETTO:-0500
TZNAME:EST
DTSTART:20231105T060000
END:STANDARD
BEGIN:DAYLIGHT
TZOFFSETFROM:-0500
TZOFFSETTO:-0400
TZNAME:EDT
DTSTART:20240310T070000
END:DAYLIGHT
BEGIN:STANDARD
TZOFFSETFROM:-0400
TZOFFSETTO:-0500
TZNAME:EST
DTSTART:20241103T060000
END:STANDARD
BEGIN:DAYLIGHT
TZOFFSETFROM:-0500
TZOFFSETTO:-0400
TZNAME:EDT
DTSTART:20250309T070000
END:DAYLIGHT
BEGIN:STANDARD
TZOFFSETFROM:-0400
TZOFFSETTO:-0500
TZNAME:EST
DTSTART:20251102T060000
END:STANDARD
END:VTIMEZONE
BEGIN:VEVENT
DTSTART;VALUE=DATE:20240404
DTEND;VALUE=DATE:20240408
DTSTAMP:20260420T200448
CREATED:20240311T202515Z
LAST-MODIFIED:20240311T202515Z
UID:10006173-1712188800-1712534399@kio-o.ca
SUMMARY:Cours en miracles – Luce Bertrand
DESCRIPTION:Définition :\nUn miracle\, c’est la correction d’un système de pensées basé sur la peur pour l’adoption d’un système de pensées basé sur l’Amour. \nUn Cours en Miracles fait une distinction très nette entre : \nle réel et l’irréel\nla vérité et l’illusion\nla connaissance et la perception\nl’amour et la peur \nNous vivons majoritairement dans l’illusion agissant tous comme des êtres séparés les uns des autres. Or quand on est pris dans ce monde de la perception\, on est pris dans un rêve qui ressemble souvent plus à un cauchemar. \nNos 50\,000 à 60\,000 pensées par jour sont en majorité inspirées de l’ego :\nfaites de critiques\, jugements\, culpabilité\, inquiétudes\, contrôle\, etc. \nEt ce sont ces pensées qui font notre quotidien! Comment donc être heureux? \nUn Cours en Miracles enseigne le moyen pour échapper du rêve et revenir à la vérité de Ce Que Nous Sommes vraiment. \nCe monde du rêve nous amène surtout à vivre dans un sentiment de manque\, d’isolation et de privation\, ce qui nous amène à aimer autrui pour tout ce qu’il peut nous apporter\, et à ne donner que pour obtenir. \nLe Cours nous montre au contraire que notre Soi véritable n’a aucun besoin puisque nous avons été créés complets\, aimés et aimants. Mais dans ce monde\, on aime dans la peur et non dans l’Amour. \nUn Cours en Miracles apporte le message de la Véritable Aide\, la Réponse\, la Seule Issue\, le chemin pour l’Autre Voie. \nIl nous montre comment échapper au monde du rêve en nous enseignant comment renverser notre façon de penser actuelle et désapprendre nos erreurs. \nC’est le chemin du retour à l’Amour et la façon de mettre fin à la séparation et à la souffrance.\nC’est la voie du pardon et de la guérison finale. \nUn Cours en Miracles nous dit qu’il y a une limite à la fausse création. \nC’est ce moment que chacun atteint un jour ou l’autre de façons différentes. Ce moment porte l’essence d’une telle souffrance qu’on en plie les genoux de douleur et qu’on supplie une puissance supérieure de nous montrer l’Autre Voie.\nLa voici en ce Cours!
URL:https://kio-o.ca/evenement/cours-en-miracles-luce-bertrand-9/
LOCATION:Kio-o\, 1905 Chemin du rang 6\, Sainte-Lucie\, Québec\, J0T 2J0\, Canada
CATEGORIES:Développement personnel,Santé globale
ATTACH;FMTTYPE=image/jpeg:https://kio-o.ca/wp-content/uploads/2016/05/Source-Personnel-de-Lumière-Créateur-990x556.jpg
ORGANIZER;CN="Luce Bertrand":MAILTO:coursenmiracles@lucebertrand.com
GEO:46.132966;-74.1940374
X-APPLE-STRUCTURED-LOCATION;VALUE=URI;X-ADDRESS=Kio-o 1905 Chemin du rang 6 Sainte-Lucie Québec J0T 2J0 Canada;X-APPLE-RADIUS=500;X-TITLE=1905 Chemin du rang 6:geo:-74.1940374,46.132966
END:VEVENT
BEGIN:VEVENT
DTSTART;VALUE=DATE:20240405
DTEND;VALUE=DATE:20240408
DTSTAMP:20260420T200448
CREATED:20240211T193524Z
LAST-MODIFIED:20240212T185306Z
UID:10006151-1712275200-1712534399@kio-o.ca
SUMMARY:Retraite Kundalini Shakti avec Teresa Gongora et Valérie Filion
DESCRIPTION:Kundalini Shakti\n\nNous avons très hâte de vous accueillir ce printemps. Un espace\, un moment que l’on prend pour soi\, pour se faire du bien\, une célébration intérieure à travers l’éveil de la Kundalini Shakti (mot sanskrit qui veut dire littéralement le ~Pouvoir du Serpent~\, l’éveil énergétique). Dans cette retraite de yoga\, on fait grandir notre soleil intérieur\, on éveil la force du feu\, le Feu qui est la force active et consciente. Cette conscience solaire éveille notre véritable nature et nous offre la possibilité d’éveiller une puissance particulière à l’intérieur de nous.\n\nÀ travers des pratiques de yoga et méditation enrichissantes où l’accent est mis sur la force d’action\, nous aurons l’opportunité d’éveiller notre pouvoir de transformation\, notre capacité de voir en toute chose sa raison d’être\, sa source\, son évolution et son pouvoir. Des sadhanas (pratiques de yoga) énergisantes seront très présentes pour éveiller la vitalité\, le courage et la force intérieure. Un complément parfait pour le printemps. C’est à ce moment que nous commençons à plonger dans les joies de l’été\, on se prépare pour les changements de saisons qui nous amènent vers l’expansion de la lumière.\n\nNotre sampkalpa (intention): « Que notre pouvoir de « digérer » notre vie\, transforme les obstacles sur notre chemin et fasse circuler notre lumière ».\n\nTarifs À partir de 593 $ + taxes\n\nVolet yoga : Préinscription jusqu’au 14 février: 245 $ + taxes ( 281\,69 $ ). Tarif régulier : 285 $ +taxes ( 327\,68 $ ) à partir du 15 février.\n\nPayable à Teresa\, par virement Interac : gongoratere@gmail.com.\nQuestion : Retraite\nRéponse : Yoga\n\nVolet hébergement : -Chambre en occupation partagée : deux ou trois lits simples par chambre : 318 $ plus taxes -Chambre en occupation simple : 418$  plus taxes. Les tarifs d’hébergement incluent les deux nuitées et six repas végétariens.\nPayable directement chez Kio-o à votre arrivée.\n\nMerci beaucoup de vivre le yoga avec nous\, Valérie et moi\, avons déjà très hâte de vous voir.\nOm Suryaye Namaha\n\n\n\nInformation :\nMon numéro 450 822-1645\nMon adresse courriel: gongoratere@gmail.com
URL:https://kio-o.ca/evenement/retraite-kundalini-shakti-avec-teresa-gongora-et-valerie-filion/
LOCATION:Kio-o\, 1905 Chemin du rang 6\, Sainte-Lucie\, Québec\, J0T 2J0\, Canada
CATEGORIES:Méditation,Yoga
ATTACH;FMTTYPE=image/jpeg:https://kio-o.ca/wp-content/uploads/2024/02/Teresa.jpg
ORGANIZER;CN="Teresa Gongora":MAILTO:gongoratere@gmail.com
GEO:46.132966;-74.1940374
X-APPLE-STRUCTURED-LOCATION;VALUE=URI;X-ADDRESS=Kio-o 1905 Chemin du rang 6 Sainte-Lucie Québec J0T 2J0 Canada;X-APPLE-RADIUS=500;X-TITLE=1905 Chemin du rang 6:geo:-74.1940374,46.132966
END:VEVENT
BEGIN:VEVENT
DTSTART;VALUE=DATE:20240412
DTEND;VALUE=DATE:20240415
DTSTAMP:20260420T200448
CREATED:20240305T173318Z
LAST-MODIFIED:20240305T173318Z
UID:10006158-1712880000-1713139199@kio-o.ca
SUMMARY:YOG 2 – SWAROPA : YOGA NIDRA et AUTO-GUÉRISON DES CHAKRAS avec Manjunath Kamath
DESCRIPTION:YOG 2 – SWAROPA : YOGA NIDRA et AUTO-GUÉRISON DES CHAKRAS \nVous souhaitez renouer avec votre corps et votre esprit ? La méditation Yog est l’introduction parfaite aux pratiques traditionnelles indiennes adaptées aux besoins des\ngens du monde occidental. \nL’atelier Yog 2- Swaropa porte sur le thème de l’auto-guérison. Développer une relation harmonieuse entre le corps et l’esprit. Découvrir les vertus de la détente profonde et du yoga nidra. \nEnseigné en anglais par Manjunath Kamath\, prêtre hindou retraité et spécialiste de la méditation. Vous aurez la chance d’intégrer de nouvelles techniques variées portant à dénouer et améliorer votre énergie. \nLe cours inclus également de légères asanas de yoga et des exercices de respiration. \nYog 2 – Swaropa fait partie d’une série de 4 ateliers menant à la certification en méditation Yog pour ceux et celles qui le souhaitent. Joignez-vous à nous! \nPour plus d’information : https://www.institutreiki.com/meditationyog \nYOG 2 – SWAROPA: YOGA NIDRA & SELF-HEALING OF CHAKRAS \nYou wish to reconnect with your body and mind? Yog Meditation is the perfect introduction to the authentic traditional Indian teachings adapted to the rhythm of the Western world. Yog 2- Swaropa means Self-healing and the ability to power the body and spirit to support us. Discover the virtues of deep relaxation and yoga nidra. Taught in English by Manjunath Kamath\, retired Hindu priest and meditation specialist. You will gain knowledge and experience new meditation techniques powering up your life force. \nThe course also includes light asanas and breathing techniques. Yog 2- Swaropa is part of a series of 4 workshops leading to a certification in Yog Meditation for those interested. Join us! \nFor more information: https://www.institutreiki.com/yogmeditation
URL:https://kio-o.ca/evenement/yog-2-swaropa-yoga-nidra-et-auto-guerison-des-chakras-avec-manjunath-kamath/
LOCATION:Kio-o\, 1905 Chemin du rang 6\, Sainte-Lucie\, Québec\, J0T 2J0\, Canada
CATEGORIES:Méditation,Yoga
ATTACH;FMTTYPE=image/jpeg:https://kio-o.ca/wp-content/uploads/2023/02/Manjunath-Kamath-e1677599013766.jpg
ORGANIZER;CN="Manjunath Kamath":MAILTO:kamathyogi@yahoo.com
GEO:46.132966;-74.1940374
X-APPLE-STRUCTURED-LOCATION;VALUE=URI;X-ADDRESS=Kio-o 1905 Chemin du rang 6 Sainte-Lucie Québec J0T 2J0 Canada;X-APPLE-RADIUS=500;X-TITLE=1905 Chemin du rang 6:geo:-74.1940374,46.132966
END:VEVENT
BEGIN:VEVENT
DTSTART;VALUE=DATE:20240412
DTEND;VALUE=DATE:20240415
DTSTAMP:20260420T200448
CREATED:20240308T192026Z
LAST-MODIFIED:20240314T173042Z
UID:10006164-1712880000-1713139199@kio-o.ca
SUMMARY:Manifest your authentic life purpose with mother Earth with Karen Neuls
DESCRIPTION:This incredible unique retreat is divinely guided with the Crystal Goddesses 888\, which help to manifest abundance and blessings and bring forth your authentic life path. Inspire your Sacred Rebel within you of divine growth\, liberating your creative abilities that you dare to dream to fruition. \nMother Earth is our support to be liberated by healing our hearts\, to live in a way that creates the most abundant life purpose for our soul’s journey. Your destiny is divinely aligned and your heart is not conclusive in anyway\, for you are the light\, a soul who loves our world and your destiny is to be unconditionally supported by loving your own heart\, authenticity with drive to be recognized as a heart who creates alchemy that can turn anything into gold. \nThroughout the weekend\, we work with guided visualization and healing processes\, sacred rituals\, and moving meditation to music & sound blessings. This group work is created to be a positive and supportive environment. This weekend is part of Saraswati Healing™️ and is a gorgeous and powerful energetic healing modality channelled by Alana Fairchild and her higher spiritual guidance\, responsible for her best-selling Oracle decks\, books and albums of meditation and music. \n\n\nMother Earth\, Gaia\, Goddess\, Divine Mother\, please help me see my heart\, my divinity through grace\, compassion and the willingness to become our earths ascension.\nKaren Neuls
URL:https://kio-o.ca/evenement/karenneuls/
LOCATION:Kio-o\, 1905 Chemin du rang 6\, Sainte-Lucie\, Québec\, J0T 2J0\, Canada
CATEGORIES:Développement personnel,Méditation,Rituel
ATTACH;FMTTYPE=image/webp:https://kio-o.ca/wp-content/uploads/2024/03/Kareen-Neuls.webp
GEO:46.132966;-74.1940374
X-APPLE-STRUCTURED-LOCATION;VALUE=URI;X-ADDRESS=Kio-o 1905 Chemin du rang 6 Sainte-Lucie Québec J0T 2J0 Canada;X-APPLE-RADIUS=500;X-TITLE=1905 Chemin du rang 6:geo:-74.1940374,46.132966
END:VEVENT
BEGIN:VEVENT
DTSTART;VALUE=DATE:20240419
DTEND;VALUE=DATE:20240422
DTSTAMP:20260420T200448
CREATED:20240306T134935Z
LAST-MODIFIED:20240306T135046Z
UID:10006159-1713484800-1713743999@kio-o.ca
SUMMARY:Enseignements spirituels et méditations avec Paul Beaudry
DESCRIPTION:Retraites de fin de semaine\nEnseignements spirituels et méditations\n\n\n\n\n\n\n\n\n\n\nC’est au centre KIO-O de Ste-Lucie des Laurentides\, situé dans les Laurentides au Québec\, que nous vous invitons à assister à nos merveilleuses fins de semaines de développement spirituel et de méditation. Chaque retraite présente des enseignements différents qui sont toujours à point pour chacun de nous. Il y a un enseignement d’une heure le samedi matin et le dimanche matin. Le reste du temps est consacré à des méditations silencieuses\, guidées ou sonores. Le samedi soir Paul offre une causerie avec les participants. Nos retraites se déroulent dans une atmosphère de bienveillance et de sereine introspection. Des séjours lumineux pour se rencontrer soi-même et partager avec des gens qui ont les mêmes aspirations que soi.\n \n\n\n\n\n\n\n\n\n\n\n\n\nDétails pratiques \nArrivée : Le vendredi soir à 17 h \nDépart : Le dimanche 16 h \nTarif : 625 $ incluant les taxes\, six repas végétariens\, la literie\, occupation double\, les enseignements et les méditations. Un supplément de 100$ +taxes  pour le séjour pour une occupation simple. \nExigence :  Vous devez avoir suivi au moins une formation en présentiel ou en ligne avec Paul pour assister à nos retraites.   \n\n\n\n\n\n\n\n\n\n\nProgramme des retraites \nVendredi soir :17 h : Arrivée des participants18 h : Souper19 h 30 : Méditation guidée\, sons et mots sacrés21 h 30 : Fin de la soirée \nSamedi :08 h : Déjeuner09 h 30 : Enseignements de Paul10 h 30 : Pause10 h 45 : Méditation guidée\, sons\, mots sacrés ou mantras12 h : LunchTemps libre16 h : Méditation sonore ou mantras16 h 45 : Pause17 h : Méditation guidée18 h : Souper19 h 30 : Dialogue avec Paul21 h : Fin de la journée \nDimanche :08 h : Déjeuner09 h 30 : Enseignements de Paul10 h 30 : Pause10 h 45 : Méditation guidée\, sons\, mots sacrés ou mantras12 h : Lunch14 h : Exercices d’ancrage15 h 30 : Partages et conclusion16 h : Fin du séjour
URL:https://kio-o.ca/evenement/enseignements-spirituels-et-meditations-avec-paul-beaudry/
LOCATION:Kio-o\, 1905 Chemin du rang 6\, Sainte-Lucie\, Québec\, J0T 2J0\, Canada
CATEGORIES:Méditation
ATTACH;FMTTYPE=image/webp:https://kio-o.ca/wp-content/uploads/2024/03/Paul-Beaudry-2024.webp
ORGANIZER;CN="Paul Beaudry":MAILTO:info@meditationpaulbeaudry.com
GEO:46.132966;-74.1940374
X-APPLE-STRUCTURED-LOCATION;VALUE=URI;X-ADDRESS=Kio-o 1905 Chemin du rang 6 Sainte-Lucie Québec J0T 2J0 Canada;X-APPLE-RADIUS=500;X-TITLE=1905 Chemin du rang 6:geo:-74.1940374,46.132966
END:VEVENT
BEGIN:VEVENT
DTSTART;VALUE=DATE:20240426
DTEND;VALUE=DATE:20240429
DTSTAMP:20260420T200448
CREATED:20240304T144055Z
LAST-MODIFIED:20240306T134100Z
UID:10006157-1714089600-1714348799@kio-o.ca
SUMMARY:Accueillir le printemps Week-end de yoga et méditation avec Parijata
DESCRIPTION:La méditation est l’art de se familiariser avec notre propre esprit\, nos pensées\, nos états d’âme. Le but est de développer un regard lucide et aimant\, en toute intimité avec l’expérience de notre propre vie. Sans cette familiarisation consciente\, nous sommes étranger à nous-même\, ainsi l’anxiété et le mal-aise s’installent chassant cette joie tranquille qui est la fabrique même de notre être. \nParijata E. Charbonneau étudie l’approche méditative avec passion depuis plus de 40 ans. Passant ainsi plusieurs années guidée par des maîtres de renommés en Inde et au État-Unis. \nCoût :  \nEnseignements : 250 $ ( taxes incluses )\nHébergement :\nChambre partagée: 365\,52 $ ( taxes incluses )\nChambre privée : 480\,60 $ ( taxes incluses )
URL:https://kio-o.ca/evenement/accueillir-le-printemps-week-end-de-yoga-et-meditation-avec-parijata/
LOCATION:Kio-o\, 1905 Chemin du rang 6\, Sainte-Lucie\, Québec\, J0T 2J0\, Canada
CATEGORIES:Méditation,Yoga
ATTACH;FMTTYPE=image/png:https://kio-o.ca/wp-content/uploads/2024/03/Capture-decran-le-2024-03-04-a-09.39.51.png
ORGANIZER;CN="Parijata":MAILTO:infoparijatayoga@gmail.com
GEO:46.132966;-74.1940374
X-APPLE-STRUCTURED-LOCATION;VALUE=URI;X-ADDRESS=Kio-o 1905 Chemin du rang 6 Sainte-Lucie Québec J0T 2J0 Canada;X-APPLE-RADIUS=500;X-TITLE=1905 Chemin du rang 6:geo:-74.1940374,46.132966
END:VEVENT
BEGIN:VEVENT
DTSTART;VALUE=DATE:20240426
DTEND;VALUE=DATE:20240429
DTSTAMP:20260420T200448
CREATED:20240314T160328Z
LAST-MODIFIED:20240314T163428Z
UID:10006179-1714089600-1714348799@kio-o.ca
SUMMARY:Reconnections à soi avec Cynthia Gascon
DESCRIPTION:Week-end Reconnections à soi\n\n\n\n\n\n\n\n\n\n\n\n\n\n\n\n\nUne expérience mémorable \n\n\n\n\n\nEst-ce que dans ta vie\, tout va souvent trop vite… \nles heures\, les jours\, les mois et même les années ? \n\n\n\n\n\n\n\n\n\n\n\n\nViens créer une trousse de premiers soins unique… \n\n\n\n\n\n\nUne trousse qui t’offrira des outils simples et efficaces afin de revenir au moment présent \n\n\n\n\n\n\nEt ainsi pourvoir savourer chaque instant de ta vie. \n\n\n\n\n\n\n\n\n\n\n\n\n\n\n\n\n\n\n\n\n\n\n\n\n\n\n\n\n\n\n\n\n\n\n6 repas santé cuisinés avec amour sur place; \nmenus végétariens très variés et délicieux \n\n\n\n\n\n\n\n\n\n\n\n\n\n\n\n\n\n3 jours / 2 nuits : soit du vendredi fin d’après-midi au dimanche après-midi \n\n\n\n\n\n\n\n\n\n\n\n\n\n\n\n\n\n\n\n\n\n\nDes ateliers théoriques et  pratiques à la fois  \nViens chercher des outils  et les mettre en pratique afin que ton quotidien en soit teinté dès ton retour à la maison\n\n\n\n\n\n\n\n\n\n\nTarif pour le week-end Reconnection du 26 au 28 avril 2024: \n675$ + taxes par personne en chambre partagée ( 776\,08 $)\n \n800$ + taxes pour une chambre en occupation simple ( 919\,80 $ )\n \n\n\n\n\n\n\nOffre de lancement\, valide jusqu’au 10 avril 2024 \néconomise 175 $ sur ton week-end… sur une chambre partagée \net économise 100$ sur une chambre simple: \n500$ + taxes par personne en chambre partagée ( 574.\,88 $ )\n \n700$ + taxes pour une chambre en occupation simple ( 804\,83 $ ) \n\n\n\n\n\nJE M’INSCRIS AU WEEK-END DU 26 AU 28 AVRIL 2024\n\n\n\n\n\n\n\nTu auras aussi des moments libres… du temps pour toi! \nPour te permettre de vraiment te reconnecter à la vie qui te traverse… \nTu pourrais en profiter pour faire: dessin\, coloriage\, écriture\, \nrandonnée\, lecture\, repos… ou pour rien faire 😉 \n\n\n\n\n\n\n\n\n\n\n\n\n\n\n\n\n\n\n\n\nUn endroit de respect et d’échange remplis de bienveillance  \ndans lequel tu auras l’opportunité de partager et de connecter avec d’autres personnes;  \ntu verras combien les rencontres peuvent parfois nous surprendre  \nquand on s’en donne l’occasion. \n\n\n\n\n\n\n\n\n\n\n\n\n\n\n\n\n\n\nLe centre Kio-o\, un site fabuleux \n\n\n\n\n\n\nEn toutes saisons \n\n\n\n\n\n\n\n\n\n\n\n\n\n\n\n\n\n\n\n\n\n\n\n\nSi tu as des questions\, n’hésite pas à communiquer avec moi  \npar courriel\, Messenger ou par téléphone\, il me fera plaisir d’y répondre.
URL:https://kio-o.ca/evenement/reconnections-a-soi/
LOCATION:Kio-o\, 1905 Chemin du rang 6\, Sainte-Lucie\, Québec\, J0T 2J0\, Canada
CATEGORIES:Développement personnel
ATTACH;FMTTYPE=image/jpeg:https://kio-o.ca/wp-content/uploads/2024/03/Cynthia-Gascon.jpg
ORGANIZER;CN="Cynthia Gascon":MAILTO:info@cgascon.com
GEO:46.132966;-74.1940374
X-APPLE-STRUCTURED-LOCATION;VALUE=URI;X-ADDRESS=Kio-o 1905 Chemin du rang 6 Sainte-Lucie Québec J0T 2J0 Canada;X-APPLE-RADIUS=500;X-TITLE=1905 Chemin du rang 6:geo:-74.1940374,46.132966
END:VEVENT
END:VCALENDAR