BEGIN:VCALENDAR
VERSION:2.0
PRODID:-//Kio-o - ECPv6.15.12.2//NONSGML v1.0//EN
CALSCALE:GREGORIAN
METHOD:PUBLISH
X-ORIGINAL-URL:https://kio-o.ca
X-WR-CALDESC:Évènements pour Kio-o
REFRESH-INTERVAL;VALUE=DURATION:PT1H
X-Robots-Tag:noindex
X-PUBLISHED-TTL:PT1H
BEGIN:VTIMEZONE
TZID:America/New_York
BEGIN:DAYLIGHT
TZOFFSETFROM:-0500
TZOFFSETTO:-0400
TZNAME:EDT
DTSTART:20180311T070000
END:DAYLIGHT
BEGIN:STANDARD
TZOFFSETFROM:-0400
TZOFFSETTO:-0500
TZNAME:EST
DTSTART:20181104T060000
END:STANDARD
BEGIN:DAYLIGHT
TZOFFSETFROM:-0500
TZOFFSETTO:-0400
TZNAME:EDT
DTSTART:20190310T070000
END:DAYLIGHT
BEGIN:STANDARD
TZOFFSETFROM:-0400
TZOFFSETTO:-0500
TZNAME:EST
DTSTART:20191103T060000
END:STANDARD
BEGIN:DAYLIGHT
TZOFFSETFROM:-0500
TZOFFSETTO:-0400
TZNAME:EDT
DTSTART:20200308T070000
END:DAYLIGHT
BEGIN:STANDARD
TZOFFSETFROM:-0400
TZOFFSETTO:-0500
TZNAME:EST
DTSTART:20201101T060000
END:STANDARD
END:VTIMEZONE
BEGIN:VEVENT
DTSTART;VALUE=DATE:20191006
DTEND;VALUE=DATE:20191012
DTSTAMP:20260424T020908
CREATED:20190201T235314Z
LAST-MODIFIED:20190611T154503Z
UID:10005860-1570320000-1570838399@kio-o.ca
SUMMARY:Le pouvoir du coeur - Ilka et Lucie Chandika
DESCRIPTION:Le pouvoir du coeur\nActiver la flamme de votre coeur avec la Médecine des Andes d’Amérique du Sud et la Médecine amérindienne d’Amérique du nord ainsi que la tradition ancestrale chamanique. \n  \n \n  \nAmérique du sud : Lors de cette retraite\, vous recevrez les 9 Rites Munay-Ki\, initiations transmises sous forme de semence. Munay-Ki signifie littéralement JE T’AIME en Quechua\, langue des descendants des Incas. \nVous serez touché et béni au coeur de votre coeur ! \n  \n  \n  \n \n  \nAmérique du nord : Hutte de sudation\, chants sacrés\, roue de Médecine amérindienne et animaux de pouvoir. \nInitiation au voyage chamanique avec le tambour  !
URL:https://kio-o.ca/evenement/formation-en-chamanisme-chamanka-ilka/
LOCATION:Kio-o\, 1905 Chemin du rang 6\, Sainte-Lucie\, Québec\, J0T 2J0\, Canada
CATEGORIES:Développement personnel
ATTACH;FMTTYPE=image/jpeg:https://kio-o.ca/wp-content/uploads/2019/02/Retraite-Chamanique.jpg
ORGANIZER;CN="Chamanka Ilka":MAILTO:info@shamanka.ca
GEO:46.132966;-74.1940374
X-APPLE-STRUCTURED-LOCATION;VALUE=URI;X-ADDRESS=Kio-o 1905 Chemin du rang 6 Sainte-Lucie Québec J0T 2J0 Canada;X-APPLE-RADIUS=500;X-TITLE=1905 Chemin du rang 6:geo:-74.1940374,46.132966
END:VEVENT
BEGIN:VEVENT
DTSTART;VALUE=DATE:20191011
DTEND;VALUE=DATE:20191014
DTSTAMP:20260424T020908
CREATED:20190410T183015Z
LAST-MODIFIED:20190410T183535Z
UID:10005867-1570752000-1571011199@kio-o.ca
SUMMARY:Retraite de yoga automnale - Claire Armange - Cynthia Desrochers - Pro-Actif Santé
DESCRIPTION:Retraite de yoga automnale\n\n\n\n\n\n  \n\n\n\nPrésenté par Claire Armange\nAccompagnée de Cynthia Desrochers\nEn collaboration avec Pro-Actif Santé \nExploration des chakras \nClaire vous invite à aborder l’univers foisonnant des chakras. À l’aide de postures de yoga\, de respirations\, de visualisations\, de sons\, de mantras et de méditations\, nous partirons à la découverte des sept points principaux du corps où se concentre l’énergie vitale. Dans la spacieuse salle du Gong entourée d’une forêt luxuriante au Centre de ressourcement et de créativité Kio-o\, nous harmoniserons nos chakras aux couleurs de l’été des Indiens.  \nInscrivez-vous ! \nPréinscription pour les clients* Pro-Actif Santé du 22 avril au 5 mai \nInscription pour tous : du 6 mai au 2 septembre \n*Est considéré comme client toute personne ayant un compte avec Pro-Actif Santé via la plateforme d’inscription AMILIA.  \nTarifs\n\n\n\nOccupation par personne\nAvant le 31 mai 2019\nAprès le 31 mai 2019\n\n\nChambre simple\n396 $\n440 $\n\n\nChambre en occupation partagée (2 à 3 personnes)\n324 $\n360 $\n\n\n\nTaxes non incluses\nDépôt de 100$ (non remboursable) à l’inscription. La totalité est payable avant le 3 septembre 2019. Aucun remboursement après cette date.\nLes prix affichés sont par personne et n’incluent pas les taxes. \nProgramme\nVendredi\n\nArrivée entre 16 h et 18 h\n18 h 30 Présentations et paroles d’ouverture\n19 h Souper\n20 h 30 Pratique de yoga yin et restaurateur pour favoriser la détente et l’ouverture des 7 chakras.\n\nSamedi\n\n6 h 45 à 7 h Marche oxygénante autour du lac\n7 h 15 à 8 h 45  Méditation et pratique de yoga kundalini pour stimuler la circulation de l’énergie dans les 7 chakras\n9 h Déjeuner\n11 h Atelier créatif avec Cynthia\n12 h 30 Dîner\n14 h à 15 h Discussion/échanges sur nos expérimentations liées aux chakras\n16 h 30 Pratique de yoga pour clarifier et équilibrer les 7 chakras\n18 h 30 Souper\n20 h Voyage au travers des chakras avec le Yoga Nidra\n\nDimanche\n\n7 h à 7 h 15 Marche oxygénante autour du lac\n7 h 30 à 8 h 15 Étirements doux et méditation sur les chakras\n8 h 30 Déjeuner\n10 h 30 Pratique de yoga restaurateur pour harmoniser les 7 chakras\n12 h 30 Dîner\nDépart pour 15 h * Les chambres et bâtiments doivent être libérés pour 13 h mais vous pourrez rester sur le site jusqu’à 17 h.\n\nActivités optionnelles\, chacun est libre d’y participer ou pas.\nL’horaire peut être sujet à changements sans préavis.  \nVotre forfait inclus :\n\n2 nuits au Centre de ressourcement et de créativité KIO-o\n6 repas végétariens (buffet à volonté)\nAccès au lac et aux sentiers dans la forêt\n4 pratiques de yoga\n1 pratique de Yoga Nidra\n2 méditations guidées\n1 discussion/échange\n\nÀ apporter avec vous : \n\nArticles de toilette (savon\, brosse à dents\, etc.)\nVêtements souples et confortables pour le yoga et la détente\nImperméable et vêtements chauds pour l’extérieur\nSi l’été des Indiens est avec nous : écran solaire\, chapeau\, maillot de bain (possibilité de se baigner dans le lac)\nSouliers de marche et souliers d’intérieur ou pantoufles\nTapis de yoga\, blocs et sangles si vous en avez (sinon il y en aura sur place)\nUne bouteille d’eau à remplir aux robinets (l’eau du site est excellente)\nLampe frontale ou lampe de poche\nDe quoi écrire pour vos notes personnelles (carnet\, papier\, stylos)\nDe quoi vous occuper durant votre temps libre à l’intérieur (livre\, carnet de croquis\, etc.).\n\n\n\n\n 
URL:https://kio-o.ca/evenement/retraite-de-yoga-automnale-claire-armange-cynthia-desrochers-pro-actif-sante/
LOCATION:Kio-o\, 1905 Chemin du rang 6\, Sainte-Lucie\, Québec\, J0T 2J0\, Canada
CATEGORIES:Méditation,Yoga
ATTACH;FMTTYPE=image/png:https://kio-o.ca/wp-content/uploads/2019/04/Infolettre-En-tête-6.png
ORGANIZER;CN="Claire Armange":MAILTO:info@proactifsante.com
GEO:46.132966;-74.1940374
X-APPLE-STRUCTURED-LOCATION;VALUE=URI;X-ADDRESS=Kio-o 1905 Chemin du rang 6 Sainte-Lucie Québec J0T 2J0 Canada;X-APPLE-RADIUS=500;X-TITLE=1905 Chemin du rang 6:geo:-74.1940374,46.132966
END:VEVENT
BEGIN:VEVENT
DTSTART;VALUE=DATE:20191011
DTEND;VALUE=DATE:20191014
DTSTAMP:20260424T020908
CREATED:20190825T160333Z
LAST-MODIFIED:20190825T160333Z
UID:10005875-1570752000-1571011199@kio-o.ca
SUMMARY:Retraite Méditation\, Énergie et Pleine Conscience
DESCRIPTION:Avec AnickA Energy Healer & Channeler\, guide de méditation\, énergéticienne et praticienne en Theta Healing. \n☆ Un moment unique pour revenir à soi et plonger dans la pleine conscience\, la nature et les énergies. \n>>>\nPROGRAMME ☆\nLors de cette retraite\, vous serez guidé par Anick Milette à travers des MÉDITATIONS diverses afin de vous recentrer\, vous ressourcer et entrer en contact avec vos centres énergétiques. La superbe nature du Centre Kio-O sera un atout pour votre séjour puisqu’elle vous permettra de libérer le trop plein du quotidien\, relaxer et contempler! Soyez également prêts à visiter le mystérieux monde des ÉNERGIES en apprenant davantage sur les CHAKRAS (vos centres énergétiques)\, leurs fonctions au quotidien et comment les utiliser pour élever vos fréquences vibratoires. Vous recevrez des CANALISATIONS de groupe et des OUTILS tels que\, le mouvement\, la respiration et la création\, afin de contribuer à votre expansion et à votre mieux-être sur tous les plans (physique\, mental\, émotionnel\, spirituel et énergétique). Une retraite qui allie plaisir\, découverte\, détente et libération! \n>>>\nDE PLUS ☆\n*Deux sessions de YOGA et PRANAYAMA avec Sophie Gingras\, enseignante de yoga tous niveaux – samedi et dimanche matin (inclus)\n*CADEAU énergétique surprise (inclus)\n*Possibilité de recevoir un traitement énergétique personnel en THETA HEALING et CANALISATION (places limitées\, réservez dès que possible\, coûts supplémentaires) \n>>>\nPRIX ☆\nForfait tout inclus – Hébergement\, 3 repas/jour\, enseignements et meditations\, 2 sessions de yoga \n1) SUPER EARLY BIRD >> 475$ (8 juillet-10 août (places limitées))\n2) EARLY BIRD >> 525$ (11 août-10 septembre)\n3) RÉGULIER >> 575$ (11 septembre-10 octobre) \n*Les prix sont pour l’hébergement en chambre PARTAGÉE (2 ou 3 lits)\, pour une chambre privée\, veuillez ajouter 100$ par personne au montant ci-dessus. \n>>>\nRÉSERVATION ☆\nPour réserver votre place ou pour toutes questions\, veuillez contacter Sophie à sophiegingras01@gmail.com. \n>>>\nHEURE D’ARRIVÉE ☆\nNous suggérons d’arriver entre 15h30 et 17h30 afin de venir profiter des lieux\, se joindre au premier repas et faire connaissances avec le groupe. Le début officiel de la retraite se fera à 19h30. Donc\, si vous ne pouvez vous joindre avant\, il est tout à fait possible d’arriver à cette heure.
URL:https://kio-o.ca/evenement/retraite-meditation-energie-et-pleine-conscience/
LOCATION:Kio-o\, 1905 Chemin du rang 6\, Sainte-Lucie\, Québec\, J0T 2J0\, Canada
CATEGORIES:Méditation,Yoga
ORGANIZER;CN="Sophie Gingras":MAILTO:sophiegingras01@gmail.com
GEO:46.132966;-74.1940374
X-APPLE-STRUCTURED-LOCATION;VALUE=URI;X-ADDRESS=Kio-o 1905 Chemin du rang 6 Sainte-Lucie Québec J0T 2J0 Canada;X-APPLE-RADIUS=500;X-TITLE=1905 Chemin du rang 6:geo:-74.1940374,46.132966
END:VEVENT
END:VCALENDAR