BEGIN:VCALENDAR
VERSION:2.0
PRODID:-//Kio-o - ECPv6.15.12.2//NONSGML v1.0//EN
CALSCALE:GREGORIAN
METHOD:PUBLISH
X-WR-CALNAME:Kio-o
X-ORIGINAL-URL:https://kio-o.ca
X-WR-CALDESC:Évènements pour Kio-o
REFRESH-INTERVAL;VALUE=DURATION:PT1H
X-Robots-Tag:noindex
X-PUBLISHED-TTL:PT1H
BEGIN:VTIMEZONE
TZID:America/New_York
BEGIN:DAYLIGHT
TZOFFSETFROM:-0500
TZOFFSETTO:-0400
TZNAME:EDT
DTSTART:20180311T070000
END:DAYLIGHT
BEGIN:STANDARD
TZOFFSETFROM:-0400
TZOFFSETTO:-0500
TZNAME:EST
DTSTART:20181104T060000
END:STANDARD
BEGIN:DAYLIGHT
TZOFFSETFROM:-0500
TZOFFSETTO:-0400
TZNAME:EDT
DTSTART:20190310T070000
END:DAYLIGHT
BEGIN:STANDARD
TZOFFSETFROM:-0400
TZOFFSETTO:-0500
TZNAME:EST
DTSTART:20191103T060000
END:STANDARD
BEGIN:DAYLIGHT
TZOFFSETFROM:-0500
TZOFFSETTO:-0400
TZNAME:EDT
DTSTART:20200308T070000
END:DAYLIGHT
BEGIN:STANDARD
TZOFFSETFROM:-0400
TZOFFSETTO:-0500
TZNAME:EST
DTSTART:20201101T060000
END:STANDARD
END:VTIMEZONE
BEGIN:VEVENT
DTSTART;VALUE=DATE:20191108
DTEND;VALUE=DATE:20191112
DTSTAMP:20260423T203121
CREATED:20181126T170249Z
LAST-MODIFIED:20230213T150406Z
UID:10005834-1573171200-1573516799@kio-o.ca
SUMMARY:Who is in ? - Ramya
DESCRIPTION:Who is in?\nZen retreat\nThis awareness intensive based on traditional Zen techniques seeks a direct experience with the truth of one’s being. The repeated use of the Zen koan “Who is in?” acts like an arrow\, piercing through the layers of the mind. It exposes identification with the false personality\, rigid beliefs and pre-conceived ideas. It sheds old layers and reveals an expanded state of consciousness\, eventually re-connecting us to the source. \nThe Who Is In? retreat is not another psychological therapy. We seek a direct experience of who we truly are and in this adventure we pass through and beyond ideas\, ideals\, conditionings\, problems\, games and identities\, in one word … mind. We will use the Koan “Who Is In?” as a tool to return to the source. \nThe work involves an intense 3 days retreat in silence\, active and passive meditations and individual Koan talks. \nPrice: \n$390 for the 3 days intensive\n+\n$369 + tx for the shared accommodation for 3 nights including 3 vegetarian meals a day. \n$516 + tx for the single accommodation for 3 nights including 3 vegetarian meals a day. \nIf you are interested\, send me a note and I will send you more information\, so you know what you are getting into. \nTestimonials \n‘Who is in?’ is a process I have participated in 3 times. It has irritated me\, made me laugh and cry\, shown me something I didn’t know about myself\, brought me to my limits and cracked me open every time – B\, 24 \nEverything is taken care of and held for you to deepen into your own process. The simplicity of being seen and held has been a powerful healing for me during the workshop and also to take into my day to day life – K\, 32 \nWho is in…  absolute presence\, easiness and simplicity.. each moment\, a masterpiece of the puzzle..\, so simple. There is spaciousness within and without – E\, 62 \nThe ‘Who is In?’ with Ramya is an intense and profound journey through the inner landscape. Gently\, yet with firmness\, she guides you into the core of your own being -T\, 51 \nVisit:\nArticle about my experience\nMy Website
URL:https://kio-o.ca/evenement/who-is-in-ramya/2019-11-08/
LOCATION:Kio-o\, 1905 Chemin du rang 6\, Sainte-Lucie\, Québec\, J0T 2J0\, Canada
CATEGORIES:Développement personnel,Méditation
ATTACH;FMTTYPE=image/jpeg:https://kio-o.ca/wp-content/uploads/2018/08/photo.jpg
ORGANIZER;CN="Ramya Florence Memmi":MAILTO:floramya@yahoo.com
GEO:46.132966;-74.1940374
X-APPLE-STRUCTURED-LOCATION;VALUE=URI;X-ADDRESS=Kio-o 1905 Chemin du rang 6 Sainte-Lucie Québec J0T 2J0 Canada;X-APPLE-RADIUS=500;X-TITLE=1905 Chemin du rang 6:geo:-74.1940374,46.132966
END:VEVENT
BEGIN:VEVENT
DTSTART;VALUE=DATE:20191115
DTEND;VALUE=DATE:20191118
DTSTAMP:20260423T203121
CREATED:20190916T163631Z
LAST-MODIFIED:20191115T205820Z
UID:10005878-1573776000-1574035199@kio-o.ca
SUMMARY:Awakening on the Path avec Prema McKeever et Tushar
DESCRIPTION:Awakening on the Path est une introduction au travail des Path Retreats\, une façon dynamique et rafraichissante de découvrir ce que c’est d’être humain\, avec toutes les contradictions\, la beauté et les défis que ça implique. \n  \nVous êtes-vous déjà demandé… qui suis-je derrière les mille distractions de la vie? Comment puis-je trouver un véritable contentement? Quels sont les désirs profonds de mon cœur? Quelle est la cause de ce sentiment d’insatisfaction? Quelle est la cause de ce sentiment profond de manque\, même si de l’extérieur je semble tout avoir pour être heureux? \n  \nCette formation explore ces grandes questions et nous aide à trouver des réponses pour vivre de façon plus honnête et authentique. Laisser libre cours à nos émotions et faire confiance à notre cœur pour apprendre à vivre dans la sincérité\, la confiance et le courage. \n  \nPour plus d’informations ou pour réserver votre place\, contactez : prema@pathretreats.com \nOu visitez le site web : https://pathretreats.com/find-a-retreat/ \n  \nPrix de l’atelier : \n  \n249 $CDN + 199 $CDN +tx pour nourriture et hébergement. L’hébergement couvre deux nuitées (vendredi et samedi) dans une chambre en occupation double ainsi que tous les repas\, du souper du vendredi soir au diner du dimanche inclusivement. \n____________________________ \nWorkshop Description: The fundamental message of the Path Retreats work is about being human and being present. Being you. And correspondingly…being real\, honest\, authentic\, and having the courage to open up to vulnerability. \n  \nAwakening on the Path is a dynamic and fresh discovery into what it means to be a human being\, with all its contradictions\, gifts\, and challenges. This group is for people who are looking for change and to break free of old patterns. While shorter in duration than Path of Love\, it is a powerful process for connecting deeply to our body\, feelings\, and aliveness. It directly addresses the potential of our human journey and is a unique process for self-exploration. \n  \nFor Info & Bookings Contact: prema@pathretreats.com \n  \nWorkshop Pricing: \n$249 CDN + $199 CDN +txs  for accommodations. Accommodations are for Friday and Saturday night in a double occupancy room and include all meals from Friday dinner-Sunday lunch. \n 
URL:https://kio-o.ca/evenement/awakening-on-the-path/2019-11-15/
LOCATION:Kio-o\, 1905 Chemin du rang 6\, Sainte-Lucie\, Québec\, J0T 2J0\, Canada
CATEGORIES:Développement personnel,Méditation
ATTACH;FMTTYPE=image/png:https://kio-o.ca/wp-content/uploads/2019/09/Capture-d’écran-le-2019-10-28-à-15.57.39.png
ORGANIZER;CN="Jennifer McKeever":MAILTO:prema@premamckeever.com
GEO:46.132966;-74.1940374
X-APPLE-STRUCTURED-LOCATION;VALUE=URI;X-ADDRESS=Kio-o 1905 Chemin du rang 6 Sainte-Lucie Québec J0T 2J0 Canada;X-APPLE-RADIUS=500;X-TITLE=1905 Chemin du rang 6:geo:-74.1940374,46.132966
END:VEVENT
END:VCALENDAR