BEGIN:VCALENDAR
VERSION:2.0
PRODID:-//Kio-o - ECPv6.15.12.2//NONSGML v1.0//EN
CALSCALE:GREGORIAN
METHOD:PUBLISH
X-WR-CALNAME:Kio-o
X-ORIGINAL-URL:https://kio-o.ca
X-WR-CALDESC:Évènements pour Kio-o
REFRESH-INTERVAL;VALUE=DURATION:PT1H
X-Robots-Tag:noindex
X-PUBLISHED-TTL:PT1H
BEGIN:VTIMEZONE
TZID:America/New_York
BEGIN:DAYLIGHT
TZOFFSETFROM:-0500
TZOFFSETTO:-0400
TZNAME:EDT
DTSTART:20180311T070000
END:DAYLIGHT
BEGIN:STANDARD
TZOFFSETFROM:-0400
TZOFFSETTO:-0500
TZNAME:EST
DTSTART:20181104T060000
END:STANDARD
BEGIN:DAYLIGHT
TZOFFSETFROM:-0500
TZOFFSETTO:-0400
TZNAME:EDT
DTSTART:20190310T070000
END:DAYLIGHT
BEGIN:STANDARD
TZOFFSETFROM:-0400
TZOFFSETTO:-0500
TZNAME:EST
DTSTART:20191103T060000
END:STANDARD
BEGIN:DAYLIGHT
TZOFFSETFROM:-0500
TZOFFSETTO:-0400
TZNAME:EDT
DTSTART:20200308T070000
END:DAYLIGHT
BEGIN:STANDARD
TZOFFSETFROM:-0400
TZOFFSETTO:-0500
TZNAME:EST
DTSTART:20201101T060000
END:STANDARD
END:VTIMEZONE
BEGIN:VEVENT
DTSTART;VALUE=DATE:20191121
DTEND;VALUE=DATE:20191125
DTSTAMP:20260423T203123
CREATED:20160518T035654Z
LAST-MODIFIED:20210408T160950Z
UID:10005530-1574294400-1574636399@kio-o.ca
SUMMARY:Cours en miracles – Luce Bertrand
DESCRIPTION:Définition :\nUn miracle\, c’est la correction d’un système de pensées basé sur la peur pour l’adoption d’un système de pensées basé sur l’Amour. \nUn Cours en Miracles fait une distinction très nette entre : \nle réel et l’irréel\nla vérité et l’illusion\nla connaissance et la perception\nl’amour et la peur \nNous vivons majoritairement dans l’illusion agissant tous comme des êtres séparés les uns des autres. Or quand on est pris dans ce monde de la perception\, on est pris dans un rêve qui ressemble souvent plus à un cauchemar. \nNos 50\,000 à 60\,000 pensées par jour sont en majorité inspirées de l’ego :\nfaites de critiques\, jugements\, culpabilité\, inquiétudes\, contrôle\, etc. \nEt ce sont ces pensées qui font notre quotidien! Comment donc être heureux? \nUn Cours en Miracles enseigne le moyen pour échapper du rêve et revenir à la vérité de Ce Que Nous Sommes vraiment. \nCe monde du rêve nous amène surtout à vivre dans un sentiment de manque\, d’isolation et de privation\, ce qui nous amène à aimer autrui pour tout ce qu’il peut nous apporter\, et à ne donner que pour obtenir. \nLe Cours nous montre au contraire que notre Soi véritable n’a aucun besoin puisque nous avons été créés complets\, aimés et aimants. Mais dans ce monde\, on aime dans la peur et non dans l’Amour. \nUn Cours en Miracles apporte le message de la Véritable Aide\, la Réponse\, la Seule Issue\, le chemin pour l’Autre Voie. \nIl nous montre comment échapper au monde du rêve en nous enseignant comment renverser notre façon de penser actuelle et désapprendre nos erreurs. \nC’est le chemin du retour à l’Amour et la façon de mettre fin à la séparation et à la souffrance.\nC’est la voie du pardon et de la guérison finale. \nUn Cours en Miracles nous dit qu’il y a une limite à la fausse création. \nC’est ce moment que chacun atteint un jour ou l’autre de façons différentes. Ce moment porte l’essence d’une telle souffrance qu’on en plie les genoux de douleur et qu’on supplie une puissance supérieure de nous montrer l’Autre Voie.\nLa voici en ce Cours!
URL:https://kio-o.ca/evenement/cours-en-miracles-luce-bertrand-2018-05-24-2018-10-11-2020-03-05/2019-11-21/
LOCATION:Kio-o\, 1905 Chemin du rang 6\, Sainte-Lucie\, Québec\, J0T 2J0\, Canada
CATEGORIES:Développement personnel,Santé globale
ATTACH;FMTTYPE=image/jpeg:https://kio-o.ca/wp-content/uploads/2016/05/Source-Personnel-de-Lumière-Créateur-990x556.jpg
ORGANIZER;CN="Luce Bertrand":MAILTO:coursenmiracles@lucebertrand.com
GEO:46.132966;-74.1940374
X-APPLE-STRUCTURED-LOCATION;VALUE=URI;X-ADDRESS=Kio-o 1905 Chemin du rang 6 Sainte-Lucie Québec J0T 2J0 Canada;X-APPLE-RADIUS=500;X-TITLE=1905 Chemin du rang 6:geo:-74.1940374,46.132966
END:VEVENT
BEGIN:VEVENT
DTSTART;VALUE=DATE:20191122
DTEND;VALUE=DATE:20191125
DTSTAMP:20260423T203123
CREATED:20180329T193954Z
LAST-MODIFIED:20190122T172928Z
UID:10005770-1574380800-1574639999@kio-o.ca
SUMMARY:Joie et Extase - Martin Bilodeau
DESCRIPTION:Retraite joie et extase\nVenez célébrer avec nous!\n\n\n\n\nSouffle – Énergie – Méditation – Mantras – Mouvement et plus encore\nLa joie active le meilleur de vous-même et vous permet de vivre de manière plus libre et authentique! \nVivre dans la joie\, c’est se lever chaque matin dans l’enthousiasme\, c’est garder sa motivation face à tous les défis et c’est rester souple pour s’adapter de manière créative aux changements constants de nos milieux. \n\n\n\n\nVoici les thèmes qui seront au cœur de cette fin de semaine :\n\nDémystifier la différence entre joie et plaisir\nSe libérer du l’esprit de sérieux et de la négativité\nRenoncer aux drames et aux crises que l’on se créer\nDévelopper la gratitude et apprendre à voir le bon côté de la vie\nApprendre à se réjouir et célébrer les épreuves comme les victoires\nGénérer l’émerveillement à chaque jour et voir la beauté en tout\nCultiver le sens de l’humour véritable pour déjouer l’ego\nDécouvrir la puissance de la joie comme source d’énergie infinie\nPratiquer des exercices pour activer les hormones du bonheur
URL:https://kio-o.ca/evenement/3612/
LOCATION:Kio-o\, 1905 Chemin du rang 6\, Sainte-Lucie\, Québec\, J0T 2J0\, Canada
CATEGORIES:Développement personnel,Expression créative,Méditation,Yoga
ATTACH;FMTTYPE=image/jpeg:https://kio-o.ca/wp-content/uploads/2018/03/retraite_joietextase4.jpg
ORGANIZER;CN="Martin Bilodeau Auteur%2C auteur%2C conf%C3%A9rencier et enseignant":MAILTO:info@martinbilodeau.com
GEO:46.132966;-74.1940374
X-APPLE-STRUCTURED-LOCATION;VALUE=URI;X-ADDRESS=Kio-o 1905 Chemin du rang 6 Sainte-Lucie Québec J0T 2J0 Canada;X-APPLE-RADIUS=500;X-TITLE=1905 Chemin du rang 6:geo:-74.1940374,46.132966
END:VEVENT
BEGIN:VEVENT
DTSTART;VALUE=DATE:20191122
DTEND;VALUE=DATE:20191125
DTSTAMP:20260423T203123
CREATED:20190825T183708Z
LAST-MODIFIED:20190825T184605Z
UID:10005877-1574380800-1574639999@kio-o.ca
SUMMARY:Puissance créatrice avec Purusha
DESCRIPTION:En Inde la puissance créatrice se dit PURUSHA. \nLe Purusha est en effet le fils du Brahman le créateur. Par lui\, se crée sans cesse le monde. \nPour le Qi Gong  la vie se développe sous 8 dimensions \nLe séminaire te propose une expérience fabuleuse de ces 8 dimensions. \nL’art sous toutes ses formes et en grandeur nature sera expérimenté. \nVisuel\, graphique\, chants sacrés\, constructions-bois\, jeux de sable\, sculpture\,  expression danse et exploration psychodramatique. \nMéditations dynamiques. \nJeux\, rires\, joie \nRencontre Swami Purushanandaji ( Acharya reconnue FFY)\, une seule fois et passer un hiver merveilleux de surprise synchronicités positives! \nSwami Purushanandaji détient : \n\nBaccalauréat en philosophie et Lettres\nBaccalauréat en enseignement\nMaîtrise en Anthropologie religieuse : rituels de renaissance et de croissance\, vie après la mort.\n40 ans d’enseignement en méditations dynamiques\, croissance créatrice\,  formation spirituelle continues et initiatiques\nUne démarche artistique en peinture\nUne démarche d’auteure et de conférencière internationale.\nMaître yogui internationale reconnue. ( 40 ans d’enseignement )\n\n  \nSITE WEB : www. Écolepurusha.com \nInfo@ecolepurusha.com \nTél : 450-601-4169
URL:https://kio-o.ca/evenement/puissance-creatrice-avec-purusha/
LOCATION:Kio-o\, 1905 Chemin du rang 6\, Sainte-Lucie\, Québec\, J0T 2J0\, Canada
CATEGORIES:Développement personnel,Expression créative
ATTACH;FMTTYPE=image/jpeg:https://kio-o.ca/wp-content/uploads/2019/08/0-1.jpg
ORGANIZER;CN="C%C3%A9cile-Purusha Hontoy ( swami Purusha )":MAILTO:purushahontoy@hotmail.com
GEO:46.132966;-74.1940374
X-APPLE-STRUCTURED-LOCATION;VALUE=URI;X-ADDRESS=Kio-o 1905 Chemin du rang 6 Sainte-Lucie Québec J0T 2J0 Canada;X-APPLE-RADIUS=500;X-TITLE=1905 Chemin du rang 6:geo:-74.1940374,46.132966
END:VEVENT
END:VCALENDAR