BEGIN:VCALENDAR
VERSION:2.0
PRODID:-//Kio-o - ECPv6.15.12.2//NONSGML v1.0//EN
CALSCALE:GREGORIAN
METHOD:PUBLISH
X-WR-CALNAME:Kio-o
X-ORIGINAL-URL:https://kio-o.ca
X-WR-CALDESC:Évènements pour Kio-o
REFRESH-INTERVAL;VALUE=DURATION:PT1H
X-Robots-Tag:noindex
X-PUBLISHED-TTL:PT1H
BEGIN:VTIMEZONE
TZID:America/New_York
BEGIN:DAYLIGHT
TZOFFSETFROM:-0500
TZOFFSETTO:-0400
TZNAME:EDT
DTSTART:20190310T070000
END:DAYLIGHT
BEGIN:STANDARD
TZOFFSETFROM:-0400
TZOFFSETTO:-0500
TZNAME:EST
DTSTART:20191103T060000
END:STANDARD
BEGIN:DAYLIGHT
TZOFFSETFROM:-0500
TZOFFSETTO:-0400
TZNAME:EDT
DTSTART:20200308T070000
END:DAYLIGHT
BEGIN:STANDARD
TZOFFSETFROM:-0400
TZOFFSETTO:-0500
TZNAME:EST
DTSTART:20201101T060000
END:STANDARD
BEGIN:DAYLIGHT
TZOFFSETFROM:-0500
TZOFFSETTO:-0400
TZNAME:EDT
DTSTART:20210314T070000
END:DAYLIGHT
BEGIN:STANDARD
TZOFFSETFROM:-0400
TZOFFSETTO:-0500
TZNAME:EST
DTSTART:20211107T060000
END:STANDARD
END:VTIMEZONE
BEGIN:VEVENT
DTSTART;VALUE=DATE:20200115
DTEND;VALUE=DATE:20200120
DTSTAMP:20260423T203123
CREATED:20191108T142120Z
LAST-MODIFIED:20191110T183721Z
UID:10005677-1579046400-1579478399@kio-o.ca
SUMMARY:Apprendre l’anglais par immersion\, c’est à la portée de tous avec Stéphanie Mercier-Rodrigue
DESCRIPTION:Apprendre l’anglais par immersion\, c’est à la portée de tous \nNotre nouveau programme immersion en anglais de 3 mois débute par ce week-end d’immersion totale. Immergez-vous pendant 4 jours et 4 nuits dans la langue la plus parlée au monde. \nPar le sport\, les activités et le divertissement\, cette immersion est la première étape  vous menant à vivre une transformation totale de votre niveau d’anglais. \nAprès ce programme\, toutes les portes vous sont ouvertes! \nArrivée : à partir de 16 h\, le mercredi 15 janvier \nDépart : à partir de 14 h\, le dimanche 19 janvier \nSont inclus: \nLogement pour 4 nuits \nTous les repas (santé et savoureux) \nSite enchanteur (montagne\, sentiers\, lac) \nEn anglais: Animation\, formation\, ateliers\, activités\, sports\, divertissement et plusieurs surprises! \n  \nEmmenez : \nVos raquettes \nVos chaussures et pantoufles \nSavon et shampooing \n_______________________ \nValeur du programme de 3 mois: 9\,155$ \nPrix de lancement: 2\,787 $* \nRabais de 70 % pour le lancement du programme! \n*taxes en sus \nPrix pour le week-end intensif: 1\,172 $* \nValeur du week-end intensif immersion totale en anglais 4 jours: 4\,340 $ \nPlaces limitées\, réservez aujourd’hui auprès de Bi-Lingue.com: 514 506-5148 \ninfo@bi-lingue.com
URL:https://kio-o.ca/evenement/apprendre-langlais-par-immersion-cest-a-la-portee-de-tous-avec-stephanie-mercier-rodrigue/
LOCATION:Kio-o\, 1905 Chemin du rang 6\, Sainte-Lucie\, Québec\, J0T 2J0\, Canada
CATEGORIES:Académique
ATTACH;FMTTYPE=image/jpeg:https://kio-o.ca/wp-content/uploads/2019/11/Bi-Lingue.jpeg
ORGANIZER;CN="St%C3%A9phanie Mercier-Rodrigue":MAILTO:info@bi-lingue.com
GEO:46.132966;-74.1940374
X-APPLE-STRUCTURED-LOCATION;VALUE=URI;X-ADDRESS=Kio-o 1905 Chemin du rang 6 Sainte-Lucie Québec J0T 2J0 Canada;X-APPLE-RADIUS=500;X-TITLE=1905 Chemin du rang 6:geo:-74.1940374,46.132966
END:VEVENT
BEGIN:VEVENT
DTSTART;VALUE=DATE:20200117
DTEND;VALUE=DATE:20200120
DTSTAMP:20260423T203123
CREATED:20191107T213004Z
LAST-MODIFIED:20191110T201634Z
UID:10005675-1579219200-1579478399@kio-o.ca
SUMMARY:Retraite de yoga avec Teresa Gongora
DESCRIPTION:Retraite de yoga \nUne fin de semaine magique pour plonger pleinement dans le merveilleux monde du yoga 🧘‍♀️et ainsi avoir le privilège d’éveiller le flot d’énergie d’ancrage\, de guérison et de vitalité dans notre corps. Des séquences spécifiques reliées aux éléments et aux centres énergétiques\, cette expérience vous fera incarner une revitalisation de tout votre être pour apprendre à vous connecter à la puissance de votre cœur et ainsi déposer vos intentions de la nouvelle année ! Les pratiques seront accompagnées de musique\, des pranayamas (respirations conscientes) de méditations \, de mudras (gestes des mains )et des mantras (chants sacrées) pour commencer l’année du bon pieds et bien vivre les joies de l’hiver !\nExemple des activités :\nVendredi soir\, pratique lunaire à 20h00\nSamedi tôt\, méditation de la levée du soleil ️\nSamedi matin pratique solaire de 9h30 à 12h00\,\nSamedi après-midi\, temps libre\nSamedi soir\, grande pratique spécial vers 7 où 8 heures\nDimanche matin\, pratique solaire\, au mêmes heures que samedi matin\nDépart après le dîner dimanche.\nTarif tout inclus (hébergement\, repas et activités): $383+ tx en occupation partagé.\nPour vous inscrire: Dépôt de $165 par virement Interac en utilisant une des ces adresses courriel : gongoratere@gmail.com /vfillion@yogamauka.ca\nLe solde restant sera payé chez Kio directement à votre arrivé !\nAu plaisir de vous voir dans le flot de cette nouvelle année 🧘🏻‍♀️
URL:https://kio-o.ca/evenement/retraite-de-yoga-avec-teresa-gongora/
LOCATION:Kio-o\, 1905 Chemin du rang 6\, Sainte-Lucie\, Québec\, J0T 2J0\, Canada
CATEGORIES:Yoga
ATTACH;FMTTYPE=image/png:https://kio-o.ca/wp-content/uploads/2017/12/Teresa-Gongora.png
ORGANIZER;CN="Teresa Gongora":MAILTO:gongoratere@gmail.com
GEO:46.132966;-74.1940374
X-APPLE-STRUCTURED-LOCATION;VALUE=URI;X-ADDRESS=Kio-o 1905 Chemin du rang 6 Sainte-Lucie Québec J0T 2J0 Canada;X-APPLE-RADIUS=500;X-TITLE=1905 Chemin du rang 6:geo:-74.1940374,46.132966
END:VEVENT
END:VCALENDAR