BEGIN:VCALENDAR
VERSION:2.0
PRODID:-//Kio-o - ECPv6.15.12.2//NONSGML v1.0//EN
CALSCALE:GREGORIAN
METHOD:PUBLISH
X-WR-CALNAME:Kio-o
X-ORIGINAL-URL:https://kio-o.ca
X-WR-CALDESC:Évènements pour Kio-o
REFRESH-INTERVAL;VALUE=DURATION:PT1H
X-Robots-Tag:noindex
X-PUBLISHED-TTL:PT1H
BEGIN:VTIMEZONE
TZID:America/New_York
BEGIN:DAYLIGHT
TZOFFSETFROM:-0500
TZOFFSETTO:-0400
TZNAME:EDT
DTSTART:20190310T070000
END:DAYLIGHT
BEGIN:STANDARD
TZOFFSETFROM:-0400
TZOFFSETTO:-0500
TZNAME:EST
DTSTART:20191103T060000
END:STANDARD
BEGIN:DAYLIGHT
TZOFFSETFROM:-0500
TZOFFSETTO:-0400
TZNAME:EDT
DTSTART:20200308T070000
END:DAYLIGHT
BEGIN:STANDARD
TZOFFSETFROM:-0400
TZOFFSETTO:-0500
TZNAME:EST
DTSTART:20201101T060000
END:STANDARD
BEGIN:DAYLIGHT
TZOFFSETFROM:-0500
TZOFFSETTO:-0400
TZNAME:EDT
DTSTART:20210314T070000
END:DAYLIGHT
BEGIN:STANDARD
TZOFFSETFROM:-0400
TZOFFSETTO:-0500
TZNAME:EST
DTSTART:20211107T060000
END:STANDARD
END:VTIMEZONE
BEGIN:VEVENT
DTSTART;VALUE=DATE:20200313
DTEND;VALUE=DATE:20200316
DTSTAMP:20260423T203229
CREATED:20190201T215328Z
LAST-MODIFIED:20191209T221230Z
UID:10005857-1584057600-1584316799@kio-o.ca
SUMMARY:Cercle des amis de Bruno Groening
DESCRIPTION:Détails à venir.
URL:https://kio-o.ca/evenement/cercle-des-amis-de-bruno-groening-2020-03-13/
LOCATION:Kio-o\, 1905 Chemin du rang 6\, Sainte-Lucie\, Québec\, J0T 2J0\, Canada
CATEGORIES:Méditation,Santé globale
ATTACH;FMTTYPE=image/jpeg:https://kio-o.ca/wp-content/uploads/2016/08/Kio-o-Automne-DP3.jpg
ORGANIZER;CN="Les amis de Bruno Gr%C3%B6ning":MAILTO:leblancfrance@hotmail.com
GEO:46.132966;-74.1940374
X-APPLE-STRUCTURED-LOCATION;VALUE=URI;X-ADDRESS=Kio-o 1905 Chemin du rang 6 Sainte-Lucie Québec J0T 2J0 Canada;X-APPLE-RADIUS=500;X-TITLE=1905 Chemin du rang 6:geo:-74.1940374,46.132966
END:VEVENT
BEGIN:VEVENT
DTSTART;VALUE=DATE:20200313
DTEND;VALUE=DATE:20200316
DTSTAMP:20260423T203229
CREATED:20200207T221839Z
LAST-MODIFIED:20200207T221839Z
UID:10005906-1584057600-1584316799@kio-o.ca
SUMMARY:Transformation - Yoga\, pilates et méditations pour femmes
DESCRIPTION:Reconnectez-vous à votre vitalité intérieure où votre bien-être est votre seule préoccupation. Votre esprit\, votre corps et votre âme seront regénérés dans cette retraite hivernale réservée aux femmes. Cette retraite comprend du yoga quotidien\, du pilates\, de la méditation\, des promenades dans la nature et une délicieuse cuisine végétarienne. Notre objectif principal sera uniquement de prendre un moment pour soi. \n\n\n\n\n\n\n\nImaginez-vous plongée dans la beauté et l’air pur des Laurentides tout en reposant votre esprit\, votre corps et votre âme dans la paix et la tranquilité. Que vous soyez une mère entourée d’enfants bruyants\, en douleur chronique\, en deuil ou à la tête d’une grosse entreprise\, tout le monde mérite un moment de répit. Laissez-vous bercer par les magnifiques montagnes\, arbres et lacs qui entourent Kio-O. Aucune distraction et aucune pression de vos activités quotidiennes\, juste la paix et la tranquillité de la nature. \nAprès avoir osé de vous mettre à l’avant-plan\, vous vous sentirez plus reposée\, plus présente avec votre famille et vos amis et mieux capable de gérer le stress quotidien au travail et à la maison. Vous pourriez même vous retrouver à rire et à sourire plus souvent…quel bonheur! \n\n\n\n\n\n\n\n\n\n\n\n\n\n\n\n\n\n\n\n\n\n\n\n\n\nÊtes-vous surmenée et épuisée?\nNous comprenons ce que vous ressentez! Vous avez besoin d’une pause\, d’un espace sacré sans distractions pour pouvoir vous asseoir en paix. Cette retraite nourrira votre corps\, votre esprit et votre âme afin que vous puissiez renouer avec votre vitalité intérieure! \n\n\n\n\n\n\n\n\n\n\n\n\n\n\n\n\n\n\n\n\n\n\n\n\n\n\n\n\n\n\n\n\n\n\n\n\n\nN’est-il pas temps de prioriser votre mieux-être?\nGrâce à une combinaison de yoga\, de pilates et de méditation\, vous retrouverez votre être intérieur. Vous vous reposerez et réalignerez votre corps\, votre esprit et votre âme. Une fois détendue\, les sons de la nature vous nourriront et vous serez étonnée à quel point il est facile de retrouver votre soi authentique. \n\n\n\n\n\n\n\n\n\n\n\n\n\n\nUne retraite hivernale\, tout compris\, pour les femmes. Évadez-vous dans la nature pour revitaliser votre esprit\, votre corps et votre âme.\nChambre Simple\, tout compris\n589$\nChambre Partagée\, tout compris\n489$\nCe qui est inclus\n\n3 jours et 2 nuits d’occupation à Kio-O\n3 repas par jours et boissons\nTemps libre pour profiter de la nature\nCours quotidiens de Pilates\, yoga et méditation\n\nCe qui n’est pas inclus\n\nVotre transport\nServices de spa supplémentaires
URL:https://kio-o.ca/evenement/transformation-yoga-pilates-et-meditations-pour-femmes/
LOCATION:Kio-o\, 1905 Chemin du rang 6\, Sainte-Lucie\, Québec\, J0T 2J0\, Canada
CATEGORIES:Mouvement,Yoga
ATTACH;FMTTYPE=image/jpeg:https://kio-o.ca/wp-content/uploads/2020/02/transform-232x300-1.jpg
ORGANIZER;CN="Brigitte Robitaille":MAILTO:Brigitte.bodywork@gmail.com
GEO:46.132966;-74.1940374
X-APPLE-STRUCTURED-LOCATION;VALUE=URI;X-ADDRESS=Kio-o 1905 Chemin du rang 6 Sainte-Lucie Québec J0T 2J0 Canada;X-APPLE-RADIUS=500;X-TITLE=1905 Chemin du rang 6:geo:-74.1940374,46.132966
END:VEVENT
END:VCALENDAR