BEGIN:VCALENDAR
VERSION:2.0
PRODID:-//Kio-o - ECPv6.15.12.2//NONSGML v1.0//EN
CALSCALE:GREGORIAN
METHOD:PUBLISH
X-WR-CALNAME:Kio-o
X-ORIGINAL-URL:https://kio-o.ca
X-WR-CALDESC:Évènements pour Kio-o
REFRESH-INTERVAL;VALUE=DURATION:PT1H
X-Robots-Tag:noindex
X-PUBLISHED-TTL:PT1H
BEGIN:VTIMEZONE
TZID:America/New_York
BEGIN:DAYLIGHT
TZOFFSETFROM:-0500
TZOFFSETTO:-0400
TZNAME:EDT
DTSTART:20190310T070000
END:DAYLIGHT
BEGIN:STANDARD
TZOFFSETFROM:-0400
TZOFFSETTO:-0500
TZNAME:EST
DTSTART:20191103T060000
END:STANDARD
BEGIN:DAYLIGHT
TZOFFSETFROM:-0500
TZOFFSETTO:-0400
TZNAME:EDT
DTSTART:20200308T070000
END:DAYLIGHT
BEGIN:STANDARD
TZOFFSETFROM:-0400
TZOFFSETTO:-0500
TZNAME:EST
DTSTART:20201101T060000
END:STANDARD
BEGIN:DAYLIGHT
TZOFFSETFROM:-0500
TZOFFSETTO:-0400
TZNAME:EDT
DTSTART:20210314T070000
END:DAYLIGHT
BEGIN:STANDARD
TZOFFSETFROM:-0400
TZOFFSETTO:-0500
TZNAME:EST
DTSTART:20211107T060000
END:STANDARD
END:VTIMEZONE
BEGIN:VEVENT
DTSTART;VALUE=DATE:20200316
DTEND;VALUE=DATE:20200401
DTSTAMP:20260423T203332
CREATED:20200316T115148Z
LAST-MODIFIED:20200320T134342Z
UID:10005920-1584316800-1585699199@kio-o.ca
SUMMARY:COVID-19 - KIO-O FERME POUR UN TEMPS INDÉTERMINÉ
DESCRIPTION:Afin de freiner la propagation du COVID-19\, nous suivons les recommandations du Gouvernement et fermons Kio-o pour un temps indéterminé. \n\n\nAu plaisir de vous recevoir bientôt !\n\n\n\nBonne santé !
URL:https://kio-o.ca/evenement/covid-19-kio-o-ferme-pour-un-temps-indetermine/
LOCATION:Kio-o\, 1905 Chemin du rang 6\, Sainte-Lucie\, Québec\, J0T 2J0\, Canada
CATEGORIES:Santé globale
ATTACH;FMTTYPE=image/jpeg:https://kio-o.ca/wp-content/uploads/2020/03/PROB7667.jpg
GEO:46.132966;-74.1940374
X-APPLE-STRUCTURED-LOCATION;VALUE=URI;X-ADDRESS=Kio-o 1905 Chemin du rang 6 Sainte-Lucie Québec J0T 2J0 Canada;X-APPLE-RADIUS=500;X-TITLE=1905 Chemin du rang 6:geo:-74.1940374,46.132966
END:VEVENT
BEGIN:VEVENT
DTSTART;VALUE=DATE:20200320
DTEND;VALUE=DATE:20200323
DTSTAMP:20260423T203332
CREATED:20191115T211147Z
LAST-MODIFIED:20200317T140330Z
UID:10005683-1584662400-1584921599@kio-o.ca
SUMMARY:Entendre le Divin en Soi - Caroline Leroux - Reporté à une date pas encore déterminée
DESCRIPTION:Qui n’a pas déjà  souhaité sentir une véritable connexion/communion avec le divin en soi?  Qui n’a pas\, au moins une fois\, désiré entendre clairement la voix de son guide intérieur (la petite voix aimante) et de pouvoir expérimenter cette guidance au quotidien\, en toutes circonstances? Dans cet atelier spécial de deux (2) jours\, c’est exactement ce que je vous propose. \nJe suis particulièrement emballée de vous présenter cet atelier\, propulsée par les messages reçus des animaux et le résultat du travail spirituel d’une vie (travail qui se continu d’ailleurs).  Depuis une dizaine d’années\, j’entends cette Voix du Coeur en moi et je la partage avec autrui.  J’ai appris à  faire la différence entre la voix de mon Soi Divin (ce que beaucoup appelle l’intuition) et celle de mon égo qui fait généralement beaucoup de bruit! \nDans cet atelier\, vous apprendrez: \n\nLes 5 étapes pour reconnaître et entendre la voix de votre Soi Divin.\nUne technique de méditation simple et extrêmement puissante.\nComment faire la différence entre votre Soi Divin et votre égo.\nÀ identifier vos barrières et à les dissoudre avec un outil très puissant\, utilisable en tout temps.\nÀ écrire et à verbaliser les messages que vous recevrez de votre Soi Divin.\n\nJe partagerai avec vous comment ces 5 étapes ont révolutionné ma vie et m’ont ouvert la porte à une forme de guidance intérieure parfaitement adaptée à  moi et à ou j’en suis dans ma vie.  Mon intention est qu’il en soit de même pour vous!
URL:https://kio-o.ca/evenement/entendre-le-divin-en-soi-caroline-leroux/
LOCATION:Kio-o\, 1905 Chemin du rang 6\, Sainte-Lucie\, Québec\, J0T 2J0\, Canada
CATEGORIES:Développement personnel,Méditation
ATTACH;FMTTYPE=image/jpeg:https://kio-o.ca/wp-content/uploads/2019/11/caroline_com_animal.jpg
ORGANIZER;CN="Caroline Leroux":MAILTO:commanimale@gmail.com
GEO:46.132966;-74.1940374
X-APPLE-STRUCTURED-LOCATION;VALUE=URI;X-ADDRESS=Kio-o 1905 Chemin du rang 6 Sainte-Lucie Québec J0T 2J0 Canada;X-APPLE-RADIUS=500;X-TITLE=1905 Chemin du rang 6:geo:-74.1940374,46.132966
END:VEVENT
BEGIN:VEVENT
DTSTART;VALUE=DATE:20200320
DTEND;VALUE=DATE:20200323
DTSTAMP:20260423T203332
CREATED:20191218T221200Z
LAST-MODIFIED:20200317T140255Z
UID:10005897-1584662400-1584921599@kio-o.ca
SUMMARY:Retraite de yoga Ethera - avec Dona Bouchard - Reporté à une date pas encore déterminée
DESCRIPTION:Programmation  \n  \nVendredi\, 20 mars 2020 \n15 h Arrivée \n16 h Rituel d’ouverture \n17 h Séance de yoga élément eau \n18 h 30 Souper \n20 h Séance plancher pelvien \n21 h Yoga nidra \n  \nSamedi\, 21 mars 2020 \n8 h Méditation\, éveil yin \n8 h 30 Déjeuner \n10 h Séance yoga élément air \n11 h 15 discussion eau/air \n12 h 30 Diner \n13 h 30 Marche en forêt – Pranayama dehors \n16 h Accro-yoga \n18 h 30 Souper \n20 h Méditation en mouvement dans le noir \n21 h Yoga nidra \n  \nDimanche\, 22 mars 2020 \n7 h 30 De l’ombre vers la lumière\, salutation \n8 h 30 Déjeuner \n10 h Perfectionnement \n11 h 15 Massage thaï \n12 h 30 Diner \n13 h 30 Mot de la fin \n14 h 15 Départ \n  \nRéservez tôt en laissant un dépôt afin de profiter du tarif privilégié : \n  \nAvant le 6 janvier 2020: 375 $ \nAprès le 6 janvier 2020: 415 $  \n  \nDépôt: 100$ (100% non-remboursable) \n  \nPour réserver ou recevoir de plus amples informations\, \ncontactez Dona au 514-713-2888 ou par courriel à donab@videotron.ca \nou Carole au 515-549-5865
URL:https://kio-o.ca/evenement/7290/
LOCATION:Kio-o\, 1905 Chemin du rang 6\, Sainte-Lucie\, Québec\, J0T 2J0\, Canada
CATEGORIES:Méditation,Yoga
ATTACH;FMTTYPE=image/jpeg:https://kio-o.ca/wp-content/uploads/2019/12/0.jpg
ORGANIZER;CN="Dona Bouchard":MAILTO:donab@videotron.ca
GEO:46.132966;-74.1940374
X-APPLE-STRUCTURED-LOCATION;VALUE=URI;X-ADDRESS=Kio-o 1905 Chemin du rang 6 Sainte-Lucie Québec J0T 2J0 Canada;X-APPLE-RADIUS=500;X-TITLE=1905 Chemin du rang 6:geo:-74.1940374,46.132966
END:VEVENT
END:VCALENDAR